{"text_format":"1","workbook":"xlsx","n_sheets":6,"sheets":["客戶資料及選擇列印","運算","大宗入戶匯款","大宗郵件交寄清單","大宗匯票","大宗跨行匯款"],"not_rendered":{"charts":0,"images":10,"macros":1,"external_links":0,"defined_names":19,"comments":0,"pivot_tables":0},"unopened":[],"bounds":{"document_bytes":16777216,"sheet_cells":100000,"rows_first":2000,"rows_last":500,"rows_between":2000,"halvings":0,"cell_chars":16384,"cell_head_chars":4096},"cells_cut":0,"cells_raw":0,"read":"whole","date_system":"1900"}

{"sheet":"客戶資料及選擇列印","index":0,"n_rows":409,"n_cols":14,"rows_kept":409,"cut":false,"hidden":false,"merged":[[7,0,7,1],[0,0,3,0],[4,0,6,0],[3,2,3,4],[2,2,2,4],[1,2,1,4],[0,2,0,4],[4,2,4,4],[5,2,5,4],[6,2,6,4],[7,2,7,6],[2,5,6,6],[0,5,1,6],[1,7,1,8],[3,7,3,8],[5,7,5,8],[7,7,7,8],[7,9,7,11]]}
["匯款人/\n寄件人","姓名","彰化郵局",null,null,"彰化郵局"]
[null,"電話","04-7616690"]
[null,"證號",12345678,null,null,"注意事項\n1.本表格下載只供參考使用，不負保存或修改維護，請務必列印資料後，校正相關資料是否正確。\n2.為便利相關欄位連結，若同名或同一人建二個以上資料，請另加符號或英文字以作區隔。 "]
[null,"地址","500彰化縣彰化市中央路270號"]
["臨櫃\n代理人","姓名","劉先生"]
[null,"電話","04-7616690#999"]
[null,"身分證字號","N234567890"]
["客戶名單",null,"客戶基本資料",null,null,null,null,"客戶郵局帳號",null,"客戶銀行資料"]
["請勾選","金額","序號","姓名","郵遞\n區號","地址","電話","郵局局號\n(7碼)","郵局帳號\n(7碼)","銀行名稱(或簡稱)","分行名稱(或簡稱)","銀行帳號\n(最多14碼)",null,"核取結果"]
[null,null,1,"吳先生",500,"彰化縣彰化市中央路270巷31弄5號6樓3之2室9床","04-7616690","0081007",9002053,"中信","彰化",212656532,null,false]
[null,null,2,"張小姐",502,"彰化縣芬園","04-7625841","0005645",6312365,"彰銀","彰化",123456798756,null,false]
[null,null,3,"葉先生",503,"彰化縣花壇","04-7879987","0081234","0063333","臺中商","總行",234567890,null,false]
[null,null,4,"李小姐",504,"彰化縣秀水","04-7418852","0081245",4567891,"凱基","臺北",12345678901234,null,false]
[null,null,5,"呂先生",505,"彰化縣鹿港","04-8541234","0081256",5678901,"匯豐","新竹",55552345678901,null,false]
[null,null,6,"林小姐",506,"彰化縣福興","04-8745555","0081276",6789012,"臺銀","嘉義",66663456789012,null,false]
[null,null,7,"劉先生",507,"彰化縣線西","04-9876543","0081283",7890123,"渣打","苗栗",77774567890123,null,false]
[null,null,8,"黃先生",508,"彰化縣和美","04-8521478","0081294",5678901,"花旗","臺南",88885678901234,null,false]
[null,null,9,"許先生",509,"彰化縣伸港",888889,"0081301",1234567,"臺北富邦","高雄",99996789012345,null,false]
[null,null,10,"柯小姐",510,"彰化縣員林",8999999,"0081311",2345678,"臺銀","臺東",23456789012,null,false]
[null,null,11,"鄭先生",511,"彰化縣社頭",8099998,"0081322",3456789,"花旗","屏東",11112222333,null,false]
[null,null,12,"吳先生A",510,"彰化縣員林市",8808088,"0081011",2000345,"中信","員林",120,null,false]
[null,null,13,"吳先生s1",511,"彰化縣",888889,"0081301",1234567,"臺北富邦","高雄",99996789012345,null,false]
[null,null,14,"吳先生2",512,"彰化縣花壇",8999999,"0081311",2345678,"臺銀","臺東",23456789012,null,false]
[null,null,15,"吳先生3",513,"彰化縣秀水",8099998,"0081322",3456789,"花旗","屏東",11112222333,null,false]
[null,null,16,"吳先生4",514,"彰化縣鹿港",8808088,"0081011",2000345,"中信","員林",606123456,null,false]
[null,null,17,"吳先生5",515,"彰化縣福興",888889,"0081301",1234567,"臺北富邦","高雄",99996789012345,null,false]
[null,null,18,"吳先生6",516,"彰化縣線西",8999999,"0081311",2345678,"臺銀","臺東",23456789012,null,false]
[null,null,19,"吳先生7",517,"彰化縣和美",8099998,"0081322",3456789,"花旗","屏東",11112222333,null,false]
[null,null,20,"吳先生8",518,"彰化縣伸港",8808088,"0081011",2000345,"中信","員林",606123456,null,false]
[null,null,21,"吳先生9",519,"彰化縣員林","04-9876543","0081283",7890123,"渣打","苗栗",77774567890123,null,false]
[null,null,22,"吳先生10",511,"彰化縣",888889,"0081301",1234567,"臺北富邦","高雄",99996789012345,null,false]
[null,null,23,"吳先生11",512,"彰化縣花壇",8999999,"0081311",2345678,"臺銀","臺東",23456789012,null,false]
[null,null,24,"吳先生12",513,"彰化縣秀水",8099998,"0081322",3456789,"花旗","屏東",11112222333,null,false]
[null,null,25,"吳先生13",514,"彰化縣鹿港",8808088,"0081011",2000345,"中信","員林",606123456,null,false]
[null,null,26,"吳先生14",515,"彰化縣福興",888889,"0081301",1234567,"臺北富邦","高雄",99996789012345,null,false]
[null,null,27,"吳先生15",516,"彰化縣線西",8999999,"0081311",2345678,"臺銀","臺東",23456789012,null,false]
[null,null,28,"吳先生16",517,"彰化縣和美",8099998,"0081322",3456789,"花旗","屏東",11112222333,null,false]
[null,null,29,"吳先生17",518,"彰化縣伸港",8808088,"0081011",2000345,"中信","員林",606123456,null,false]
[null,null,30,"吳先生18",519,"彰化縣員林","04-9876543","0081283",7890123,"渣打","苗栗",77774567890123,null,false]
[null,null,31,"吳先生19",511,"彰化縣",888889,"0081301",1234567,"臺北富邦","高雄",99996789012345,null,false]
[null,null,32,"吳先生20",512,"彰化縣花壇",8999999,"0081311",2345678,"臺銀","臺東",23456789012,null,false]
[null,null,33,"吳先生21",513,"彰化縣秀水",8099998,"0081322",3456789,"花旗","屏東",11112222333,null,false]
[null,null,34,"吳先生22",514,"彰化縣鹿港",8808088,"0081011",2000345,"中信","員林",606123456,null,false]
[null,null,35,"吳先生23",515,"彰化縣福興",888889,"0081301",1234567,"臺北富邦","高雄",99996789012345,null,false]
[null,null,36,"吳先生24",516,"彰化縣線西",8999999,"0081311",2345678,"臺銀","臺東",23456789012,null,false]
[null,null,37,"吳先生25",517,"彰化縣和美",8099998,"0081322",3456789,"花旗","屏東",11112222333,null,false]
[null,null,38,"吳先生26",518,"彰化縣伸港",8808088,"0081011",2000345,"中信","員林",606123456,null,false]
[null,null,39,"吳先生27",519,"彰化縣員林","04-9876543","0081283",7890123,"渣打","苗栗",77774567890123,null,false]
[null,null,40,"吳先生28",513,"彰化縣秀水",8099998,"0081322",3456789,"花旗","屏東",11112222333,null,false]
[null,null,41,"吳先生29",514,"彰化縣鹿港",8808088,"0081011",2000345,"中信","員林",606123456,null,false]
[null,null,42,"吳先生30",515,"彰化縣福興",888889,"0081301",1234567,"臺北富邦","高雄",99996789012345,null,false]
[null,null,43,"吳先生31",516,"彰化縣線西",8999999,"0081311",2345678,"臺銀","臺東",23456789012,null,false]
[null,null,44,"吳先生32",517,"彰化縣和美",8099998,"0081322",3456789,"花旗","屏東",11112222333,null,false]
[null,null,45,"吳先生33",518,"彰化縣伸港",8808088,"0081011",2000345,"中信","員林",606123456,null,false]
[null,null,46,"吳先生34",519,"彰化縣員林","04-9876543","0081283",7890123,"渣打","苗栗",77774567890123,null,false]
[null,null,47,"吳先生35",513,"彰化縣秀水",8099998,"0081322",3456789,"花旗","屏東",11112222333,null,false]
[null,null,48,"吳先生36",514,"彰化縣鹿港",8808088,"0081011",2000345,"中信","員林",606123456,null,false]
[null,null,49,"吳先生37",515,"彰化縣福興",888889,"0081301",1234567,"臺北富邦","高雄",99996789012345,null,false]
[null,null,50,"吳先生38",516,"彰化縣線西",8999999,"0081311",2345678,"臺銀","臺東",23456789012,null,false]
[null,null,51,"吳先生39",517,"彰化縣和美",8099998,"0081322",3456789,"花旗","屏東",11112222333,null,false]
[null,null,52,"吳先生40",518,"彰化縣伸港",8808088,"0081011",2000345,"中信","員林",606123456,null,false]
[null,null,53,"吳先生41",519,"彰化縣員林","04-9876543","0081283",7890123,"渣打","苗栗",77774567890123,null,false]
[null,null,54,"吳先生42",513,"彰化縣秀水",8099998,"0081322",3456789,"花旗","屏東",11112222333,null,false]
[null,null,55,"吳先生43",514,"彰化縣鹿港",8808088,"0081011",2000345,"中信","員林",606123456,null,false]
[null,null,56,"吳先生44",515,"彰化縣福興",888889,"0081301",1234567,"臺北富邦","高雄",99996789012345,null,false]
[null,null,57,"吳先生45",516,"彰化縣線西",8999999,"0081311",2345678,"臺銀","臺東",23456789012,null,false]
[null,null,58,"吳先生46",517,"彰化縣和美",8099998,"0081322",3456789,"花旗","屏東",11112222333,null,false]
[null,null,59,"吳先生47",518,"彰化縣伸港",8808088,"0081011",2000345,"中信","員林",606123456,null,false]
[null,null,60,"吳先生48",519,"彰化縣員林","04-9876543","0081283",7890123,"渣打","苗栗",77774567890123,null,false]
[null,null,61,null,null,null,null,null,null,null,null,null,null,false]
[null,null,62,null,null,null,null,null,null,null,null,null,null,false]
[null,null,63,null,null,null,null,null,null,null,null,null,null,false]
[null,null,64,null,null,null,null,null,null,null,null,null,null,false]
[null,null,65,null,null,null,null,null,null,null,null,null,null,false]
[null,null,66,null,null,null,null,null,null,null,null,null,null,false]
[null,null,67,null,null,null,null,null,null,null,null,null,null,false]
[null,null,68,null,null,null,null,null,null,null,null,null,null,false]
[null,null,69,null,null,null,null,null,null,null,null,null,null,false]
[null,null,70,null,null,null,null,null,null,null,null,null,null,false]
[null,null,71,null,null,null,null,null,null,null,null,null,null,false]
[null,null,72,null,null,null,null,null,null,null,null,null,null,false]
[null,null,73,null,null,null,null,null,null,null,null,null,null,false]
[null,null,74,null,null,null,null,null,null,null,null,null,null,false]
[null,null,75,null,null,null,null,null,null,null,null,null,null,false]
[null,null,76,null,null,null,null,null,null,null,null,null,null,false]
[null,null,77,null,null,null,null,null,null,null,null,null,null,false]
[null,null,78,null,null,null,null,null,null,null,null,null,null,false]
[null,null,79,null,null,null,null,null,null,null,null,null,null,false]
[null,null,80,null,null,null,null,null,null,null,null,null,null,false]
[null,null,81,null,null,null,null,null,null,null,null,null,null,false]
[null,null,82,null,null,null,null,null,null,null,null,null,null,false]
[null,null,83,null,null,null,null,null,null,null,null,null,null,false]
[null,null,84,null,null,null,null,null,null,null,null,null,null,false]
[null,null,85,null,null,null,null,null,null,null,null,null,null,false]
[null,null,86,null,null,null,null,null,null,null,null,null,null,false]
[null,null,87,null,null,null,null,null,null,null,null,null,null,false]
[null,null,88,null,null,null,null,null,null,null,null,null,null,false]
[null,null,89,null,null,null,null,null,null,null,null,null,null,false]
[null,null,90,null,null,null,null,null,null,null,null,null,null,false]
[null,null,91,null,null,null,null,null,null,null,null,null,null,false]
[null,null,92,null,null,null,null,null,null,null,null,null,null,false]
[null,null,93,null,null,null,null,null,null,null,null,null,null,false]
[null,null,94,null,null,null,null,null,null,null,null,null,null,false]
[null,null,95,null,null,null,null,null,null,null,null,null,null,false]
[null,null,96,null,null,null,null,null,null,null,null,null,null,false]
[null,null,97,null,null,null,null,null,null,null,null,null,null,false]
[null,null,98,null,null,null,null,null,null,null,null,null,null,false]
[null,null,99,null,null,null,null,null,null,null,null,null,null,false]
[null,null,100,null,null,null,null,null,null,null,null,null,null,false]
[null,null,101,null,null,null,null,null,null,null,null,null,null,false]
[null,null,102,null,null,null,null,null,null,null,null,null,null,false]
[null,null,103,null,null,null,null,null,null,null,null,null,null,false]
[null,null,104,null,null,null,null,null,null,null,null,null,null,false]
[null,null,105,null,null,null,null,null,null,null,null,null,null,false]
[null,null,106,null,null,null,null,null,null,null,null,null,null,false]
[null,null,107,null,null,null,null,null,null,null,null,null,null,false]
[null,null,108,null,null,null,null,null,null,null,null,null,null,false]
[null,null,109,null,null,null,null,null,null,null,null,null,null,false]
[null,null,110,null,null,null,null,null,null,null,null,null,null,false]
[null,null,111,null,null,null,null,null,null,null,null,null,null,false]
[null,null,112,null,null,null,null,null,null,null,null,null,null,false]
[null,null,113,null,null,null,null,null,null,null,null,null,null,false]
[null,null,114,null,null,null,null,null,null,null,null,null,null,false]
[null,null,115,null,null,null,null,null,null,null,null,null,null,false]
[null,null,116,null,null,null,null,null,null,null,null,null,null,false]
[null,null,117,null,null,null,null,null,null,null,null,null,null,false]
[null,null,118,null,null,null,null,null,null,null,null,null,null,false]
[null,null,119,null,null,null,null,null,null,null,null,null,null,false]
[null,null,120,null,null,null,null,null,null,null,null,null,null,false]
[null,null,121,null,null,null,null,null,null,null,null,null,null,false]
[null,null,122,null,null,null,null,null,null,null,null,null,null,false]
[null,null,123,null,null,null,null,null,null,null,null,null,null,false]
[null,null,124,null,null,null,null,null,null,null,null,null,null,false]
[null,null,125,null,null,null,null,null,null,null,null,null,null,false]
[null,null,126,null,null,null,null,null,null,null,null,null,null,false]
[null,null,127,null,null,null,null,null,null,null,null,null,null,false]
[null,null,128,null,null,null,null,null,null,null,null,null,null,false]
[null,null,129,null,null,null,null,null,null,null,null,null,null,false]
[null,null,130,null,null,null,null,null,null,null,null,null,null,false]
[null,null,131,null,null,null,null,null,null,null,null,null,null,false]
[null,null,132,null,null,null,null,null,null,null,null,null,null,false]
[null,null,133,null,null,null,null,null,null,null,null,null,null,false]
[null,null,134,null,null,null,null,null,null,null,null,null,null,false]
[null,null,135,null,null,null,null,null,null,null,null,null,null,false]
[null,null,136,null,null,null,null,null,null,null,null,null,null,false]
[null,null,137,null,null,null,null,null,null,null,null,null,null,false]
[null,null,138,null,null,null,null,null,null,null,null,null,null,false]
[null,null,139,null,null,null,null,null,null,null,null,null,null,false]
[null,null,140,null,null,null,null,null,null,null,null,null,null,false]
[null,null,141,null,null,null,null,null,null,null,null,null,null,false]
[null,null,142,null,null,null,null,null,null,null,null,null,null,false]
[null,null,143,null,null,null,null,null,null,null,null,null,null,false]
[null,null,144,null,null,null,null,null,null,null,null,null,null,false]
[null,null,145,null,null,null,null,null,null,null,null,null,null,false]
[null,null,146,null,null,null,null,null,null,null,null,null,null,false]
[null,null,147,null,null,null,null,null,null,null,null,null,null,false]
[null,null,148,null,null,null,null,null,null,null,null,null,null,false]
[null,null,149,null,null,null,null,null,null,null,null,null,null,false]
[null,null,150,null,null,null,null,null,null,null,null,null,null,false]
[null,null,151,null,null,null,null,null,null,null,null,null,null,false]
[null,null,152,null,null,null,null,null,null,null,null,null,null,false]
[null,null,153,null,null,null,null,null,null,null,null,null,null,false]
[null,null,154,null,null,null,null,null,null,null,null,null,null,false]
[null,null,155,null,null,null,null,null,null,null,null,null,null,false]
[null,null,156,null,null,null,null,null,null,null,null,null,null,false]
[null,null,157,null,null,null,null,null,null,null,null,null,null,false]
[null,null,158,null,null,null,null,null,null,null,null,null,null,false]
[null,null,159,null,null,null,null,null,null,null,null,null,null,false]
[null,null,160,null,null,null,null,null,null,null,null,null,null,false]
[null,null,161,null,null,null,null,null,null,null,null,null,null,false]
[null,null,162,null,null,null,null,null,null,null,null,null,null,false]
[null,null,163,null,null,null,null,null,null,null,null,null,null,false]
[null,null,164,null,null,null,null,null,null,null,null,null,null,false]
[null,null,165,null,null,null,null,null,null,null,null,null,null,false]
[null,null,166,null,null,null,null,null,null,null,null,null,null,false]
[null,null,167,null,null,null,null,null,null,null,null,null,null,false]
[null,null,168,null,null,null,null,null,null,null,null,null,null,false]
[null,null,169,null,null,null,null,null,null,null,null,null,null,false]
[null,null,170,null,null,null,null,null,null,null,null,null,null,false]
[null,null,171,null,null,null,null,null,null,null,null,null,null,false]
[null,null,172,null,null,null,null,null,null,null,null,null,null,false]
[null,null,173,null,null,null,null,null,null,null,null,null,null,false]
[null,null,174,null,null,null,null,null,null,null,null,null,null,false]
[null,null,175,null,null,null,null,null,null,null,null,null,null,false]
[null,null,176,null,null,null,null,null,null,null,null,null,null,false]
[null,null,177,null,null,null,null,null,null,null,null,null,null,false]
[null,null,178,null,null,null,null,null,null,null,null,null,null,false]
[null,null,179,null,null,null,null,null,null,null,null,null,null,false]
[null,null,180,null,null,null,null,null,null,null,null,null,null,false]
[null,null,181,null,null,null,null,null,null,null,null,null,null,false]
[null,null,182,null,null,null,null,null,null,null,null,null,null,false]
[null,null,183,null,null,null,null,null,null,null,null,null,null,false]
[null,null,184,null,null,null,null,null,null,null,null,null,null,false]
[null,null,185,null,null,null,null,null,null,null,null,null,null,false]
[null,null,186,null,null,null,null,null,null,null,null,null,null,false]
[null,null,187,null,null,null,null,null,null,null,null,null,null,false]
[null,null,188,null,null,null,null,null,null,null,null,null,null,false]
[null,null,189,null,null,null,null,null,null,null,null,null,null,false]
[null,null,190,null,null,null,null,null,null,null,null,null,null,false]
[null,null,191,null,null,null,null,null,null,null,null,null,null,false]
[null,null,192,null,null,null,null,null,null,null,null,null,null,false]
[null,null,193,null,null,null,null,null,null,null,null,null,null,false]
[null,null,194,null,null,null,null,null,null,null,null,null,null,false]
[null,null,195,null,null,null,null,null,null,null,null,null,null,false]
[null,null,196,null,null,null,null,null,null,null,null,null,null,false]
[null,null,197,null,null,null,null,null,null,null,null,null,null,false]
[null,null,198,null,null,null,null,null,null,null,null,null,null,false]
[null,null,199,null,null,null,null,null,null,null,null,null,null,false]
[null,null,200,null,null,null,null,null,null,null,null,null,null,false]
[null,null,201,null,null,null,null,null,null,null,null,null,null,false]
[null,null,202,null,null,null,null,null,null,null,null,null,null,false]
[null,null,203,null,null,null,null,null,null,null,null,null,null,false]
[null,null,204,null,null,null,null,null,null,null,null,null,null,false]
[null,null,205,null,null,null,null,null,null,null,null,null,null,false]
[null,null,206,null,null,null,null,null,null,null,null,null,null,false]
[null,null,207,null,null,null,null,null,null,null,null,null,null,false]
[null,null,208,null,null,null,null,null,null,null,null,null,null,false]
[null,null,209,null,null,null,null,null,null,null,null,null,null,false]
[null,null,210,null,null,null,null,null,null,null,null,null,null,false]
[null,null,211,null,null,null,null,null,null,null,null,null,null,false]
[null,null,212,null,null,null,null,null,null,null,null,null,null,false]
[null,null,213,null,null,null,null,null,null,null,null,null,null,false]
[null,null,214,null,null,null,null,null,null,null,null,null,null,false]
[null,null,215,null,null,null,null,null,null,null,null,null,null,false]
[null,null,216,null,null,null,null,null,null,null,null,null,null,false]
[null,null,217,null,null,null,null,null,null,null,null,null,null,false]
[null,null,218,null,null,null,null,null,null,null,null,null,null,false]
[null,null,219,null,null,null,null,null,null,null,null,null,null,false]
[null,null,220,null,null,null,null,null,null,null,null,null,null,false]
[null,null,221,null,null,null,null,null,null,null,null,null,null,false]
[null,null,222,null,null,null,null,null,null,null,null,null,null,false]
[null,null,223,null,null,null,null,null,null,null,null,null,null,false]
[null,null,224,null,null,null,null,null,null,null,null,null,null,false]
[null,null,225,null,null,null,null,null,null,null,null,null,null,false]
[null,null,226,null,null,null,null,null,null,null,null,null,null,false]
[null,null,227,null,null,null,null,null,null,null,null,null,null,false]
[null,null,228,null,null,null,null,null,null,null,null,null,null,false]
[null,null,229,null,null,null,null,null,null,null,null,null,null,false]
[null,null,230,null,null,null,null,null,null,null,null,null,null,false]
[null,null,231,null,null,null,null,null,null,null,null,null,null,false]
[null,null,232,null,null,null,null,null,null,null,null,null,null,false]
[null,null,233,null,null,null,null,null,null,null,null,null,null,false]
[null,null,234,null,null,null,null,null,null,null,null,null,null,false]
[null,null,235,null,null,null,null,null,null,null,null,null,null,false]
[null,null,236,null,null,null,null,null,null,null,null,null,null,false]
[null,null,237,null,null,null,null,null,null,null,null,null,null,false]
[null,null,238,null,null,null,null,null,null,null,null,null,null,false]
[null,null,239,null,null,null,null,null,null,null,null,null,null,false]
[null,null,240,null,null,null,null,null,null,null,null,null,null,false]
[null,null,241,null,null,null,null,null,null,null,null,null,null,false]
[null,null,242,null,null,null,null,null,null,null,null,null,null,false]
[null,null,243,null,null,null,null,null,null,null,null,null,null,false]
[null,null,244,null,null,null,null,null,null,null,null,null,null,false]
[null,null,245,null,null,null,null,null,null,null,null,null,null,false]
[null,null,246,null,null,null,null,null,null,null,null,null,null,false]
[null,null,247,null,null,null,null,null,null,null,null,null,null,false]
[null,null,248,null,null,null,null,null,null,null,null,null,null,false]
[null,null,249,null,null,null,null,null,null,null,null,null,null,false]
[null,null,250,null,null,null,null,null,null,null,null,null,null,false]
[null,null,251,null,null,null,null,null,null,null,null,null,null,false]
[null,null,252,null,null,null,null,null,null,null,null,null,null,false]
[null,null,253,null,null,null,null,null,null,null,null,null,null,false]
[null,null,254,null,null,null,null,null,null,null,null,null,null,false]
[null,null,255,null,null,null,null,null,null,null,null,null,null,false]
[null,null,256,null,null,null,null,null,null,null,null,null,null,false]
[null,null,257,null,null,null,null,null,null,null,null,null,null,false]
[null,null,258,null,null,null,null,null,null,null,null,null,null,false]
[null,null,259,null,null,null,null,null,null,null,null,null,null,false]
[null,null,260,null,null,null,null,null,null,null,null,null,null,false]
[null,null,261,null,null,null,null,null,null,null,null,null,null,false]
[null,null,262,null,null,null,null,null,null,null,null,null,null,false]
[null,null,263,null,null,null,null,null,null,null,null,null,null,false]
[null,null,264,null,null,null,null,null,null,null,null,null,null,false]
[null,null,265,null,null,null,null,null,null,null,null,null,null,false]
[null,null,266,null,null,null,null,null,null,null,null,null,null,false]
[null,null,267,null,null,null,null,null,null,null,null,null,null,false]
[null,null,268,null,null,null,null,null,null,null,null,null,null,false]
[null,null,269,null,null,null,null,null,null,null,null,null,null,false]
[null,null,270,null,null,null,null,null,null,null,null,null,null,false]
[null,null,271,null,null,null,null,null,null,null,null,null,null,false]
[null,null,272,null,null,null,null,null,null,null,null,null,null,false]
[null,null,273,null,null,null,null,null,null,null,null,null,null,false]
[null,null,274,null,null,null,null,null,null,null,null,null,null,false]
[null,null,275,null,null,null,null,null,null,null,null,null,null,false]
[null,null,276,null,null,null,null,null,null,null,null,null,null,false]
[null,null,277,null,null,null,null,null,null,null,null,null,null,false]
[null,null,278,null,null,null,null,null,null,null,null,null,null,false]
[null,null,279,null,null,null,null,null,null,null,null,null,null,false]
[null,null,280,null,null,null,null,null,null,null,null,null,null,false]
[null,null,281,null,null,null,null,null,null,null,null,null,null,false]
[null,null,282,null,null,null,null,null,null,null,null,null,null,false]
[null,null,283,null,null,null,null,null,null,null,null,null,null,false]
[null,null,284,null,null,null,null,null,null,null,null,null,null,false]
[null,null,285,null,null,null,null,null,null,null,null,null,null,false]
[null,null,286,null,null,null,null,null,null,null,null,null,null,false]
[null,null,287,null,null,null,null,null,null,null,null,null,null,false]
[null,null,288,null,null,null,null,null,null,null,null,null,null,false]
[null,null,289,null,null,null,null,null,null,null,null,null,null,false]
[null,null,290,null,null,null,null,null,null,null,null,null,null,false]
[null,null,291,null,null,null,null,null,null,null,null,null,null,false]
[null,null,292,null,null,null,null,null,null,null,null,null,null,false]
[null,null,293,null,null,null,null,null,null,null,null,null,null,false]
[null,null,294,null,null,null,null,null,null,null,null,null,null,false]
[null,null,295,null,null,null,null,null,null,null,null,null,null,false]
[null,null,296,null,null,null,null,null,null,null,null,null,null,false]
[null,null,297,null,null,null,null,null,null,null,null,null,null,false]
[null,null,298,null,null,null,null,null,null,null,null,null,null,false]
[null,null,299,null,null,null,null,null,null,null,null,null,null,false]
[null,null,300,null,null,null,null,null,null,null,null,null,null,false]
[null,null,301,null,null,null,null,null,null,null,null,null,null,false]
[null,null,302,null,null,null,null,null,null,null,null,null,null,false]
[null,null,303,null,null,null,null,null,null,null,null,null,null,false]
[null,null,304,null,null,null,null,null,null,null,null,null,null,false]
[null,null,305,null,null,null,null,null,null,null,null,null,null,false]
[null,null,306,null,null,null,null,null,null,null,null,null,null,false]
[null,null,307,null,null,null,null,null,null,null,null,null,null,false]
[null,null,308,null,null,null,null,null,null,null,null,null,null,false]
[null,null,309,null,null,null,null,null,null,null,null,null,null,false]
[null,null,310,null,null,null,null,null,null,null,null,null,null,false]
[null,null,311,null,null,null,null,null,null,null,null,null,null,false]
[null,null,312,null,null,null,null,null,null,null,null,null,null,false]
[null,null,313,null,null,null,null,null,null,null,null,null,null,false]
[null,null,314,null,null,null,null,null,null,null,null,null,null,false]
[null,null,315,null,null,null,null,null,null,null,null,null,null,false]
[null,null,316,null,null,null,null,null,null,null,null,null,null,false]
[null,null,317,null,null,null,null,null,null,null,null,null,null,false]
[null,null,318,null,null,null,null,null,null,null,null,null,null,false]
[null,null,319,null,null,null,null,null,null,null,null,null,null,false]
[null,null,320,null,null,null,null,null,null,null,null,null,null,false]
[null,null,321,null,null,null,null,null,null,null,null,null,null,false]
[null,null,322,null,null,null,null,null,null,null,null,null,null,false]
[null,null,323,null,null,null,null,null,null,null,null,null,null,false]
[null,null,324,null,null,null,null,null,null,null,null,null,null,false]
[null,null,325,null,null,null,null,null,null,null,null,null,null,false]
[null,null,326,null,null,null,null,null,null,null,null,null,null,false]
[null,null,327,null,null,null,null,null,null,null,null,null,null,false]
[null,null,328,null,null,null,null,null,null,null,null,null,null,false]
[null,null,329,null,null,null,null,null,null,null,null,null,null,false]
[null,null,330,null,null,null,null,null,null,null,null,null,null,false]
[null,null,331,null,null,null,null,null,null,null,null,null,null,false]
[null,null,332,null,null,null,null,null,null,null,null,null,null,false]
[null,null,333,null,null,null,null,null,null,null,null,null,null,false]
[null,null,334,null,null,null,null,null,null,null,null,null,null,false]
[null,null,335,null,null,null,null,null,null,null,null,null,null,false]
[null,null,336,null,null,null,null,null,null,null,null,null,null,false]
[null,null,337,null,null,null,null,null,null,null,null,null,null,false]
[null,null,338,null,null,null,null,null,null,null,null,null,null,false]
[null,null,339,null,null,null,null,null,null,null,null,null,null,false]
[null,null,340,null,null,null,null,null,null,null,null,null,null,false]
[null,null,341,null,null,null,null,null,null,null,null,null,null,false]
[null,null,342,null,null,null,null,null,null,null,null,null,null,false]
[null,null,343,null,null,null,null,null,null,null,null,null,null,false]
[null,null,344,null,null,null,null,null,null,null,null,null,null,false]
[null,null,345,null,null,null,null,null,null,null,null,null,null,false]
[null,null,346,null,null,null,null,null,null,null,null,null,null,false]
[null,null,347,null,null,null,null,null,null,null,null,null,null,false]
[null,null,348,null,null,null,null,null,null,null,null,null,null,false]
[null,null,349,null,null,null,null,null,null,null,null,null,null,false]
[null,null,350,null,null,null,null,null,null,null,null,null,null,false]
[null,null,351,null,null,null,null,null,null,null,null,null,null,false]
[null,null,352,null,null,null,null,null,null,null,null,null,null,false]
[null,null,353,null,null,null,null,null,null,null,null,null,null,false]
[null,null,354,null,null,null,null,null,null,null,null,null,null,false]
[null,null,355,null,null,null,null,null,null,null,null,null,null,false]
[null,null,356,null,null,null,null,null,null,null,null,null,null,false]
[null,null,357,null,null,null,null,null,null,null,null,null,null,false]
[null,null,358,null,null,null,null,null,null,null,null,null,null,false]
[null,null,359,null,null,null,null,null,null,null,null,null,null,false]
[null,null,360,null,null,null,null,null,null,null,null,null,null,false]
[null,null,361,null,null,null,null,null,null,null,null,null,null,false]
[null,null,362,null,null,null,null,null,null,null,null,null,null,false]
[null,null,363,null,null,null,null,null,null,null,null,null,null,false]
[null,null,364,null,null,null,null,null,null,null,null,null,null,false]
[null,null,365,null,null,null,null,null,null,null,null,null,null,false]
[null,null,366,null,null,null,null,null,null,null,null,null,null,false]
[null,null,367,null,null,null,null,null,null,null,null,null,null,false]
[null,null,368,null,null,null,null,null,null,null,null,null,null,false]
[null,null,369,null,null,null,null,null,null,null,null,null,null,false]
[null,null,370,null,null,null,null,null,null,null,null,null,null,false]
[null,null,371,null,null,null,null,null,null,null,null,null,null,false]
[null,null,372,null,null,null,null,null,null,null,null,null,null,false]
[null,null,373,null,null,null,null,null,null,null,null,null,null,false]
[null,null,374,null,null,null,null,null,null,null,null,null,null,false]
[null,null,375,null,null,null,null,null,null,null,null,null,null,false]
[null,null,376,null,null,null,null,null,null,null,null,null,null,false]
[null,null,377,null,null,null,null,null,null,null,null,null,null,false]
[null,null,378,null,null,null,null,null,null,null,null,null,null,false]
[null,null,379,null,null,null,null,null,null,null,null,null,null,false]
[null,null,380,null,null,null,null,null,null,null,null,null,null,false]
[null,null,381,null,null,null,null,null,null,null,null,null,null,false]
[null,null,382,null,null,null,null,null,null,null,null,null,null,false]
[null,null,383,null,null,null,null,null,null,null,null,null,null,false]
[null,null,384,null,null,null,null,null,null,null,null,null,null,false]
[null,null,385,null,null,null,null,null,null,null,null,null,null,false]
[null,null,386,null,null,null,null,null,null,null,null,null,null,false]
[null,null,387,null,null,null,null,null,null,null,null,null,null,false]
[null,null,388,null,null,null,null,null,null,null,null,null,null,false]
[null,null,389,null,null,null,null,null,null,null,null,null,null,false]
[null,null,390,null,null,null,null,null,null,null,null,null,null,false]
[null,null,391,null,null,null,null,null,null,null,null,null,null,false]
[null,null,392,null,null,null,null,null,null,null,null,null,null,false]
[null,null,393,null,null,null,null,null,null,null,null,null,null,false]
[null,null,394,null,null,null,null,null,null,null,null,null,null,false]
[null,null,395,null,null,null,null,null,null,null,null,null,null,false]
[null,null,396,null,null,null,null,null,null,null,null,null,null,false]
[null,null,397,null,null,null,null,null,null,null,null,null,null,false]
[null,null,398,null,null,null,null,null,null,null,null,null,null,false]
[null,null,399,null,null,null,null,null,null,null,null,null,null,false]
[null,null,400,null,null,null,null,null,null,null,null,null,null,false]

{"sheet":"運算","index":1,"n_rows":405,"n_cols":10,"rows_kept":405,"cut":false,"hidden":true,"merged":[]}
[]
["總額","大於50萬","大於200萬","筆數","每頁上限","頁數","有勾選 金額未填","有勾選 金額未填"]
[{"$f":"SUM(運算!J6:J405)","v":0},{"$f":"COUNTIF(運算!$J$6:$J$405,\">500000\")","v":0},{"$f":"COUNTIF(運算!$J$6:$J$405,\">2000000\")","v":0},{"$f":"COUNTIF(客戶資料及選擇列印!$N$10:$N$409,\"TRUE\")","v":0},10,{"$f":"ROUNDUP(D3/E3,0)","v":0},{"$f":"SUMPRODUCT((核取結果=TRUE)*(金額=\"\"))","v":0},{"$f":"SUMPRODUCT((核取結果=FALSE)*(金額<>\"\"))","v":0}]
[]
[null,"入戶跨行匯票名單","金額",null,null,"大宗郵件名單",null,null,"姓名","金額"]
[null,"吳先生",10,null,null,"吳先生",null,{"$f":"SMALL(IF(核取結果=TRUE,ROW(序號)-9,9999),ROW(客戶資料及選擇列印!1:1))","v":9999},{"$f":"IF($H6=9999,\"\",OFFSET(客戶資料及選擇列印!$C$9,$H6,COLUMN(客戶資料及選擇列印!A:A),,))","v":""},{"$f":"IF(H6=9999,\"\",INDEX(客戶資料及選擇列印!$B$10:$B$409,MATCH(H6,客戶資料及選擇列印!$C$10:$C$409,0),1))","v":""}]
[null,"","",null,null,"張小姐",null,{"$f":"SMALL(IF(核取結果=TRUE,ROW(序號)-9,9999),ROW(客戶資料及選擇列印!2:2))","v":9999},{"$f":"IF($H7=9999,\"\",OFFSET(客戶資料及選擇列印!$C$9,$H7,COLUMN(客戶資料及選擇列印!A:A),,))","v":""},{"$f":"IF(H7=9999,\"\",INDEX(客戶資料及選擇列印!$B$10:$B$409,MATCH(H7,客戶資料及選擇列印!$C$10:$C$409,0),1))","v":""}]
[null,"","",null,null,"葉先生",null,{"$f":"SMALL(IF(核取結果=TRUE,ROW(序號)-9,9999),ROW(客戶資料及選擇列印!3:3))","v":9999},{"$f":"IF($H8=9999,\"\",OFFSET(客戶資料及選擇列印!$C$9,$H8,COLUMN(客戶資料及選擇列印!A:A),,))","v":""},{"$f":"IF(H8=9999,\"\",INDEX(客戶資料及選擇列印!$B$10:$B$409,MATCH(H8,客戶資料及選擇列印!$C$10:$C$409,0),1))","v":""}]
[null,"","",null,null,"李小姐",null,{"$f":"SMALL(IF(核取結果=TRUE,ROW(序號)-9,9999),ROW(客戶資料及選擇列印!4:4))","v":9999},{"$f":"IF($H9=9999,\"\",OFFSET(客戶資料及選擇列印!$C$9,$H9,COLUMN(客戶資料及選擇列印!A:A),,))","v":""},{"$f":"IF(H9=9999,\"\",INDEX(客戶資料及選擇列印!$B$10:$B$409,MATCH(H9,客戶資料及選擇列印!$C$10:$C$409,0),1))","v":""}]
[null,"","",null,null,"",null,{"$f":"SMALL(IF(核取結果=TRUE,ROW(序號)-9,9999),ROW(客戶資料及選擇列印!5:5))","v":9999},{"$f":"IF($H10=9999,\"\",OFFSET(客戶資料及選擇列印!$C$9,$H10,COLUMN(客戶資料及選擇列印!A:A),,))","v":""},{"$f":"IF(H10=9999,\"\",INDEX(客戶資料及選擇列印!$B$10:$B$409,MATCH(H10,客戶資料及選擇列印!$C$10:$C$409,0),1))","v":""}]
[null,"","",null,null,"",null,{"$f":"SMALL(IF(核取結果=TRUE,ROW(序號)-9,9999),ROW(客戶資料及選擇列印!6:6))","v":9999},{"$f":"IF($H11=9999,\"\",OFFSET(客戶資料及選擇列印!$C$9,$H11,COLUMN(客戶資料及選擇列印!A:A),,))","v":""},{"$f":"IF(H11=9999,\"\",INDEX(客戶資料及選擇列印!$B$10:$B$409,MATCH(H11,客戶資料及選擇列印!$C$10:$C$409,0),1))","v":""}]
[null,"","",null,null,"",null,{"$f":"SMALL(IF(核取結果=TRUE,ROW(序號)-9,9999),ROW(客戶資料及選擇列印!7:7))","v":9999},{"$f":"IF($H12=9999,\"\",OFFSET(客戶資料及選擇列印!$C$9,$H12,COLUMN(客戶資料及選擇列印!A:A),,))","v":""},{"$f":"IF(H12=9999,\"\",INDEX(客戶資料及選擇列印!$B$10:$B$409,MATCH(H12,客戶資料及選擇列印!$C$10:$C$409,0),1))","v":""}]
[null,"","",null,null,"",null,{"$f":"SMALL(IF(核取結果=TRUE,ROW(序號)-9,9999),ROW(客戶資料及選擇列印!8:8))","v":9999},{"$f":"IF($H13=9999,\"\",OFFSET(客戶資料及選擇列印!$C$9,$H13,COLUMN(客戶資料及選擇列印!A:A),,))","v":""},{"$f":"IF(H13=9999,\"\",INDEX(客戶資料及選擇列印!$B$10:$B$409,MATCH(H13,客戶資料及選擇列印!$C$10:$C$409,0),1))","v":""}]
[null,"","",null,null,"",null,{"$f":"SMALL(IF(核取結果=TRUE,ROW(序號)-9,9999),ROW(客戶資料及選擇列印!9:9))","v":9999},{"$f":"IF($H14=9999,\"\",OFFSET(客戶資料及選擇列印!$C$9,$H14,COLUMN(客戶資料及選擇列印!A:A),,))","v":""},{"$f":"IF(H14=9999,\"\",INDEX(客戶資料及選擇列印!$B$10:$B$409,MATCH(H14,客戶資料及選擇列印!$C$10:$C$409,0),1))","v":""}]
[null,"","",null,null,"",null,{"$f":"SMALL(IF(核取結果=TRUE,ROW(序號)-9,9999),ROW(客戶資料及選擇列印!10:10))","v":9999},{"$f":"IF($H15=9999,\"\",OFFSET(客戶資料及選擇列印!$C$9,$H15,COLUMN(客戶資料及選擇列印!A:A),,))","v":""},{"$f":"IF(H15=9999,\"\",INDEX(客戶資料及選擇列印!$B$10:$B$409,MATCH(H15,客戶資料及選擇列印!$C$10:$C$409,0),1))","v":""}]
[null,null,{"$f":"SUM(C6:C15)","v":10},null,null,"",null,{"$f":"SMALL(IF(核取結果=TRUE,ROW(序號)-9,9999),ROW(客戶資料及選擇列印!11:11))","v":9999},{"$f":"IF($H16=9999,\"\",OFFSET(客戶資料及選擇列印!$C$9,$H16,COLUMN(客戶資料及選擇列印!A:A),,))","v":""},{"$f":"IF(H16=9999,\"\",INDEX(客戶資料及選擇列印!$B$10:$B$409,MATCH(H16,客戶資料及選擇列印!$C$10:$C$409,0),1))","v":""}]
[null,null,null,null,null,"",null,{"$f":"SMALL(IF(核取結果=TRUE,ROW(序號)-9,9999),ROW(客戶資料及選擇列印!12:12))","v":9999},{"$f":"IF($H17=9999,\"\",OFFSET(客戶資料及選擇列印!$C$9,$H17,COLUMN(客戶資料及選擇列印!A:A),,))","v":""},{"$f":"IF(H17=9999,\"\",INDEX(客戶資料及選擇列印!$B$10:$B$409,MATCH(H17,客戶資料及選擇列印!$C$10:$C$409,0),1))","v":""}]
[null,null,null,null,null,"",null,{"$f":"SMALL(IF(核取結果=TRUE,ROW(序號)-9,9999),ROW(客戶資料及選擇列印!13:13))","v":9999},{"$f":"IF($H18=9999,\"\",OFFSET(客戶資料及選擇列印!$C$9,$H18,COLUMN(客戶資料及選擇列印!A:A),,))","v":""},{"$f":"IF(H18=9999,\"\",INDEX(客戶資料及選擇列印!$B$10:$B$409,MATCH(H18,客戶資料及選擇列印!$C$10:$C$409,0),1))","v":""}]
[null,null,null,null,null,"",null,{"$f":"SMALL(IF(核取結果=TRUE,ROW(序號)-9,9999),ROW(客戶資料及選擇列印!14:14))","v":9999},{"$f":"IF($H19=9999,\"\",OFFSET(客戶資料及選擇列印!$C$9,$H19,COLUMN(客戶資料及選擇列印!A:A),,))","v":""},{"$f":"IF(H19=9999,\"\",INDEX(客戶資料及選擇列印!$B$10:$B$409,MATCH(H19,客戶資料及選擇列印!$C$10:$C$409,0),1))","v":""}]
[null,null,null,null,null,"",null,{"$f":"SMALL(IF(核取結果=TRUE,ROW(序號)-9,9999),ROW(客戶資料及選擇列印!15:15))","v":9999},{"$f":"IF($H20=9999,\"\",OFFSET(客戶資料及選擇列印!$C$9,$H20,COLUMN(客戶資料及選擇列印!A:A),,))","v":""},{"$f":"IF(H20=9999,\"\",INDEX(客戶資料及選擇列印!$B$10:$B$409,MATCH(H20,客戶資料及選擇列印!$C$10:$C$409,0),1))","v":""}]
[null,null,null,null,null,"",null,{"$f":"SMALL(IF(核取結果=TRUE,ROW(序號)-9,9999),ROW(客戶資料及選擇列印!16:16))","v":9999},{"$f":"IF($H21=9999,\"\",OFFSET(客戶資料及選擇列印!$C$9,$H21,COLUMN(客戶資料及選擇列印!A:A),,))","v":""},{"$f":"IF(H21=9999,\"\",INDEX(客戶資料及選擇列印!$B$10:$B$409,MATCH(H21,客戶資料及選擇列印!$C$10:$C$409,0),1))","v":""}]
[null,null,null,null,null,"",null,{"$f":"SMALL(IF(核取結果=TRUE,ROW(序號)-9,9999),ROW(客戶資料及選擇列印!17:17))","v":9999},{"$f":"IF($H22=9999,\"\",OFFSET(客戶資料及選擇列印!$C$9,$H22,COLUMN(客戶資料及選擇列印!A:A),,))","v":""},{"$f":"IF(H22=9999,\"\",INDEX(客戶資料及選擇列印!$B$10:$B$409,MATCH(H22,客戶資料及選擇列印!$C$10:$C$409,0),1))","v":""}]
[null,null,null,null,null,"",null,{"$f":"SMALL(IF(核取結果=TRUE,ROW(序號)-9,9999),ROW(客戶資料及選擇列印!18:18))","v":9999},{"$f":"IF($H23=9999,\"\",OFFSET(客戶資料及選擇列印!$C$9,$H23,COLUMN(客戶資料及選擇列印!A:A),,))","v":""},{"$f":"IF(H23=9999,\"\",INDEX(客戶資料及選擇列印!$B$10:$B$409,MATCH(H23,客戶資料及選擇列印!$C$10:$C$409,0),1))","v":""}]
[null,null,null,null,null,"",null,{"$f":"SMALL(IF(核取結果=TRUE,ROW(序號)-9,9999),ROW(客戶資料及選擇列印!19:19))","v":9999},{"$f":"IF($H24=9999,\"\",OFFSET(客戶資料及選擇列印!$C$9,$H24,COLUMN(客戶資料及選擇列印!A:A),,))","v":""},{"$f":"IF(H24=9999,\"\",INDEX(客戶資料及選擇列印!$B$10:$B$409,MATCH(H24,客戶資料及選擇列印!$C$10:$C$409,0),1))","v":""}]
[null,null,null,null,null,"",null,{"$f":"SMALL(IF(核取結果=TRUE,ROW(序號)-9,9999),ROW(客戶資料及選擇列印!20:20))","v":9999},{"$f":"IF($H25=9999,\"\",OFFSET(客戶資料及選擇列印!$C$9,$H25,COLUMN(客戶資料及選擇列印!A:A),,))","v":""},{"$f":"IF(H25=9999,\"\",INDEX(客戶資料及選擇列印!$B$10:$B$409,MATCH(H25,客戶資料及選擇列印!$C$10:$C$409,0),1))","v":""}]
[null,null,null,null,null,null,null,{"$f":"SMALL(IF(核取結果=TRUE,ROW(序號)-9,9999),ROW(客戶資料及選擇列印!21:21))","v":9999},{"$f":"IF($H26=9999,\"\",OFFSET(客戶資料及選擇列印!$C$9,$H26,COLUMN(客戶資料及選擇列印!A:A),,))","v":""},{"$f":"IF(H26=9999,\"\",INDEX(客戶資料及選擇列印!$B$10:$B$409,MATCH(H26,客戶資料及選擇列印!$C$10:$C$409,0),1))","v":""}]
[null,null,null,null,null,null,null,{"$f":"SMALL(IF(核取結果=TRUE,ROW(序號)-9,9999),ROW(客戶資料及選擇列印!22:22))","v":9999},{"$f":"IF($H27=9999,\"\",OFFSET(客戶資料及選擇列印!$C$9,$H27,COLUMN(客戶資料及選擇列印!A:A),,))","v":""},{"$f":"IF(H27=9999,\"\",INDEX(客戶資料及選擇列印!$B$10:$B$409,MATCH(H27,客戶資料及選擇列印!$C$10:$C$409,0),1))","v":""}]
[null,null,null,null,null,null,null,{"$f":"SMALL(IF(核取結果=TRUE,ROW(序號)-9,9999),ROW(客戶資料及選擇列印!23:23))","v":9999},{"$f":"IF($H28=9999,\"\",OFFSET(客戶資料及選擇列印!$C$9,$H28,COLUMN(客戶資料及選擇列印!A:A),,))","v":""},{"$f":"IF(H28=9999,\"\",INDEX(客戶資料及選擇列印!$B$10:$B$409,MATCH(H28,客戶資料及選擇列印!$C$10:$C$409,0),1))","v":""}]
[null,null,null,null,null,null,null,{"$f":"SMALL(IF(核取結果=TRUE,ROW(序號)-9,9999),ROW(客戶資料及選擇列印!24:24))","v":9999},{"$f":"IF($H29=9999,\"\",OFFSET(客戶資料及選擇列印!$C$9,$H29,COLUMN(客戶資料及選擇列印!A:A),,))","v":""},{"$f":"IF(H29=9999,\"\",INDEX(客戶資料及選擇列印!$B$10:$B$409,MATCH(H29,客戶資料及選擇列印!$C$10:$C$409,0),1))","v":""}]
[null,null,null,null,null,null,null,{"$f":"SMALL(IF(核取結果=TRUE,ROW(序號)-9,9999),ROW(客戶資料及選擇列印!25:25))","v":9999},{"$f":"IF($H30=9999,\"\",OFFSET(客戶資料及選擇列印!$C$9,$H30,COLUMN(客戶資料及選擇列印!A:A),,))","v":""},{"$f":"IF(H30=9999,\"\",INDEX(客戶資料及選擇列印!$B$10:$B$409,MATCH(H30,客戶資料及選擇列印!$C$10:$C$409,0),1))","v":""}]
[null,null,null,null,null,null,null,{"$f":"SMALL(IF(核取結果=TRUE,ROW(序號)-9,9999),ROW(客戶資料及選擇列印!26:26))","v":9999},{"$f":"IF($H31=9999,\"\",OFFSET(客戶資料及選擇列印!$C$9,$H31,COLUMN(客戶資料及選擇列印!A:A),,))","v":""},{"$f":"IF(H31=9999,\"\",INDEX(客戶資料及選擇列印!$B$10:$B$409,MATCH(H31,客戶資料及選擇列印!$C$10:$C$409,0),1))","v":""}]
[null,null,null,null,null,null,null,{"$f":"SMALL(IF(核取結果=TRUE,ROW(序號)-9,9999),ROW(客戶資料及選擇列印!27:27))","v":9999},{"$f":"IF($H32=9999,\"\",OFFSET(客戶資料及選擇列印!$C$9,$H32,COLUMN(客戶資料及選擇列印!A:A),,))","v":""},{"$f":"IF(H32=9999,\"\",INDEX(客戶資料及選擇列印!$B$10:$B$409,MATCH(H32,客戶資料及選擇列印!$C$10:$C$409,0),1))","v":""}]
[null,null,null,null,null,null,null,{"$f":"SMALL(IF(核取結果=TRUE,ROW(序號)-9,9999),ROW(客戶資料及選擇列印!28:28))","v":9999},{"$f":"IF($H33=9999,\"\",OFFSET(客戶資料及選擇列印!$C$9,$H33,COLUMN(客戶資料及選擇列印!A:A),,))","v":""},{"$f":"IF(H33=9999,\"\",INDEX(客戶資料及選擇列印!$B$10:$B$409,MATCH(H33,客戶資料及選擇列印!$C$10:$C$409,0),1))","v":""}]
[null,null,null,null,null,null,null,{"$f":"SMALL(IF(核取結果=TRUE,ROW(序號)-9,9999),ROW(客戶資料及選擇列印!29:29))","v":9999},{"$f":"IF($H34=9999,\"\",OFFSET(客戶資料及選擇列印!$C$9,$H34,COLUMN(客戶資料及選擇列印!A:A),,))","v":""},{"$f":"IF(H34=9999,\"\",INDEX(客戶資料及選擇列印!$B$10:$B$409,MATCH(H34,客戶資料及選擇列印!$C$10:$C$409,0),1))","v":""}]
[null,null,null,null,null,null,null,{"$f":"SMALL(IF(核取結果=TRUE,ROW(序號)-9,9999),ROW(客戶資料及選擇列印!30:30))","v":9999},{"$f":"IF($H35=9999,\"\",OFFSET(客戶資料及選擇列印!$C$9,$H35,COLUMN(客戶資料及選擇列印!A:A),,))","v":""},{"$f":"IF(H35=9999,\"\",INDEX(客戶資料及選擇列印!$B$10:$B$409,MATCH(H35,客戶資料及選擇列印!$C$10:$C$409,0),1))","v":""}]
[null,null,null,null,null,null,null,{"$f":"SMALL(IF(核取結果=TRUE,ROW(序號)-9,9999),ROW(客戶資料及選擇列印!31:31))","v":9999},{"$f":"IF($H36=9999,\"\",OFFSET(客戶資料及選擇列印!$C$9,$H36,COLUMN(客戶資料及選擇列印!A:A),,))","v":""},{"$f":"IF(H36=9999,\"\",INDEX(客戶資料及選擇列印!$B$10:$B$409,MATCH(H36,客戶資料及選擇列印!$C$10:$C$409,0),1))","v":""}]
[null,null,null,null,null,null,null,{"$f":"SMALL(IF(核取結果=TRUE,ROW(序號)-9,9999),ROW(客戶資料及選擇列印!32:32))","v":9999},{"$f":"IF($H37=9999,\"\",OFFSET(客戶資料及選擇列印!$C$9,$H37,COLUMN(客戶資料及選擇列印!A:A),,))","v":""},{"$f":"IF(H37=9999,\"\",INDEX(客戶資料及選擇列印!$B$10:$B$409,MATCH(H37,客戶資料及選擇列印!$C$10:$C$409,0),1))","v":""}]
[null,null,null,null,null,null,null,{"$f":"SMALL(IF(核取結果=TRUE,ROW(序號)-9,9999),ROW(客戶資料及選擇列印!33:33))","v":9999},{"$f":"IF($H38=9999,\"\",OFFSET(客戶資料及選擇列印!$C$9,$H38,COLUMN(客戶資料及選擇列印!A:A),,))","v":""},{"$f":"IF(H38=9999,\"\",INDEX(客戶資料及選擇列印!$B$10:$B$409,MATCH(H38,客戶資料及選擇列印!$C$10:$C$409,0),1))","v":""}]
[null,null,null,null,null,null,null,{"$f":"SMALL(IF(核取結果=TRUE,ROW(序號)-9,9999),ROW(客戶資料及選擇列印!34:34))","v":9999},{"$f":"IF($H39=9999,\"\",OFFSET(客戶資料及選擇列印!$C$9,$H39,COLUMN(客戶資料及選擇列印!A:A),,))","v":""},{"$f":"IF(H39=9999,\"\",INDEX(客戶資料及選擇列印!$B$10:$B$409,MATCH(H39,客戶資料及選擇列印!$C$10:$C$409,0),1))","v":""}]
[null,null,null,null,null,null,null,{"$f":"SMALL(IF(核取結果=TRUE,ROW(序號)-9,9999),ROW(客戶資料及選擇列印!35:35))","v":9999},{"$f":"IF($H40=9999,\"\",OFFSET(客戶資料及選擇列印!$C$9,$H40,COLUMN(客戶資料及選擇列印!A:A),,))","v":""},{"$f":"IF(H40=9999,\"\",INDEX(客戶資料及選擇列印!$B$10:$B$409,MATCH(H40,客戶資料及選擇列印!$C$10:$C$409,0),1))","v":""}]
[null,null,null,null,null,null,null,{"$f":"SMALL(IF(核取結果=TRUE,ROW(序號)-9,9999),ROW(客戶資料及選擇列印!36:36))","v":9999},{"$f":"IF($H41=9999,\"\",OFFSET(客戶資料及選擇列印!$C$9,$H41,COLUMN(客戶資料及選擇列印!A:A),,))","v":""},{"$f":"IF(H41=9999,\"\",INDEX(客戶資料及選擇列印!$B$10:$B$409,MATCH(H41,客戶資料及選擇列印!$C$10:$C$409,0),1))","v":""}]
[null,null,null,null,null,null,null,{"$f":"SMALL(IF(核取結果=TRUE,ROW(序號)-9,9999),ROW(客戶資料及選擇列印!37:37))","v":9999},{"$f":"IF($H42=9999,\"\",OFFSET(客戶資料及選擇列印!$C$9,$H42,COLUMN(客戶資料及選擇列印!A:A),,))","v":""},{"$f":"IF(H42=9999,\"\",INDEX(客戶資料及選擇列印!$B$10:$B$409,MATCH(H42,客戶資料及選擇列印!$C$10:$C$409,0),1))","v":""}]
[null,null,null,null,null,null,null,{"$f":"SMALL(IF(核取結果=TRUE,ROW(序號)-9,9999),ROW(客戶資料及選擇列印!38:38))","v":9999},{"$f":"IF($H43=9999,\"\",OFFSET(客戶資料及選擇列印!$C$9,$H43,COLUMN(客戶資料及選擇列印!A:A),,))","v":""},{"$f":"IF(H43=9999,\"\",INDEX(客戶資料及選擇列印!$B$10:$B$409,MATCH(H43,客戶資料及選擇列印!$C$10:$C$409,0),1))","v":""}]
[null,null,null,null,null,null,null,{"$f":"SMALL(IF(核取結果=TRUE,ROW(序號)-9,9999),ROW(客戶資料及選擇列印!39:39))","v":9999},{"$f":"IF($H44=9999,\"\",OFFSET(客戶資料及選擇列印!$C$9,$H44,COLUMN(客戶資料及選擇列印!A:A),,))","v":""},{"$f":"IF(H44=9999,\"\",INDEX(客戶資料及選擇列印!$B$10:$B$409,MATCH(H44,客戶資料及選擇列印!$C$10:$C$409,0),1))","v":""}]
[null,null,null,null,null,null,null,{"$f":"SMALL(IF(核取結果=TRUE,ROW(序號)-9,9999),ROW(客戶資料及選擇列印!40:40))","v":9999},{"$f":"IF($H45=9999,\"\",OFFSET(客戶資料及選擇列印!$C$9,$H45,COLUMN(客戶資料及選擇列印!A:A),,))","v":""},{"$f":"IF(H45=9999,\"\",INDEX(客戶資料及選擇列印!$B$10:$B$409,MATCH(H45,客戶資料及選擇列印!$C$10:$C$409,0),1))","v":""}]
[null,null,null,null,null,null,null,{"$f":"SMALL(IF(核取結果=TRUE,ROW(序號)-9,9999),ROW(客戶資料及選擇列印!41:41))","v":9999},{"$f":"IF($H46=9999,\"\",OFFSET(客戶資料及選擇列印!$C$9,$H46,COLUMN(客戶資料及選擇列印!A:A),,))","v":""},{"$f":"IF(H46=9999,\"\",INDEX(客戶資料及選擇列印!$B$10:$B$409,MATCH(H46,客戶資料及選擇列印!$C$10:$C$409,0),1))","v":""}]
[null,null,null,null,null,null,null,{"$f":"SMALL(IF(核取結果=TRUE,ROW(序號)-9,9999),ROW(客戶資料及選擇列印!42:42))","v":9999},{"$f":"IF($H47=9999,\"\",OFFSET(客戶資料及選擇列印!$C$9,$H47,COLUMN(客戶資料及選擇列印!A:A),,))","v":""},{"$f":"IF(H47=9999,\"\",INDEX(客戶資料及選擇列印!$B$10:$B$409,MATCH(H47,客戶資料及選擇列印!$C$10:$C$409,0),1))","v":""}]
[null,null,null,null,null,null,null,{"$f":"SMALL(IF(核取結果=TRUE,ROW(序號)-9,9999),ROW(客戶資料及選擇列印!43:43))","v":9999},{"$f":"IF($H48=9999,\"\",OFFSET(客戶資料及選擇列印!$C$9,$H48,COLUMN(客戶資料及選擇列印!A:A),,))","v":""},{"$f":"IF(H48=9999,\"\",INDEX(客戶資料及選擇列印!$B$10:$B$409,MATCH(H48,客戶資料及選擇列印!$C$10:$C$409,0),1))","v":""}]
[null,null,null,null,null,null,null,{"$f":"SMALL(IF(核取結果=TRUE,ROW(序號)-9,9999),ROW(客戶資料及選擇列印!44:44))","v":9999},{"$f":"IF($H49=9999,\"\",OFFSET(客戶資料及選擇列印!$C$9,$H49,COLUMN(客戶資料及選擇列印!A:A),,))","v":""},{"$f":"IF(H49=9999,\"\",INDEX(客戶資料及選擇列印!$B$10:$B$409,MATCH(H49,客戶資料及選擇列印!$C$10:$C$409,0),1))","v":""}]
[null,null,null,null,null,null,null,{"$f":"SMALL(IF(核取結果=TRUE,ROW(序號)-9,9999),ROW(客戶資料及選擇列印!45:45))","v":9999},{"$f":"IF($H50=9999,\"\",OFFSET(客戶資料及選擇列印!$C$9,$H50,COLUMN(客戶資料及選擇列印!A:A),,))","v":""},{"$f":"IF(H50=9999,\"\",INDEX(客戶資料及選擇列印!$B$10:$B$409,MATCH(H50,客戶資料及選擇列印!$C$10:$C$409,0),1))","v":""}]
[null,null,null,null,null,null,null,{"$f":"SMALL(IF(核取結果=TRUE,ROW(序號)-9,9999),ROW(客戶資料及選擇列印!46:46))","v":9999},{"$f":"IF($H51=9999,\"\",OFFSET(客戶資料及選擇列印!$C$9,$H51,COLUMN(客戶資料及選擇列印!A:A),,))","v":""},{"$f":"IF(H51=9999,\"\",INDEX(客戶資料及選擇列印!$B$10:$B$409,MATCH(H51,客戶資料及選擇列印!$C$10:$C$409,0),1))","v":""}]
[null,null,null,null,null,null,null,{"$f":"SMALL(IF(核取結果=TRUE,ROW(序號)-9,9999),ROW(客戶資料及選擇列印!47:47))","v":9999},{"$f":"IF($H52=9999,\"\",OFFSET(客戶資料及選擇列印!$C$9,$H52,COLUMN(客戶資料及選擇列印!A:A),,))","v":""},{"$f":"IF(H52=9999,\"\",INDEX(客戶資料及選擇列印!$B$10:$B$409,MATCH(H52,客戶資料及選擇列印!$C$10:$C$409,0),1))","v":""}]
[null,null,null,null,null,null,null,{"$f":"SMALL(IF(核取結果=TRUE,ROW(序號)-9,9999),ROW(客戶資料及選擇列印!48:48))","v":9999},{"$f":"IF($H53=9999,\"\",OFFSET(客戶資料及選擇列印!$C$9,$H53,COLUMN(客戶資料及選擇列印!A:A),,))","v":""},{"$f":"IF(H53=9999,\"\",INDEX(客戶資料及選擇列印!$B$10:$B$409,MATCH(H53,客戶資料及選擇列印!$C$10:$C$409,0),1))","v":""}]
[null,null,null,null,null,null,null,{"$f":"SMALL(IF(核取結果=TRUE,ROW(序號)-9,9999),ROW(客戶資料及選擇列印!49:49))","v":9999},{"$f":"IF($H54=9999,\"\",OFFSET(客戶資料及選擇列印!$C$9,$H54,COLUMN(客戶資料及選擇列印!A:A),,))","v":""},{"$f":"IF(H54=9999,\"\",INDEX(客戶資料及選擇列印!$B$10:$B$409,MATCH(H54,客戶資料及選擇列印!$C$10:$C$409,0),1))","v":""}]
[null,null,null,null,null,null,null,{"$f":"SMALL(IF(核取結果=TRUE,ROW(序號)-9,9999),ROW(客戶資料及選擇列印!50:50))","v":9999},{"$f":"IF($H55=9999,\"\",OFFSET(客戶資料及選擇列印!$C$9,$H55,COLUMN(客戶資料及選擇列印!A:A),,))","v":""},{"$f":"IF(H55=9999,\"\",INDEX(客戶資料及選擇列印!$B$10:$B$409,MATCH(H55,客戶資料及選擇列印!$C$10:$C$409,0),1))","v":""}]
[null,null,null,null,null,null,null,{"$f":"SMALL(IF(核取結果=TRUE,ROW(序號)-9,9999),ROW(客戶資料及選擇列印!51:51))","v":9999},{"$f":"IF($H56=9999,\"\",OFFSET(客戶資料及選擇列印!$C$9,$H56,COLUMN(客戶資料及選擇列印!A:A),,))","v":""},{"$f":"IF(H56=9999,\"\",INDEX(客戶資料及選擇列印!$B$10:$B$409,MATCH(H56,客戶資料及選擇列印!$C$10:$C$409,0),1))","v":""}]
[null,null,null,null,null,null,null,{"$f":"SMALL(IF(核取結果=TRUE,ROW(序號)-9,9999),ROW(客戶資料及選擇列印!52:52))","v":9999},{"$f":"IF($H57=9999,\"\",OFFSET(客戶資料及選擇列印!$C$9,$H57,COLUMN(客戶資料及選擇列印!A:A),,))","v":""},{"$f":"IF(H57=9999,\"\",INDEX(客戶資料及選擇列印!$B$10:$B$409,MATCH(H57,客戶資料及選擇列印!$C$10:$C$409,0),1))","v":""}]
[null,null,null,null,null,null,null,{"$f":"SMALL(IF(核取結果=TRUE,ROW(序號)-9,9999),ROW(客戶資料及選擇列印!53:53))","v":9999},{"$f":"IF($H58=9999,\"\",OFFSET(客戶資料及選擇列印!$C$9,$H58,COLUMN(客戶資料及選擇列印!A:A),,))","v":""},{"$f":"IF(H58=9999,\"\",INDEX(客戶資料及選擇列印!$B$10:$B$409,MATCH(H58,客戶資料及選擇列印!$C$10:$C$409,0),1))","v":""}]
[null,null,null,null,null,null,null,{"$f":"SMALL(IF(核取結果=TRUE,ROW(序號)-9,9999),ROW(客戶資料及選擇列印!54:54))","v":9999},{"$f":"IF($H59=9999,\"\",OFFSET(客戶資料及選擇列印!$C$9,$H59,COLUMN(客戶資料及選擇列印!A:A),,))","v":""},{"$f":"IF(H59=9999,\"\",INDEX(客戶資料及選擇列印!$B$10:$B$409,MATCH(H59,客戶資料及選擇列印!$C$10:$C$409,0),1))","v":""}]
[null,null,null,null,null,null,null,{"$f":"SMALL(IF(核取結果=TRUE,ROW(序號)-9,9999),ROW(客戶資料及選擇列印!55:55))","v":9999},{"$f":"IF($H60=9999,\"\",OFFSET(客戶資料及選擇列印!$C$9,$H60,COLUMN(客戶資料及選擇列印!A:A),,))","v":""},{"$f":"IF(H60=9999,\"\",INDEX(客戶資料及選擇列印!$B$10:$B$409,MATCH(H60,客戶資料及選擇列印!$C$10:$C$409,0),1))","v":""}]
[null,null,null,null,null,null,null,{"$f":"SMALL(IF(核取結果=TRUE,ROW(序號)-9,9999),ROW(客戶資料及選擇列印!56:56))","v":9999},{"$f":"IF($H61=9999,\"\",OFFSET(客戶資料及選擇列印!$C$9,$H61,COLUMN(客戶資料及選擇列印!A:A),,))","v":""},{"$f":"IF(H61=9999,\"\",INDEX(客戶資料及選擇列印!$B$10:$B$409,MATCH(H61,客戶資料及選擇列印!$C$10:$C$409,0),1))","v":""}]
[null,null,null,null,null,null,null,{"$f":"SMALL(IF(核取結果=TRUE,ROW(序號)-9,9999),ROW(客戶資料及選擇列印!57:57))","v":9999},{"$f":"IF($H62=9999,\"\",OFFSET(客戶資料及選擇列印!$C$9,$H62,COLUMN(客戶資料及選擇列印!A:A),,))","v":""},{"$f":"IF(H62=9999,\"\",INDEX(客戶資料及選擇列印!$B$10:$B$409,MATCH(H62,客戶資料及選擇列印!$C$10:$C$409,0),1))","v":""}]
[null,null,null,null,null,null,null,{"$f":"SMALL(IF(核取結果=TRUE,ROW(序號)-9,9999),ROW(客戶資料及選擇列印!58:58))","v":9999},{"$f":"IF($H63=9999,\"\",OFFSET(客戶資料及選擇列印!$C$9,$H63,COLUMN(客戶資料及選擇列印!A:A),,))","v":""},{"$f":"IF(H63=9999,\"\",INDEX(客戶資料及選擇列印!$B$10:$B$409,MATCH(H63,客戶資料及選擇列印!$C$10:$C$409,0),1))","v":""}]
[null,null,null,null,null,null,null,{"$f":"SMALL(IF(核取結果=TRUE,ROW(序號)-9,9999),ROW(客戶資料及選擇列印!59:59))","v":9999},{"$f":"IF($H64=9999,\"\",OFFSET(客戶資料及選擇列印!$C$9,$H64,COLUMN(客戶資料及選擇列印!A:A),,))","v":""},{"$f":"IF(H64=9999,\"\",INDEX(客戶資料及選擇列印!$B$10:$B$409,MATCH(H64,客戶資料及選擇列印!$C$10:$C$409,0),1))","v":""}]
[null,null,null,null,null,null,null,{"$f":"SMALL(IF(核取結果=TRUE,ROW(序號)-9,9999),ROW(客戶資料及選擇列印!60:60))","v":9999},{"$f":"IF($H65=9999,\"\",OFFSET(客戶資料及選擇列印!$C$9,$H65,COLUMN(客戶資料及選擇列印!A:A),,))","v":""},{"$f":"IF(H65=9999,\"\",INDEX(客戶資料及選擇列印!$B$10:$B$409,MATCH(H65,客戶資料及選擇列印!$C$10:$C$409,0),1))","v":""}]
[null,null,null,null,null,null,null,{"$f":"SMALL(IF(核取結果=TRUE,ROW(序號)-9,9999),ROW(客戶資料及選擇列印!61:61))","v":9999},{"$f":"IF($H66=9999,\"\",OFFSET(客戶資料及選擇列印!$C$9,$H66,COLUMN(客戶資料及選擇列印!A:A),,))","v":""},{"$f":"IF(H66=9999,\"\",INDEX(客戶資料及選擇列印!$B$10:$B$409,MATCH(H66,客戶資料及選擇列印!$C$10:$C$409,0),1))","v":""}]
[null,null,null,null,null,null,null,{"$f":"SMALL(IF(核取結果=TRUE,ROW(序號)-9,9999),ROW(客戶資料及選擇列印!62:62))","v":9999},{"$f":"IF($H67=9999,\"\",OFFSET(客戶資料及選擇列印!$C$9,$H67,COLUMN(客戶資料及選擇列印!A:A),,))","v":""},{"$f":"IF(H67=9999,\"\",INDEX(客戶資料及選擇列印!$B$10:$B$409,MATCH(H67,客戶資料及選擇列印!$C$10:$C$409,0),1))","v":""}]
[null,null,null,null,null,null,null,{"$f":"SMALL(IF(核取結果=TRUE,ROW(序號)-9,9999),ROW(客戶資料及選擇列印!63:63))","v":9999},{"$f":"IF($H68=9999,\"\",OFFSET(客戶資料及選擇列印!$C$9,$H68,COLUMN(客戶資料及選擇列印!A:A),,))","v":""},{"$f":"IF(H68=9999,\"\",INDEX(客戶資料及選擇列印!$B$10:$B$409,MATCH(H68,客戶資料及選擇列印!$C$10:$C$409,0),1))","v":""}]
[null,null,null,null,null,null,null,{"$f":"SMALL(IF(核取結果=TRUE,ROW(序號)-9,9999),ROW(客戶資料及選擇列印!64:64))","v":9999},{"$f":"IF($H69=9999,\"\",OFFSET(客戶資料及選擇列印!$C$9,$H69,COLUMN(客戶資料及選擇列印!A:A),,))","v":""},{"$f":"IF(H69=9999,\"\",INDEX(客戶資料及選擇列印!$B$10:$B$409,MATCH(H69,客戶資料及選擇列印!$C$10:$C$409,0),1))","v":""}]
[null,null,null,null,null,null,null,{"$f":"SMALL(IF(核取結果=TRUE,ROW(序號)-9,9999),ROW(客戶資料及選擇列印!65:65))","v":9999},{"$f":"IF($H70=9999,\"\",OFFSET(客戶資料及選擇列印!$C$9,$H70,COLUMN(客戶資料及選擇列印!A:A),,))","v":""},{"$f":"IF(H70=9999,\"\",INDEX(客戶資料及選擇列印!$B$10:$B$409,MATCH(H70,客戶資料及選擇列印!$C$10:$C$409,0),1))","v":""}]
[null,null,null,null,null,null,null,{"$f":"SMALL(IF(核取結果=TRUE,ROW(序號)-9,9999),ROW(客戶資料及選擇列印!66:66))","v":9999},{"$f":"IF($H71=9999,\"\",OFFSET(客戶資料及選擇列印!$C$9,$H71,COLUMN(客戶資料及選擇列印!A:A),,))","v":""},{"$f":"IF(H71=9999,\"\",INDEX(客戶資料及選擇列印!$B$10:$B$409,MATCH(H71,客戶資料及選擇列印!$C$10:$C$409,0),1))","v":""}]
[null,null,null,null,null,null,null,{"$f":"SMALL(IF(核取結果=TRUE,ROW(序號)-9,9999),ROW(客戶資料及選擇列印!67:67))","v":9999},{"$f":"IF($H72=9999,\"\",OFFSET(客戶資料及選擇列印!$C$9,$H72,COLUMN(客戶資料及選擇列印!A:A),,))","v":""},{"$f":"IF(H72=9999,\"\",INDEX(客戶資料及選擇列印!$B$10:$B$409,MATCH(H72,客戶資料及選擇列印!$C$10:$C$409,0),1))","v":""}]
[null,null,null,null,null,null,null,{"$f":"SMALL(IF(核取結果=TRUE,ROW(序號)-9,9999),ROW(客戶資料及選擇列印!68:68))","v":9999},{"$f":"IF($H73=9999,\"\",OFFSET(客戶資料及選擇列印!$C$9,$H73,COLUMN(客戶資料及選擇列印!A:A),,))","v":""},{"$f":"IF(H73=9999,\"\",INDEX(客戶資料及選擇列印!$B$10:$B$409,MATCH(H73,客戶資料及選擇列印!$C$10:$C$409,0),1))","v":""}]
[null,null,null,null,null,null,null,{"$f":"SMALL(IF(核取結果=TRUE,ROW(序號)-9,9999),ROW(客戶資料及選擇列印!69:69))","v":9999},{"$f":"IF($H74=9999,\"\",OFFSET(客戶資料及選擇列印!$C$9,$H74,COLUMN(客戶資料及選擇列印!A:A),,))","v":""},{"$f":"IF(H74=9999,\"\",INDEX(客戶資料及選擇列印!$B$10:$B$409,MATCH(H74,客戶資料及選擇列印!$C$10:$C$409,0),1))","v":""}]
[null,null,null,null,null,null,null,{"$f":"SMALL(IF(核取結果=TRUE,ROW(序號)-9,9999),ROW(客戶資料及選擇列印!70:70))","v":9999},{"$f":"IF($H75=9999,\"\",OFFSET(客戶資料及選擇列印!$C$9,$H75,COLUMN(客戶資料及選擇列印!A:A),,))","v":""},{"$f":"IF(H75=9999,\"\",INDEX(客戶資料及選擇列印!$B$10:$B$409,MATCH(H75,客戶資料及選擇列印!$C$10:$C$409,0),1))","v":""}]
[null,null,null,null,null,null,null,{"$f":"SMALL(IF(核取結果=TRUE,ROW(序號)-9,9999),ROW(客戶資料及選擇列印!71:71))","v":9999},{"$f":"IF($H76=9999,\"\",OFFSET(客戶資料及選擇列印!$C$9,$H76,COLUMN(客戶資料及選擇列印!A:A),,))","v":""},{"$f":"IF(H76=9999,\"\",INDEX(客戶資料及選擇列印!$B$10:$B$409,MATCH(H76,客戶資料及選擇列印!$C$10:$C$409,0),1))","v":""}]
[null,null,null,null,null,null,null,{"$f":"SMALL(IF(核取結果=TRUE,ROW(序號)-9,9999),ROW(客戶資料及選擇列印!72:72))","v":9999},{"$f":"IF($H77=9999,\"\",OFFSET(客戶資料及選擇列印!$C$9,$H77,COLUMN(客戶資料及選擇列印!A:A),,))","v":""},{"$f":"IF(H77=9999,\"\",INDEX(客戶資料及選擇列印!$B$10:$B$409,MATCH(H77,客戶資料及選擇列印!$C$10:$C$409,0),1))","v":""}]
[null,null,null,null,null,null,null,{"$f":"SMALL(IF(核取結果=TRUE,ROW(序號)-9,9999),ROW(客戶資料及選擇列印!73:73))","v":9999},{"$f":"IF($H78=9999,\"\",OFFSET(客戶資料及選擇列印!$C$9,$H78,COLUMN(客戶資料及選擇列印!A:A),,))","v":""},{"$f":"IF(H78=9999,\"\",INDEX(客戶資料及選擇列印!$B$10:$B$409,MATCH(H78,客戶資料及選擇列印!$C$10:$C$409,0),1))","v":""}]
[null,null,null,null,null,null,null,{"$f":"SMALL(IF(核取結果=TRUE,ROW(序號)-9,9999),ROW(客戶資料及選擇列印!74:74))","v":9999},{"$f":"IF($H79=9999,\"\",OFFSET(客戶資料及選擇列印!$C$9,$H79,COLUMN(客戶資料及選擇列印!A:A),,))","v":""},{"$f":"IF(H79=9999,\"\",INDEX(客戶資料及選擇列印!$B$10:$B$409,MATCH(H79,客戶資料及選擇列印!$C$10:$C$409,0),1))","v":""}]
[null,null,null,null,null,null,null,{"$f":"SMALL(IF(核取結果=TRUE,ROW(序號)-9,9999),ROW(客戶資料及選擇列印!75:75))","v":9999},{"$f":"IF($H80=9999,\"\",OFFSET(客戶資料及選擇列印!$C$9,$H80,COLUMN(客戶資料及選擇列印!A:A),,))","v":""},{"$f":"IF(H80=9999,\"\",INDEX(客戶資料及選擇列印!$B$10:$B$409,MATCH(H80,客戶資料及選擇列印!$C$10:$C$409,0),1))","v":""}]
[null,null,null,null,null,null,null,{"$f":"SMALL(IF(核取結果=TRUE,ROW(序號)-9,9999),ROW(客戶資料及選擇列印!76:76))","v":9999},{"$f":"IF($H81=9999,\"\",OFFSET(客戶資料及選擇列印!$C$9,$H81,COLUMN(客戶資料及選擇列印!A:A),,))","v":""},{"$f":"IF(H81=9999,\"\",INDEX(客戶資料及選擇列印!$B$10:$B$409,MATCH(H81,客戶資料及選擇列印!$C$10:$C$409,0),1))","v":""}]
[null,null,null,null,null,null,null,{"$f":"SMALL(IF(核取結果=TRUE,ROW(序號)-9,9999),ROW(客戶資料及選擇列印!77:77))","v":9999},{"$f":"IF($H82=9999,\"\",OFFSET(客戶資料及選擇列印!$C$9,$H82,COLUMN(客戶資料及選擇列印!A:A),,))","v":""},{"$f":"IF(H82=9999,\"\",INDEX(客戶資料及選擇列印!$B$10:$B$409,MATCH(H82,客戶資料及選擇列印!$C$10:$C$409,0),1))","v":""}]
[null,null,null,null,null,null,null,{"$f":"SMALL(IF(核取結果=TRUE,ROW(序號)-9,9999),ROW(客戶資料及選擇列印!78:78))","v":9999},{"$f":"IF($H83=9999,\"\",OFFSET(客戶資料及選擇列印!$C$9,$H83,COLUMN(客戶資料及選擇列印!A:A),,))","v":""},{"$f":"IF(H83=9999,\"\",INDEX(客戶資料及選擇列印!$B$10:$B$409,MATCH(H83,客戶資料及選擇列印!$C$10:$C$409,0),1))","v":""}]
[null,null,null,null,null,null,null,{"$f":"SMALL(IF(核取結果=TRUE,ROW(序號)-9,9999),ROW(客戶資料及選擇列印!79:79))","v":9999},{"$f":"IF($H84=9999,\"\",OFFSET(客戶資料及選擇列印!$C$9,$H84,COLUMN(客戶資料及選擇列印!A:A),,))","v":""},{"$f":"IF(H84=9999,\"\",INDEX(客戶資料及選擇列印!$B$10:$B$409,MATCH(H84,客戶資料及選擇列印!$C$10:$C$409,0),1))","v":""}]
[null,null,null,null,null,null,null,{"$f":"SMALL(IF(核取結果=TRUE,ROW(序號)-9,9999),ROW(客戶資料及選擇列印!80:80))","v":9999},{"$f":"IF($H85=9999,\"\",OFFSET(客戶資料及選擇列印!$C$9,$H85,COLUMN(客戶資料及選擇列印!A:A),,))","v":""},{"$f":"IF(H85=9999,\"\",INDEX(客戶資料及選擇列印!$B$10:$B$409,MATCH(H85,客戶資料及選擇列印!$C$10:$C$409,0),1))","v":""}]
[null,null,null,null,null,null,null,{"$f":"SMALL(IF(核取結果=TRUE,ROW(序號)-9,9999),ROW(客戶資料及選擇列印!81:81))","v":9999},{"$f":"IF($H86=9999,\"\",OFFSET(客戶資料及選擇列印!$C$9,$H86,COLUMN(客戶資料及選擇列印!A:A),,))","v":""},{"$f":"IF(H86=9999,\"\",INDEX(客戶資料及選擇列印!$B$10:$B$409,MATCH(H86,客戶資料及選擇列印!$C$10:$C$409,0),1))","v":""}]
[null,null,null,null,null,null,null,{"$f":"SMALL(IF(核取結果=TRUE,ROW(序號)-9,9999),ROW(客戶資料及選擇列印!82:82))","v":9999},{"$f":"IF($H87=9999,\"\",OFFSET(客戶資料及選擇列印!$C$9,$H87,COLUMN(客戶資料及選擇列印!A:A),,))","v":""},{"$f":"IF(H87=9999,\"\",INDEX(客戶資料及選擇列印!$B$10:$B$409,MATCH(H87,客戶資料及選擇列印!$C$10:$C$409,0),1))","v":""}]
[null,null,null,null,null,null,null,{"$f":"SMALL(IF(核取結果=TRUE,ROW(序號)-9,9999),ROW(客戶資料及選擇列印!83:83))","v":9999},{"$f":"IF($H88=9999,\"\",OFFSET(客戶資料及選擇列印!$C$9,$H88,COLUMN(客戶資料及選擇列印!A:A),,))","v":""},{"$f":"IF(H88=9999,\"\",INDEX(客戶資料及選擇列印!$B$10:$B$409,MATCH(H88,客戶資料及選擇列印!$C$10:$C$409,0),1))","v":""}]
[null,null,null,null,null,null,null,{"$f":"SMALL(IF(核取結果=TRUE,ROW(序號)-9,9999),ROW(客戶資料及選擇列印!84:84))","v":9999},{"$f":"IF($H89=9999,\"\",OFFSET(客戶資料及選擇列印!$C$9,$H89,COLUMN(客戶資料及選擇列印!A:A),,))","v":""},{"$f":"IF(H89=9999,\"\",INDEX(客戶資料及選擇列印!$B$10:$B$409,MATCH(H89,客戶資料及選擇列印!$C$10:$C$409,0),1))","v":""}]
[null,null,null,null,null,null,null,{"$f":"SMALL(IF(核取結果=TRUE,ROW(序號)-9,9999),ROW(客戶資料及選擇列印!85:85))","v":9999},{"$f":"IF($H90=9999,\"\",OFFSET(客戶資料及選擇列印!$C$9,$H90,COLUMN(客戶資料及選擇列印!A:A),,))","v":""},{"$f":"IF(H90=9999,\"\",INDEX(客戶資料及選擇列印!$B$10:$B$409,MATCH(H90,客戶資料及選擇列印!$C$10:$C$409,0),1))","v":""}]
[null,null,null,null,null,null,null,{"$f":"SMALL(IF(核取結果=TRUE,ROW(序號)-9,9999),ROW(客戶資料及選擇列印!86:86))","v":9999},{"$f":"IF($H91=9999,\"\",OFFSET(客戶資料及選擇列印!$C$9,$H91,COLUMN(客戶資料及選擇列印!A:A),,))","v":""},{"$f":"IF(H91=9999,\"\",INDEX(客戶資料及選擇列印!$B$10:$B$409,MATCH(H91,客戶資料及選擇列印!$C$10:$C$409,0),1))","v":""}]
[null,null,null,null,null,null,null,{"$f":"SMALL(IF(核取結果=TRUE,ROW(序號)-9,9999),ROW(客戶資料及選擇列印!87:87))","v":9999},{"$f":"IF($H92=9999,\"\",OFFSET(客戶資料及選擇列印!$C$9,$H92,COLUMN(客戶資料及選擇列印!A:A),,))","v":""},{"$f":"IF(H92=9999,\"\",INDEX(客戶資料及選擇列印!$B$10:$B$409,MATCH(H92,客戶資料及選擇列印!$C$10:$C$409,0),1))","v":""}]
[null,null,null,null,null,null,null,{"$f":"SMALL(IF(核取結果=TRUE,ROW(序號)-9,9999),ROW(客戶資料及選擇列印!88:88))","v":9999},{"$f":"IF($H93=9999,\"\",OFFSET(客戶資料及選擇列印!$C$9,$H93,COLUMN(客戶資料及選擇列印!A:A),,))","v":""},{"$f":"IF(H93=9999,\"\",INDEX(客戶資料及選擇列印!$B$10:$B$409,MATCH(H93,客戶資料及選擇列印!$C$10:$C$409,0),1))","v":""}]
[null,null,null,null,null,null,null,{"$f":"SMALL(IF(核取結果=TRUE,ROW(序號)-9,9999),ROW(客戶資料及選擇列印!89:89))","v":9999},{"$f":"IF($H94=9999,\"\",OFFSET(客戶資料及選擇列印!$C$9,$H94,COLUMN(客戶資料及選擇列印!A:A),,))","v":""},{"$f":"IF(H94=9999,\"\",INDEX(客戶資料及選擇列印!$B$10:$B$409,MATCH(H94,客戶資料及選擇列印!$C$10:$C$409,0),1))","v":""}]
[null,null,null,null,null,null,null,{"$f":"SMALL(IF(核取結果=TRUE,ROW(序號)-9,9999),ROW(客戶資料及選擇列印!90:90))","v":9999},{"$f":"IF($H95=9999,\"\",OFFSET(客戶資料及選擇列印!$C$9,$H95,COLUMN(客戶資料及選擇列印!A:A),,))","v":""},{"$f":"IF(H95=9999,\"\",INDEX(客戶資料及選擇列印!$B$10:$B$409,MATCH(H95,客戶資料及選擇列印!$C$10:$C$409,0),1))","v":""}]
[null,null,null,null,null,null,null,{"$f":"SMALL(IF(核取結果=TRUE,ROW(序號)-9,9999),ROW(客戶資料及選擇列印!91:91))","v":9999},{"$f":"IF($H96=9999,\"\",OFFSET(客戶資料及選擇列印!$C$9,$H96,COLUMN(客戶資料及選擇列印!A:A),,))","v":""},{"$f":"IF(H96=9999,\"\",INDEX(客戶資料及選擇列印!$B$10:$B$409,MATCH(H96,客戶資料及選擇列印!$C$10:$C$409,0),1))","v":""}]
[null,null,null,null,null,null,null,{"$f":"SMALL(IF(核取結果=TRUE,ROW(序號)-9,9999),ROW(客戶資料及選擇列印!92:92))","v":9999},{"$f":"IF($H97=9999,\"\",OFFSET(客戶資料及選擇列印!$C$9,$H97,COLUMN(客戶資料及選擇列印!A:A),,))","v":""},{"$f":"IF(H97=9999,\"\",INDEX(客戶資料及選擇列印!$B$10:$B$409,MATCH(H97,客戶資料及選擇列印!$C$10:$C$409,0),1))","v":""}]
[null,null,null,null,null,null,null,{"$f":"SMALL(IF(核取結果=TRUE,ROW(序號)-9,9999),ROW(客戶資料及選擇列印!93:93))","v":9999},{"$f":"IF($H98=9999,\"\",OFFSET(客戶資料及選擇列印!$C$9,$H98,COLUMN(客戶資料及選擇列印!A:A),,))","v":""},{"$f":"IF(H98=9999,\"\",INDEX(客戶資料及選擇列印!$B$10:$B$409,MATCH(H98,客戶資料及選擇列印!$C$10:$C$409,0),1))","v":""}]
[null,null,null,null,null,null,null,{"$f":"SMALL(IF(核取結果=TRUE,ROW(序號)-9,9999),ROW(客戶資料及選擇列印!94:94))","v":9999},{"$f":"IF($H99=9999,\"\",OFFSET(客戶資料及選擇列印!$C$9,$H99,COLUMN(客戶資料及選擇列印!A:A),,))","v":""},{"$f":"IF(H99=9999,\"\",INDEX(客戶資料及選擇列印!$B$10:$B$409,MATCH(H99,客戶資料及選擇列印!$C$10:$C$409,0),1))","v":""}]
[null,null,null,null,null,null,null,{"$f":"SMALL(IF(核取結果=TRUE,ROW(序號)-9,9999),ROW(客戶資料及選擇列印!95:95))","v":9999},{"$f":"IF($H100=9999,\"\",OFFSET(客戶資料及選擇列印!$C$9,$H100,COLUMN(客戶資料及選擇列印!A:A),,))","v":""},{"$f":"IF(H100=9999,\"\",INDEX(客戶資料及選擇列印!$B$10:$B$409,MATCH(H100,客戶資料及選擇列印!$C$10:$C$409,0),1))","v":""}]
[null,null,null,null,null,null,null,{"$f":"SMALL(IF(核取結果=TRUE,ROW(序號)-9,9999),ROW(客戶資料及選擇列印!96:96))","v":9999},{"$f":"IF($H101=9999,\"\",OFFSET(客戶資料及選擇列印!$C$9,$H101,COLUMN(客戶資料及選擇列印!A:A),,))","v":""},{"$f":"IF(H101=9999,\"\",INDEX(客戶資料及選擇列印!$B$10:$B$409,MATCH(H101,客戶資料及選擇列印!$C$10:$C$409,0),1))","v":""}]
[null,null,null,null,null,null,null,{"$f":"SMALL(IF(核取結果=TRUE,ROW(序號)-9,9999),ROW(客戶資料及選擇列印!97:97))","v":9999},{"$f":"IF($H102=9999,\"\",OFFSET(客戶資料及選擇列印!$C$9,$H102,COLUMN(客戶資料及選擇列印!A:A),,))","v":""},{"$f":"IF(H102=9999,\"\",INDEX(客戶資料及選擇列印!$B$10:$B$409,MATCH(H102,客戶資料及選擇列印!$C$10:$C$409,0),1))","v":""}]
[null,null,null,null,null,null,null,{"$f":"SMALL(IF(核取結果=TRUE,ROW(序號)-9,9999),ROW(客戶資料及選擇列印!98:98))","v":9999},{"$f":"IF($H103=9999,\"\",OFFSET(客戶資料及選擇列印!$C$9,$H103,COLUMN(客戶資料及選擇列印!A:A),,))","v":""},{"$f":"IF(H103=9999,\"\",INDEX(客戶資料及選擇列印!$B$10:$B$409,MATCH(H103,客戶資料及選擇列印!$C$10:$C$409,0),1))","v":""}]
[null,null,null,null,null,null,null,{"$f":"SMALL(IF(核取結果=TRUE,ROW(序號)-9,9999),ROW(客戶資料及選擇列印!99:99))","v":9999},{"$f":"IF($H104=9999,\"\",OFFSET(客戶資料及選擇列印!$C$9,$H104,COLUMN(客戶資料及選擇列印!A:A),,))","v":""},{"$f":"IF(H104=9999,\"\",INDEX(客戶資料及選擇列印!$B$10:$B$409,MATCH(H104,客戶資料及選擇列印!$C$10:$C$409,0),1))","v":""}]
[null,null,null,null,null,null,null,{"$f":"SMALL(IF(核取結果=TRUE,ROW(序號)-9,9999),ROW(客戶資料及選擇列印!100:100))","v":9999},{"$f":"IF($H105=9999,\"\",OFFSET(客戶資料及選擇列印!$C$9,$H105,COLUMN(客戶資料及選擇列印!A:A),,))","v":""},{"$f":"IF(H105=9999,\"\",INDEX(客戶資料及選擇列印!$B$10:$B$409,MATCH(H105,客戶資料及選擇列印!$C$10:$C$409,0),1))","v":""}]
[null,null,null,null,null,null,null,{"$f":"SMALL(IF(核取結果=TRUE,ROW(序號)-9,9999),ROW(客戶資料及選擇列印!101:101))","v":9999},{"$f":"IF($H106=9999,\"\",OFFSET(客戶資料及選擇列印!$C$9,$H106,COLUMN(客戶資料及選擇列印!A:A),,))","v":""},{"$f":"IF(H106=9999,\"\",INDEX(客戶資料及選擇列印!$B$10:$B$409,MATCH(H106,客戶資料及選擇列印!$C$10:$C$409,0),1))","v":""}]
[null,null,null,null,null,null,null,{"$f":"SMALL(IF(核取結果=TRUE,ROW(序號)-9,9999),ROW(客戶資料及選擇列印!102:102))","v":9999},{"$f":"IF($H107=9999,\"\",OFFSET(客戶資料及選擇列印!$C$9,$H107,COLUMN(客戶資料及選擇列印!A:A),,))","v":""},{"$f":"IF(H107=9999,\"\",INDEX(客戶資料及選擇列印!$B$10:$B$409,MATCH(H107,客戶資料及選擇列印!$C$10:$C$409,0),1))","v":""}]
[null,null,null,null,null,null,null,{"$f":"SMALL(IF(核取結果=TRUE,ROW(序號)-9,9999),ROW(客戶資料及選擇列印!103:103))","v":9999},{"$f":"IF($H108=9999,\"\",OFFSET(客戶資料及選擇列印!$C$9,$H108,COLUMN(客戶資料及選擇列印!A:A),,))","v":""},{"$f":"IF(H108=9999,\"\",INDEX(客戶資料及選擇列印!$B$10:$B$409,MATCH(H108,客戶資料及選擇列印!$C$10:$C$409,0),1))","v":""}]
[null,null,null,null,null,null,null,{"$f":"SMALL(IF(核取結果=TRUE,ROW(序號)-9,9999),ROW(客戶資料及選擇列印!104:104))","v":9999},{"$f":"IF($H109=9999,\"\",OFFSET(客戶資料及選擇列印!$C$9,$H109,COLUMN(客戶資料及選擇列印!A:A),,))","v":""},{"$f":"IF(H109=9999,\"\",INDEX(客戶資料及選擇列印!$B$10:$B$409,MATCH(H109,客戶資料及選擇列印!$C$10:$C$409,0),1))","v":""}]
[null,null,null,null,null,null,null,{"$f":"SMALL(IF(核取結果=TRUE,ROW(序號)-9,9999),ROW(客戶資料及選擇列印!105:105))","v":9999},{"$f":"IF($H110=9999,\"\",OFFSET(客戶資料及選擇列印!$C$9,$H110,COLUMN(客戶資料及選擇列印!A:A),,))","v":""},{"$f":"IF(H110=9999,\"\",INDEX(客戶資料及選擇列印!$B$10:$B$409,MATCH(H110,客戶資料及選擇列印!$C$10:$C$409,0),1))","v":""}]
[null,null,null,null,null,null,null,{"$f":"SMALL(IF(核取結果=TRUE,ROW(序號)-9,9999),ROW(客戶資料及選擇列印!106:106))","v":9999},{"$f":"IF($H111=9999,\"\",OFFSET(客戶資料及選擇列印!$C$9,$H111,COLUMN(客戶資料及選擇列印!A:A),,))","v":""},{"$f":"IF(H111=9999,\"\",INDEX(客戶資料及選擇列印!$B$10:$B$409,MATCH(H111,客戶資料及選擇列印!$C$10:$C$409,0),1))","v":""}]
[null,null,null,null,null,null,null,{"$f":"SMALL(IF(核取結果=TRUE,ROW(序號)-9,9999),ROW(客戶資料及選擇列印!107:107))","v":9999},{"$f":"IF($H112=9999,\"\",OFFSET(客戶資料及選擇列印!$C$9,$H112,COLUMN(客戶資料及選擇列印!A:A),,))","v":""},{"$f":"IF(H112=9999,\"\",INDEX(客戶資料及選擇列印!$B$10:$B$409,MATCH(H112,客戶資料及選擇列印!$C$10:$C$409,0),1))","v":""}]
[null,null,null,null,null,null,null,{"$f":"SMALL(IF(核取結果=TRUE,ROW(序號)-9,9999),ROW(客戶資料及選擇列印!108:108))","v":9999},{"$f":"IF($H113=9999,\"\",OFFSET(客戶資料及選擇列印!$C$9,$H113,COLUMN(客戶資料及選擇列印!A:A),,))","v":""},{"$f":"IF(H113=9999,\"\",INDEX(客戶資料及選擇列印!$B$10:$B$409,MATCH(H113,客戶資料及選擇列印!$C$10:$C$409,0),1))","v":""}]
[null,null,null,null,null,null,null,{"$f":"SMALL(IF(核取結果=TRUE,ROW(序號)-9,9999),ROW(客戶資料及選擇列印!109:109))","v":9999},{"$f":"IF($H114=9999,\"\",OFFSET(客戶資料及選擇列印!$C$9,$H114,COLUMN(客戶資料及選擇列印!A:A),,))","v":""},{"$f":"IF(H114=9999,\"\",INDEX(客戶資料及選擇列印!$B$10:$B$409,MATCH(H114,客戶資料及選擇列印!$C$10:$C$409,0),1))","v":""}]
[null,null,null,null,null,null,null,{"$f":"SMALL(IF(核取結果=TRUE,ROW(序號)-9,9999),ROW(客戶資料及選擇列印!110:110))","v":9999},{"$f":"IF($H115=9999,\"\",OFFSET(客戶資料及選擇列印!$C$9,$H115,COLUMN(客戶資料及選擇列印!A:A),,))","v":""},{"$f":"IF(H115=9999,\"\",INDEX(客戶資料及選擇列印!$B$10:$B$409,MATCH(H115,客戶資料及選擇列印!$C$10:$C$409,0),1))","v":""}]
[null,null,null,null,null,null,null,{"$f":"SMALL(IF(核取結果=TRUE,ROW(序號)-9,9999),ROW(客戶資料及選擇列印!111:111))","v":9999},{"$f":"IF($H116=9999,\"\",OFFSET(客戶資料及選擇列印!$C$9,$H116,COLUMN(客戶資料及選擇列印!A:A),,))","v":""},{"$f":"IF(H116=9999,\"\",INDEX(客戶資料及選擇列印!$B$10:$B$409,MATCH(H116,客戶資料及選擇列印!$C$10:$C$409,0),1))","v":""}]
[null,null,null,null,null,null,null,{"$f":"SMALL(IF(核取結果=TRUE,ROW(序號)-9,9999),ROW(客戶資料及選擇列印!112:112))","v":9999},{"$f":"IF($H117=9999,\"\",OFFSET(客戶資料及選擇列印!$C$9,$H117,COLUMN(客戶資料及選擇列印!A:A),,))","v":""},{"$f":"IF(H117=9999,\"\",INDEX(客戶資料及選擇列印!$B$10:$B$409,MATCH(H117,客戶資料及選擇列印!$C$10:$C$409,0),1))","v":""}]
[null,null,null,null,null,null,null,{"$f":"SMALL(IF(核取結果=TRUE,ROW(序號)-9,9999),ROW(客戶資料及選擇列印!113:113))","v":9999},{"$f":"IF($H118=9999,\"\",OFFSET(客戶資料及選擇列印!$C$9,$H118,COLUMN(客戶資料及選擇列印!A:A),,))","v":""},{"$f":"IF(H118=9999,\"\",INDEX(客戶資料及選擇列印!$B$10:$B$409,MATCH(H118,客戶資料及選擇列印!$C$10:$C$409,0),1))","v":""}]
[null,null,null,null,null,null,null,{"$f":"SMALL(IF(核取結果=TRUE,ROW(序號)-9,9999),ROW(客戶資料及選擇列印!114:114))","v":9999},{"$f":"IF($H119=9999,\"\",OFFSET(客戶資料及選擇列印!$C$9,$H119,COLUMN(客戶資料及選擇列印!A:A),,))","v":""},{"$f":"IF(H119=9999,\"\",INDEX(客戶資料及選擇列印!$B$10:$B$409,MATCH(H119,客戶資料及選擇列印!$C$10:$C$409,0),1))","v":""}]
[null,null,null,null,null,null,null,{"$f":"SMALL(IF(核取結果=TRUE,ROW(序號)-9,9999),ROW(客戶資料及選擇列印!115:115))","v":9999},{"$f":"IF($H120=9999,\"\",OFFSET(客戶資料及選擇列印!$C$9,$H120,COLUMN(客戶資料及選擇列印!A:A),,))","v":""},{"$f":"IF(H120=9999,\"\",INDEX(客戶資料及選擇列印!$B$10:$B$409,MATCH(H120,客戶資料及選擇列印!$C$10:$C$409,0),1))","v":""}]
[null,null,null,null,null,null,null,{"$f":"SMALL(IF(核取結果=TRUE,ROW(序號)-9,9999),ROW(客戶資料及選擇列印!116:116))","v":9999},{"$f":"IF($H121=9999,\"\",OFFSET(客戶資料及選擇列印!$C$9,$H121,COLUMN(客戶資料及選擇列印!A:A),,))","v":""},{"$f":"IF(H121=9999,\"\",INDEX(客戶資料及選擇列印!$B$10:$B$409,MATCH(H121,客戶資料及選擇列印!$C$10:$C$409,0),1))","v":""}]
[null,null,null,null,null,null,null,{"$f":"SMALL(IF(核取結果=TRUE,ROW(序號)-9,9999),ROW(客戶資料及選擇列印!117:117))","v":9999},{"$f":"IF($H122=9999,\"\",OFFSET(客戶資料及選擇列印!$C$9,$H122,COLUMN(客戶資料及選擇列印!A:A),,))","v":""},{"$f":"IF(H122=9999,\"\",INDEX(客戶資料及選擇列印!$B$10:$B$409,MATCH(H122,客戶資料及選擇列印!$C$10:$C$409,0),1))","v":""}]
[null,null,null,null,null,null,null,{"$f":"SMALL(IF(核取結果=TRUE,ROW(序號)-9,9999),ROW(客戶資料及選擇列印!118:118))","v":9999},{"$f":"IF($H123=9999,\"\",OFFSET(客戶資料及選擇列印!$C$9,$H123,COLUMN(客戶資料及選擇列印!A:A),,))","v":""},{"$f":"IF(H123=9999,\"\",INDEX(客戶資料及選擇列印!$B$10:$B$409,MATCH(H123,客戶資料及選擇列印!$C$10:$C$409,0),1))","v":""}]
[null,null,null,null,null,null,null,{"$f":"SMALL(IF(核取結果=TRUE,ROW(序號)-9,9999),ROW(客戶資料及選擇列印!119:119))","v":9999},{"$f":"IF($H124=9999,\"\",OFFSET(客戶資料及選擇列印!$C$9,$H124,COLUMN(客戶資料及選擇列印!A:A),,))","v":""},{"$f":"IF(H124=9999,\"\",INDEX(客戶資料及選擇列印!$B$10:$B$409,MATCH(H124,客戶資料及選擇列印!$C$10:$C$409,0),1))","v":""}]
[null,null,null,null,null,null,null,{"$f":"SMALL(IF(核取結果=TRUE,ROW(序號)-9,9999),ROW(客戶資料及選擇列印!120:120))","v":9999},{"$f":"IF($H125=9999,\"\",OFFSET(客戶資料及選擇列印!$C$9,$H125,COLUMN(客戶資料及選擇列印!A:A),,))","v":""},{"$f":"IF(H125=9999,\"\",INDEX(客戶資料及選擇列印!$B$10:$B$409,MATCH(H125,客戶資料及選擇列印!$C$10:$C$409,0),1))","v":""}]
[null,null,null,null,null,null,null,{"$f":"SMALL(IF(核取結果=TRUE,ROW(序號)-9,9999),ROW(客戶資料及選擇列印!121:121))","v":9999},{"$f":"IF($H126=9999,\"\",OFFSET(客戶資料及選擇列印!$C$9,$H126,COLUMN(客戶資料及選擇列印!A:A),,))","v":""},{"$f":"IF(H126=9999,\"\",INDEX(客戶資料及選擇列印!$B$10:$B$409,MATCH(H126,客戶資料及選擇列印!$C$10:$C$409,0),1))","v":""}]
[null,null,null,null,null,null,null,{"$f":"SMALL(IF(核取結果=TRUE,ROW(序號)-9,9999),ROW(客戶資料及選擇列印!122:122))","v":9999},{"$f":"IF($H127=9999,\"\",OFFSET(客戶資料及選擇列印!$C$9,$H127,COLUMN(客戶資料及選擇列印!A:A),,))","v":""},{"$f":"IF(H127=9999,\"\",INDEX(客戶資料及選擇列印!$B$10:$B$409,MATCH(H127,客戶資料及選擇列印!$C$10:$C$409,0),1))","v":""}]
[null,null,null,null,null,null,null,{"$f":"SMALL(IF(核取結果=TRUE,ROW(序號)-9,9999),ROW(客戶資料及選擇列印!123:123))","v":9999},{"$f":"IF($H128=9999,\"\",OFFSET(客戶資料及選擇列印!$C$9,$H128,COLUMN(客戶資料及選擇列印!A:A),,))","v":""},{"$f":"IF(H128=9999,\"\",INDEX(客戶資料及選擇列印!$B$10:$B$409,MATCH(H128,客戶資料及選擇列印!$C$10:$C$409,0),1))","v":""}]
[null,null,null,null,null,null,null,{"$f":"SMALL(IF(核取結果=TRUE,ROW(序號)-9,9999),ROW(客戶資料及選擇列印!124:124))","v":9999},{"$f":"IF($H129=9999,\"\",OFFSET(客戶資料及選擇列印!$C$9,$H129,COLUMN(客戶資料及選擇列印!A:A),,))","v":""},{"$f":"IF(H129=9999,\"\",INDEX(客戶資料及選擇列印!$B$10:$B$409,MATCH(H129,客戶資料及選擇列印!$C$10:$C$409,0),1))","v":""}]
[null,null,null,null,null,null,null,{"$f":"SMALL(IF(核取結果=TRUE,ROW(序號)-9,9999),ROW(客戶資料及選擇列印!125:125))","v":9999},{"$f":"IF($H130=9999,\"\",OFFSET(客戶資料及選擇列印!$C$9,$H130,COLUMN(客戶資料及選擇列印!A:A),,))","v":""},{"$f":"IF(H130=9999,\"\",INDEX(客戶資料及選擇列印!$B$10:$B$409,MATCH(H130,客戶資料及選擇列印!$C$10:$C$409,0),1))","v":""}]
[null,null,null,null,null,null,null,{"$f":"SMALL(IF(核取結果=TRUE,ROW(序號)-9,9999),ROW(客戶資料及選擇列印!126:126))","v":9999},{"$f":"IF($H131=9999,\"\",OFFSET(客戶資料及選擇列印!$C$9,$H131,COLUMN(客戶資料及選擇列印!A:A),,))","v":""},{"$f":"IF(H131=9999,\"\",INDEX(客戶資料及選擇列印!$B$10:$B$409,MATCH(H131,客戶資料及選擇列印!$C$10:$C$409,0),1))","v":""}]
[null,null,null,null,null,null,null,{"$f":"SMALL(IF(核取結果=TRUE,ROW(序號)-9,9999),ROW(客戶資料及選擇列印!127:127))","v":9999},{"$f":"IF($H132=9999,\"\",OFFSET(客戶資料及選擇列印!$C$9,$H132,COLUMN(客戶資料及選擇列印!A:A),,))","v":""},{"$f":"IF(H132=9999,\"\",INDEX(客戶資料及選擇列印!$B$10:$B$409,MATCH(H132,客戶資料及選擇列印!$C$10:$C$409,0),1))","v":""}]
[null,null,null,null,null,null,null,{"$f":"SMALL(IF(核取結果=TRUE,ROW(序號)-9,9999),ROW(客戶資料及選擇列印!128:128))","v":9999},{"$f":"IF($H133=9999,\"\",OFFSET(客戶資料及選擇列印!$C$9,$H133,COLUMN(客戶資料及選擇列印!A:A),,))","v":""},{"$f":"IF(H133=9999,\"\",INDEX(客戶資料及選擇列印!$B$10:$B$409,MATCH(H133,客戶資料及選擇列印!$C$10:$C$409,0),1))","v":""}]
[null,null,null,null,null,null,null,{"$f":"SMALL(IF(核取結果=TRUE,ROW(序號)-9,9999),ROW(客戶資料及選擇列印!129:129))","v":9999},{"$f":"IF($H134=9999,\"\",OFFSET(客戶資料及選擇列印!$C$9,$H134,COLUMN(客戶資料及選擇列印!A:A),,))","v":""},{"$f":"IF(H134=9999,\"\",INDEX(客戶資料及選擇列印!$B$10:$B$409,MATCH(H134,客戶資料及選擇列印!$C$10:$C$409,0),1))","v":""}]
[null,null,null,null,null,null,null,{"$f":"SMALL(IF(核取結果=TRUE,ROW(序號)-9,9999),ROW(客戶資料及選擇列印!130:130))","v":9999},{"$f":"IF($H135=9999,\"\",OFFSET(客戶資料及選擇列印!$C$9,$H135,COLUMN(客戶資料及選擇列印!A:A),,))","v":""},{"$f":"IF(H135=9999,\"\",INDEX(客戶資料及選擇列印!$B$10:$B$409,MATCH(H135,客戶資料及選擇列印!$C$10:$C$409,0),1))","v":""}]
[null,null,null,null,null,null,null,{"$f":"SMALL(IF(核取結果=TRUE,ROW(序號)-9,9999),ROW(客戶資料及選擇列印!131:131))","v":9999},{"$f":"IF($H136=9999,\"\",OFFSET(客戶資料及選擇列印!$C$9,$H136,COLUMN(客戶資料及選擇列印!A:A),,))","v":""},{"$f":"IF(H136=9999,\"\",INDEX(客戶資料及選擇列印!$B$10:$B$409,MATCH(H136,客戶資料及選擇列印!$C$10:$C$409,0),1))","v":""}]
[null,null,null,null,null,null,null,{"$f":"SMALL(IF(核取結果=TRUE,ROW(序號)-9,9999),ROW(客戶資料及選擇列印!132:132))","v":9999},{"$f":"IF($H137=9999,\"\",OFFSET(客戶資料及選擇列印!$C$9,$H137,COLUMN(客戶資料及選擇列印!A:A),,))","v":""},{"$f":"IF(H137=9999,\"\",INDEX(客戶資料及選擇列印!$B$10:$B$409,MATCH(H137,客戶資料及選擇列印!$C$10:$C$409,0),1))","v":""}]
[null,null,null,null,null,null,null,{"$f":"SMALL(IF(核取結果=TRUE,ROW(序號)-9,9999),ROW(客戶資料及選擇列印!133:133))","v":9999},{"$f":"IF($H138=9999,\"\",OFFSET(客戶資料及選擇列印!$C$9,$H138,COLUMN(客戶資料及選擇列印!A:A),,))","v":""},{"$f":"IF(H138=9999,\"\",INDEX(客戶資料及選擇列印!$B$10:$B$409,MATCH(H138,客戶資料及選擇列印!$C$10:$C$409,0),1))","v":""}]
[null,null,null,null,null,null,null,{"$f":"SMALL(IF(核取結果=TRUE,ROW(序號)-9,9999),ROW(客戶資料及選擇列印!134:134))","v":9999},{"$f":"IF($H139=9999,\"\",OFFSET(客戶資料及選擇列印!$C$9,$H139,COLUMN(客戶資料及選擇列印!A:A),,))","v":""},{"$f":"IF(H139=9999,\"\",INDEX(客戶資料及選擇列印!$B$10:$B$409,MATCH(H139,客戶資料及選擇列印!$C$10:$C$409,0),1))","v":""}]
[null,null,null,null,null,null,null,{"$f":"SMALL(IF(核取結果=TRUE,ROW(序號)-9,9999),ROW(客戶資料及選擇列印!135:135))","v":9999},{"$f":"IF($H140=9999,\"\",OFFSET(客戶資料及選擇列印!$C$9,$H140,COLUMN(客戶資料及選擇列印!A:A),,))","v":""},{"$f":"IF(H140=9999,\"\",INDEX(客戶資料及選擇列印!$B$10:$B$409,MATCH(H140,客戶資料及選擇列印!$C$10:$C$409,0),1))","v":""}]
[null,null,null,null,null,null,null,{"$f":"SMALL(IF(核取結果=TRUE,ROW(序號)-9,9999),ROW(客戶資料及選擇列印!136:136))","v":9999},{"$f":"IF($H141=9999,\"\",OFFSET(客戶資料及選擇列印!$C$9,$H141,COLUMN(客戶資料及選擇列印!A:A),,))","v":""},{"$f":"IF(H141=9999,\"\",INDEX(客戶資料及選擇列印!$B$10:$B$409,MATCH(H141,客戶資料及選擇列印!$C$10:$C$409,0),1))","v":""}]
[null,null,null,null,null,null,null,{"$f":"SMALL(IF(核取結果=TRUE,ROW(序號)-9,9999),ROW(客戶資料及選擇列印!137:137))","v":9999},{"$f":"IF($H142=9999,\"\",OFFSET(客戶資料及選擇列印!$C$9,$H142,COLUMN(客戶資料及選擇列印!A:A),,))","v":""},{"$f":"IF(H142=9999,\"\",INDEX(客戶資料及選擇列印!$B$10:$B$409,MATCH(H142,客戶資料及選擇列印!$C$10:$C$409,0),1))","v":""}]
[null,null,null,null,null,null,null,{"$f":"SMALL(IF(核取結果=TRUE,ROW(序號)-9,9999),ROW(客戶資料及選擇列印!138:138))","v":9999},{"$f":"IF($H143=9999,\"\",OFFSET(客戶資料及選擇列印!$C$9,$H143,COLUMN(客戶資料及選擇列印!A:A),,))","v":""},{"$f":"IF(H143=9999,\"\",INDEX(客戶資料及選擇列印!$B$10:$B$409,MATCH(H143,客戶資料及選擇列印!$C$10:$C$409,0),1))","v":""}]
[null,null,null,null,null,null,null,{"$f":"SMALL(IF(核取結果=TRUE,ROW(序號)-9,9999),ROW(客戶資料及選擇列印!139:139))","v":9999},{"$f":"IF($H144=9999,\"\",OFFSET(客戶資料及選擇列印!$C$9,$H144,COLUMN(客戶資料及選擇列印!A:A),,))","v":""},{"$f":"IF(H144=9999,\"\",INDEX(客戶資料及選擇列印!$B$10:$B$409,MATCH(H144,客戶資料及選擇列印!$C$10:$C$409,0),1))","v":""}]
[null,null,null,null,null,null,null,{"$f":"SMALL(IF(核取結果=TRUE,ROW(序號)-9,9999),ROW(客戶資料及選擇列印!140:140))","v":9999},{"$f":"IF($H145=9999,\"\",OFFSET(客戶資料及選擇列印!$C$9,$H145,COLUMN(客戶資料及選擇列印!A:A),,))","v":""},{"$f":"IF(H145=9999,\"\",INDEX(客戶資料及選擇列印!$B$10:$B$409,MATCH(H145,客戶資料及選擇列印!$C$10:$C$409,0),1))","v":""}]
[null,null,null,null,null,null,null,{"$f":"SMALL(IF(核取結果=TRUE,ROW(序號)-9,9999),ROW(客戶資料及選擇列印!141:141))","v":9999},{"$f":"IF($H146=9999,\"\",OFFSET(客戶資料及選擇列印!$C$9,$H146,COLUMN(客戶資料及選擇列印!A:A),,))","v":""},{"$f":"IF(H146=9999,\"\",INDEX(客戶資料及選擇列印!$B$10:$B$409,MATCH(H146,客戶資料及選擇列印!$C$10:$C$409,0),1))","v":""}]
[null,null,null,null,null,null,null,{"$f":"SMALL(IF(核取結果=TRUE,ROW(序號)-9,9999),ROW(客戶資料及選擇列印!142:142))","v":9999},{"$f":"IF($H147=9999,\"\",OFFSET(客戶資料及選擇列印!$C$9,$H147,COLUMN(客戶資料及選擇列印!A:A),,))","v":""},{"$f":"IF(H147=9999,\"\",INDEX(客戶資料及選擇列印!$B$10:$B$409,MATCH(H147,客戶資料及選擇列印!$C$10:$C$409,0),1))","v":""}]
[null,null,null,null,null,null,null,{"$f":"SMALL(IF(核取結果=TRUE,ROW(序號)-9,9999),ROW(客戶資料及選擇列印!143:143))","v":9999},{"$f":"IF($H148=9999,\"\",OFFSET(客戶資料及選擇列印!$C$9,$H148,COLUMN(客戶資料及選擇列印!A:A),,))","v":""},{"$f":"IF(H148=9999,\"\",INDEX(客戶資料及選擇列印!$B$10:$B$409,MATCH(H148,客戶資料及選擇列印!$C$10:$C$409,0),1))","v":""}]
[null,null,null,null,null,null,null,{"$f":"SMALL(IF(核取結果=TRUE,ROW(序號)-9,9999),ROW(客戶資料及選擇列印!144:144))","v":9999},{"$f":"IF($H149=9999,\"\",OFFSET(客戶資料及選擇列印!$C$9,$H149,COLUMN(客戶資料及選擇列印!A:A),,))","v":""},{"$f":"IF(H149=9999,\"\",INDEX(客戶資料及選擇列印!$B$10:$B$409,MATCH(H149,客戶資料及選擇列印!$C$10:$C$409,0),1))","v":""}]
[null,null,null,null,null,null,null,{"$f":"SMALL(IF(核取結果=TRUE,ROW(序號)-9,9999),ROW(客戶資料及選擇列印!145:145))","v":9999},{"$f":"IF($H150=9999,\"\",OFFSET(客戶資料及選擇列印!$C$9,$H150,COLUMN(客戶資料及選擇列印!A:A),,))","v":""},{"$f":"IF(H150=9999,\"\",INDEX(客戶資料及選擇列印!$B$10:$B$409,MATCH(H150,客戶資料及選擇列印!$C$10:$C$409,0),1))","v":""}]
[null,null,null,null,null,null,null,{"$f":"SMALL(IF(核取結果=TRUE,ROW(序號)-9,9999),ROW(客戶資料及選擇列印!146:146))","v":9999},{"$f":"IF($H151=9999,\"\",OFFSET(客戶資料及選擇列印!$C$9,$H151,COLUMN(客戶資料及選擇列印!A:A),,))","v":""},{"$f":"IF(H151=9999,\"\",INDEX(客戶資料及選擇列印!$B$10:$B$409,MATCH(H151,客戶資料及選擇列印!$C$10:$C$409,0),1))","v":""}]
[null,null,null,null,null,null,null,{"$f":"SMALL(IF(核取結果=TRUE,ROW(序號)-9,9999),ROW(客戶資料及選擇列印!147:147))","v":9999},{"$f":"IF($H152=9999,\"\",OFFSET(客戶資料及選擇列印!$C$9,$H152,COLUMN(客戶資料及選擇列印!A:A),,))","v":""},{"$f":"IF(H152=9999,\"\",INDEX(客戶資料及選擇列印!$B$10:$B$409,MATCH(H152,客戶資料及選擇列印!$C$10:$C$409,0),1))","v":""}]
[null,null,null,null,null,null,null,{"$f":"SMALL(IF(核取結果=TRUE,ROW(序號)-9,9999),ROW(客戶資料及選擇列印!148:148))","v":9999},{"$f":"IF($H153=9999,\"\",OFFSET(客戶資料及選擇列印!$C$9,$H153,COLUMN(客戶資料及選擇列印!A:A),,))","v":""},{"$f":"IF(H153=9999,\"\",INDEX(客戶資料及選擇列印!$B$10:$B$409,MATCH(H153,客戶資料及選擇列印!$C$10:$C$409,0),1))","v":""}]
[null,null,null,null,null,null,null,{"$f":"SMALL(IF(核取結果=TRUE,ROW(序號)-9,9999),ROW(客戶資料及選擇列印!149:149))","v":9999},{"$f":"IF($H154=9999,\"\",OFFSET(客戶資料及選擇列印!$C$9,$H154,COLUMN(客戶資料及選擇列印!A:A),,))","v":""},{"$f":"IF(H154=9999,\"\",INDEX(客戶資料及選擇列印!$B$10:$B$409,MATCH(H154,客戶資料及選擇列印!$C$10:$C$409,0),1))","v":""}]
[null,null,null,null,null,null,null,{"$f":"SMALL(IF(核取結果=TRUE,ROW(序號)-9,9999),ROW(客戶資料及選擇列印!150:150))","v":9999},{"$f":"IF($H155=9999,\"\",OFFSET(客戶資料及選擇列印!$C$9,$H155,COLUMN(客戶資料及選擇列印!A:A),,))","v":""},{"$f":"IF(H155=9999,\"\",INDEX(客戶資料及選擇列印!$B$10:$B$409,MATCH(H155,客戶資料及選擇列印!$C$10:$C$409,0),1))","v":""}]
[null,null,null,null,null,null,null,{"$f":"SMALL(IF(核取結果=TRUE,ROW(序號)-9,9999),ROW(客戶資料及選擇列印!151:151))","v":9999},{"$f":"IF($H156=9999,\"\",OFFSET(客戶資料及選擇列印!$C$9,$H156,COLUMN(客戶資料及選擇列印!A:A),,))","v":""},{"$f":"IF(H156=9999,\"\",INDEX(客戶資料及選擇列印!$B$10:$B$409,MATCH(H156,客戶資料及選擇列印!$C$10:$C$409,0),1))","v":""}]
[null,null,null,null,null,null,null,{"$f":"SMALL(IF(核取結果=TRUE,ROW(序號)-9,9999),ROW(客戶資料及選擇列印!152:152))","v":9999},{"$f":"IF($H157=9999,\"\",OFFSET(客戶資料及選擇列印!$C$9,$H157,COLUMN(客戶資料及選擇列印!A:A),,))","v":""},{"$f":"IF(H157=9999,\"\",INDEX(客戶資料及選擇列印!$B$10:$B$409,MATCH(H157,客戶資料及選擇列印!$C$10:$C$409,0),1))","v":""}]
[null,null,null,null,null,null,null,{"$f":"SMALL(IF(核取結果=TRUE,ROW(序號)-9,9999),ROW(客戶資料及選擇列印!153:153))","v":9999},{"$f":"IF($H158=9999,\"\",OFFSET(客戶資料及選擇列印!$C$9,$H158,COLUMN(客戶資料及選擇列印!A:A),,))","v":""},{"$f":"IF(H158=9999,\"\",INDEX(客戶資料及選擇列印!$B$10:$B$409,MATCH(H158,客戶資料及選擇列印!$C$10:$C$409,0),1))","v":""}]
[null,null,null,null,null,null,null,{"$f":"SMALL(IF(核取結果=TRUE,ROW(序號)-9,9999),ROW(客戶資料及選擇列印!154:154))","v":9999},{"$f":"IF($H159=9999,\"\",OFFSET(客戶資料及選擇列印!$C$9,$H159,COLUMN(客戶資料及選擇列印!A:A),,))","v":""},{"$f":"IF(H159=9999,\"\",INDEX(客戶資料及選擇列印!$B$10:$B$409,MATCH(H159,客戶資料及選擇列印!$C$10:$C$409,0),1))","v":""}]
[null,null,null,null,null,null,null,{"$f":"SMALL(IF(核取結果=TRUE,ROW(序號)-9,9999),ROW(客戶資料及選擇列印!155:155))","v":9999},{"$f":"IF($H160=9999,\"\",OFFSET(客戶資料及選擇列印!$C$9,$H160,COLUMN(客戶資料及選擇列印!A:A),,))","v":""},{"$f":"IF(H160=9999,\"\",INDEX(客戶資料及選擇列印!$B$10:$B$409,MATCH(H160,客戶資料及選擇列印!$C$10:$C$409,0),1))","v":""}]
[null,null,null,null,null,null,null,{"$f":"SMALL(IF(核取結果=TRUE,ROW(序號)-9,9999),ROW(客戶資料及選擇列印!156:156))","v":9999},{"$f":"IF($H161=9999,\"\",OFFSET(客戶資料及選擇列印!$C$9,$H161,COLUMN(客戶資料及選擇列印!A:A),,))","v":""},{"$f":"IF(H161=9999,\"\",INDEX(客戶資料及選擇列印!$B$10:$B$409,MATCH(H161,客戶資料及選擇列印!$C$10:$C$409,0),1))","v":""}]
[null,null,null,null,null,null,null,{"$f":"SMALL(IF(核取結果=TRUE,ROW(序號)-9,9999),ROW(客戶資料及選擇列印!157:157))","v":9999},{"$f":"IF($H162=9999,\"\",OFFSET(客戶資料及選擇列印!$C$9,$H162,COLUMN(客戶資料及選擇列印!A:A),,))","v":""},{"$f":"IF(H162=9999,\"\",INDEX(客戶資料及選擇列印!$B$10:$B$409,MATCH(H162,客戶資料及選擇列印!$C$10:$C$409,0),1))","v":""}]
[null,null,null,null,null,null,null,{"$f":"SMALL(IF(核取結果=TRUE,ROW(序號)-9,9999),ROW(客戶資料及選擇列印!158:158))","v":9999},{"$f":"IF($H163=9999,\"\",OFFSET(客戶資料及選擇列印!$C$9,$H163,COLUMN(客戶資料及選擇列印!A:A),,))","v":""},{"$f":"IF(H163=9999,\"\",INDEX(客戶資料及選擇列印!$B$10:$B$409,MATCH(H163,客戶資料及選擇列印!$C$10:$C$409,0),1))","v":""}]
[null,null,null,null,null,null,null,{"$f":"SMALL(IF(核取結果=TRUE,ROW(序號)-9,9999),ROW(客戶資料及選擇列印!159:159))","v":9999},{"$f":"IF($H164=9999,\"\",OFFSET(客戶資料及選擇列印!$C$9,$H164,COLUMN(客戶資料及選擇列印!A:A),,))","v":""},{"$f":"IF(H164=9999,\"\",INDEX(客戶資料及選擇列印!$B$10:$B$409,MATCH(H164,客戶資料及選擇列印!$C$10:$C$409,0),1))","v":""}]
[null,null,null,null,null,null,null,{"$f":"SMALL(IF(核取結果=TRUE,ROW(序號)-9,9999),ROW(客戶資料及選擇列印!160:160))","v":9999},{"$f":"IF($H165=9999,\"\",OFFSET(客戶資料及選擇列印!$C$9,$H165,COLUMN(客戶資料及選擇列印!A:A),,))","v":""},{"$f":"IF(H165=9999,\"\",INDEX(客戶資料及選擇列印!$B$10:$B$409,MATCH(H165,客戶資料及選擇列印!$C$10:$C$409,0),1))","v":""}]
[null,null,null,null,null,null,null,{"$f":"SMALL(IF(核取結果=TRUE,ROW(序號)-9,9999),ROW(客戶資料及選擇列印!161:161))","v":9999},{"$f":"IF($H166=9999,\"\",OFFSET(客戶資料及選擇列印!$C$9,$H166,COLUMN(客戶資料及選擇列印!A:A),,))","v":""},{"$f":"IF(H166=9999,\"\",INDEX(客戶資料及選擇列印!$B$10:$B$409,MATCH(H166,客戶資料及選擇列印!$C$10:$C$409,0),1))","v":""}]
[null,null,null,null,null,null,null,{"$f":"SMALL(IF(核取結果=TRUE,ROW(序號)-9,9999),ROW(客戶資料及選擇列印!162:162))","v":9999},{"$f":"IF($H167=9999,\"\",OFFSET(客戶資料及選擇列印!$C$9,$H167,COLUMN(客戶資料及選擇列印!A:A),,))","v":""},{"$f":"IF(H167=9999,\"\",INDEX(客戶資料及選擇列印!$B$10:$B$409,MATCH(H167,客戶資料及選擇列印!$C$10:$C$409,0),1))","v":""}]
[null,null,null,null,null,null,null,{"$f":"SMALL(IF(核取結果=TRUE,ROW(序號)-9,9999),ROW(客戶資料及選擇列印!163:163))","v":9999},{"$f":"IF($H168=9999,\"\",OFFSET(客戶資料及選擇列印!$C$9,$H168,COLUMN(客戶資料及選擇列印!A:A),,))","v":""},{"$f":"IF(H168=9999,\"\",INDEX(客戶資料及選擇列印!$B$10:$B$409,MATCH(H168,客戶資料及選擇列印!$C$10:$C$409,0),1))","v":""}]
[null,null,null,null,null,null,null,{"$f":"SMALL(IF(核取結果=TRUE,ROW(序號)-9,9999),ROW(客戶資料及選擇列印!164:164))","v":9999},{"$f":"IF($H169=9999,\"\",OFFSET(客戶資料及選擇列印!$C$9,$H169,COLUMN(客戶資料及選擇列印!A:A),,))","v":""},{"$f":"IF(H169=9999,\"\",INDEX(客戶資料及選擇列印!$B$10:$B$409,MATCH(H169,客戶資料及選擇列印!$C$10:$C$409,0),1))","v":""}]
[null,null,null,null,null,null,null,{"$f":"SMALL(IF(核取結果=TRUE,ROW(序號)-9,9999),ROW(客戶資料及選擇列印!165:165))","v":9999},{"$f":"IF($H170=9999,\"\",OFFSET(客戶資料及選擇列印!$C$9,$H170,COLUMN(客戶資料及選擇列印!A:A),,))","v":""},{"$f":"IF(H170=9999,\"\",INDEX(客戶資料及選擇列印!$B$10:$B$409,MATCH(H170,客戶資料及選擇列印!$C$10:$C$409,0),1))","v":""}]
[null,null,null,null,null,null,null,{"$f":"SMALL(IF(核取結果=TRUE,ROW(序號)-9,9999),ROW(客戶資料及選擇列印!166:166))","v":9999},{"$f":"IF($H171=9999,\"\",OFFSET(客戶資料及選擇列印!$C$9,$H171,COLUMN(客戶資料及選擇列印!A:A),,))","v":""},{"$f":"IF(H171=9999,\"\",INDEX(客戶資料及選擇列印!$B$10:$B$409,MATCH(H171,客戶資料及選擇列印!$C$10:$C$409,0),1))","v":""}]
[null,null,null,null,null,null,null,{"$f":"SMALL(IF(核取結果=TRUE,ROW(序號)-9,9999),ROW(客戶資料及選擇列印!167:167))","v":9999},{"$f":"IF($H172=9999,\"\",OFFSET(客戶資料及選擇列印!$C$9,$H172,COLUMN(客戶資料及選擇列印!A:A),,))","v":""},{"$f":"IF(H172=9999,\"\",INDEX(客戶資料及選擇列印!$B$10:$B$409,MATCH(H172,客戶資料及選擇列印!$C$10:$C$409,0),1))","v":""}]
[null,null,null,null,null,null,null,{"$f":"SMALL(IF(核取結果=TRUE,ROW(序號)-9,9999),ROW(客戶資料及選擇列印!168:168))","v":9999},{"$f":"IF($H173=9999,\"\",OFFSET(客戶資料及選擇列印!$C$9,$H173,COLUMN(客戶資料及選擇列印!A:A),,))","v":""},{"$f":"IF(H173=9999,\"\",INDEX(客戶資料及選擇列印!$B$10:$B$409,MATCH(H173,客戶資料及選擇列印!$C$10:$C$409,0),1))","v":""}]
[null,null,null,null,null,null,null,{"$f":"SMALL(IF(核取結果=TRUE,ROW(序號)-9,9999),ROW(客戶資料及選擇列印!169:169))","v":9999},{"$f":"IF($H174=9999,\"\",OFFSET(客戶資料及選擇列印!$C$9,$H174,COLUMN(客戶資料及選擇列印!A:A),,))","v":""},{"$f":"IF(H174=9999,\"\",INDEX(客戶資料及選擇列印!$B$10:$B$409,MATCH(H174,客戶資料及選擇列印!$C$10:$C$409,0),1))","v":""}]
[null,null,null,null,null,null,null,{"$f":"SMALL(IF(核取結果=TRUE,ROW(序號)-9,9999),ROW(客戶資料及選擇列印!170:170))","v":9999},{"$f":"IF($H175=9999,\"\",OFFSET(客戶資料及選擇列印!$C$9,$H175,COLUMN(客戶資料及選擇列印!A:A),,))","v":""},{"$f":"IF(H175=9999,\"\",INDEX(客戶資料及選擇列印!$B$10:$B$409,MATCH(H175,客戶資料及選擇列印!$C$10:$C$409,0),1))","v":""}]
[null,null,null,null,null,null,null,{"$f":"SMALL(IF(核取結果=TRUE,ROW(序號)-9,9999),ROW(客戶資料及選擇列印!171:171))","v":9999},{"$f":"IF($H176=9999,\"\",OFFSET(客戶資料及選擇列印!$C$9,$H176,COLUMN(客戶資料及選擇列印!A:A),,))","v":""},{"$f":"IF(H176=9999,\"\",INDEX(客戶資料及選擇列印!$B$10:$B$409,MATCH(H176,客戶資料及選擇列印!$C$10:$C$409,0),1))","v":""}]
[null,null,null,null,null,null,null,{"$f":"SMALL(IF(核取結果=TRUE,ROW(序號)-9,9999),ROW(客戶資料及選擇列印!172:172))","v":9999},{"$f":"IF($H177=9999,\"\",OFFSET(客戶資料及選擇列印!$C$9,$H177,COLUMN(客戶資料及選擇列印!A:A),,))","v":""},{"$f":"IF(H177=9999,\"\",INDEX(客戶資料及選擇列印!$B$10:$B$409,MATCH(H177,客戶資料及選擇列印!$C$10:$C$409,0),1))","v":""}]
[null,null,null,null,null,null,null,{"$f":"SMALL(IF(核取結果=TRUE,ROW(序號)-9,9999),ROW(客戶資料及選擇列印!173:173))","v":9999},{"$f":"IF($H178=9999,\"\",OFFSET(客戶資料及選擇列印!$C$9,$H178,COLUMN(客戶資料及選擇列印!A:A),,))","v":""},{"$f":"IF(H178=9999,\"\",INDEX(客戶資料及選擇列印!$B$10:$B$409,MATCH(H178,客戶資料及選擇列印!$C$10:$C$409,0),1))","v":""}]
[null,null,null,null,null,null,null,{"$f":"SMALL(IF(核取結果=TRUE,ROW(序號)-9,9999),ROW(客戶資料及選擇列印!174:174))","v":9999},{"$f":"IF($H179=9999,\"\",OFFSET(客戶資料及選擇列印!$C$9,$H179,COLUMN(客戶資料及選擇列印!A:A),,))","v":""},{"$f":"IF(H179=9999,\"\",INDEX(客戶資料及選擇列印!$B$10:$B$409,MATCH(H179,客戶資料及選擇列印!$C$10:$C$409,0),1))","v":""}]
[null,null,null,null,null,null,null,{"$f":"SMALL(IF(核取結果=TRUE,ROW(序號)-9,9999),ROW(客戶資料及選擇列印!175:175))","v":9999},{"$f":"IF($H180=9999,\"\",OFFSET(客戶資料及選擇列印!$C$9,$H180,COLUMN(客戶資料及選擇列印!A:A),,))","v":""},{"$f":"IF(H180=9999,\"\",INDEX(客戶資料及選擇列印!$B$10:$B$409,MATCH(H180,客戶資料及選擇列印!$C$10:$C$409,0),1))","v":""}]
[null,null,null,null,null,null,null,{"$f":"SMALL(IF(核取結果=TRUE,ROW(序號)-9,9999),ROW(客戶資料及選擇列印!176:176))","v":9999},{"$f":"IF($H181=9999,\"\",OFFSET(客戶資料及選擇列印!$C$9,$H181,COLUMN(客戶資料及選擇列印!A:A),,))","v":""},{"$f":"IF(H181=9999,\"\",INDEX(客戶資料及選擇列印!$B$10:$B$409,MATCH(H181,客戶資料及選擇列印!$C$10:$C$409,0),1))","v":""}]
[null,null,null,null,null,null,null,{"$f":"SMALL(IF(核取結果=TRUE,ROW(序號)-9,9999),ROW(客戶資料及選擇列印!177:177))","v":9999},{"$f":"IF($H182=9999,\"\",OFFSET(客戶資料及選擇列印!$C$9,$H182,COLUMN(客戶資料及選擇列印!A:A),,))","v":""},{"$f":"IF(H182=9999,\"\",INDEX(客戶資料及選擇列印!$B$10:$B$409,MATCH(H182,客戶資料及選擇列印!$C$10:$C$409,0),1))","v":""}]
[null,null,null,null,null,null,null,{"$f":"SMALL(IF(核取結果=TRUE,ROW(序號)-9,9999),ROW(客戶資料及選擇列印!178:178))","v":9999},{"$f":"IF($H183=9999,\"\",OFFSET(客戶資料及選擇列印!$C$9,$H183,COLUMN(客戶資料及選擇列印!A:A),,))","v":""},{"$f":"IF(H183=9999,\"\",INDEX(客戶資料及選擇列印!$B$10:$B$409,MATCH(H183,客戶資料及選擇列印!$C$10:$C$409,0),1))","v":""}]
[null,null,null,null,null,null,null,{"$f":"SMALL(IF(核取結果=TRUE,ROW(序號)-9,9999),ROW(客戶資料及選擇列印!179:179))","v":9999},{"$f":"IF($H184=9999,\"\",OFFSET(客戶資料及選擇列印!$C$9,$H184,COLUMN(客戶資料及選擇列印!A:A),,))","v":""},{"$f":"IF(H184=9999,\"\",INDEX(客戶資料及選擇列印!$B$10:$B$409,MATCH(H184,客戶資料及選擇列印!$C$10:$C$409,0),1))","v":""}]
[null,null,null,null,null,null,null,{"$f":"SMALL(IF(核取結果=TRUE,ROW(序號)-9,9999),ROW(客戶資料及選擇列印!180:180))","v":9999},{"$f":"IF($H185=9999,\"\",OFFSET(客戶資料及選擇列印!$C$9,$H185,COLUMN(客戶資料及選擇列印!A:A),,))","v":""},{"$f":"IF(H185=9999,\"\",INDEX(客戶資料及選擇列印!$B$10:$B$409,MATCH(H185,客戶資料及選擇列印!$C$10:$C$409,0),1))","v":""}]
[null,null,null,null,null,null,null,{"$f":"SMALL(IF(核取結果=TRUE,ROW(序號)-9,9999),ROW(客戶資料及選擇列印!181:181))","v":9999},{"$f":"IF($H186=9999,\"\",OFFSET(客戶資料及選擇列印!$C$9,$H186,COLUMN(客戶資料及選擇列印!A:A),,))","v":""},{"$f":"IF(H186=9999,\"\",INDEX(客戶資料及選擇列印!$B$10:$B$409,MATCH(H186,客戶資料及選擇列印!$C$10:$C$409,0),1))","v":""}]
[null,null,null,null,null,null,null,{"$f":"SMALL(IF(核取結果=TRUE,ROW(序號)-9,9999),ROW(客戶資料及選擇列印!182:182))","v":9999},{"$f":"IF($H187=9999,\"\",OFFSET(客戶資料及選擇列印!$C$9,$H187,COLUMN(客戶資料及選擇列印!A:A),,))","v":""},{"$f":"IF(H187=9999,\"\",INDEX(客戶資料及選擇列印!$B$10:$B$409,MATCH(H187,客戶資料及選擇列印!$C$10:$C$409,0),1))","v":""}]
[null,null,null,null,null,null,null,{"$f":"SMALL(IF(核取結果=TRUE,ROW(序號)-9,9999),ROW(客戶資料及選擇列印!183:183))","v":9999},{"$f":"IF($H188=9999,\"\",OFFSET(客戶資料及選擇列印!$C$9,$H188,COLUMN(客戶資料及選擇列印!A:A),,))","v":""},{"$f":"IF(H188=9999,\"\",INDEX(客戶資料及選擇列印!$B$10:$B$409,MATCH(H188,客戶資料及選擇列印!$C$10:$C$409,0),1))","v":""}]
[null,null,null,null,null,null,null,{"$f":"SMALL(IF(核取結果=TRUE,ROW(序號)-9,9999),ROW(客戶資料及選擇列印!184:184))","v":9999},{"$f":"IF($H189=9999,\"\",OFFSET(客戶資料及選擇列印!$C$9,$H189,COLUMN(客戶資料及選擇列印!A:A),,))","v":""},{"$f":"IF(H189=9999,\"\",INDEX(客戶資料及選擇列印!$B$10:$B$409,MATCH(H189,客戶資料及選擇列印!$C$10:$C$409,0),1))","v":""}]
[null,null,null,null,null,null,null,{"$f":"SMALL(IF(核取結果=TRUE,ROW(序號)-9,9999),ROW(客戶資料及選擇列印!185:185))","v":9999},{"$f":"IF($H190=9999,\"\",OFFSET(客戶資料及選擇列印!$C$9,$H190,COLUMN(客戶資料及選擇列印!A:A),,))","v":""},{"$f":"IF(H190=9999,\"\",INDEX(客戶資料及選擇列印!$B$10:$B$409,MATCH(H190,客戶資料及選擇列印!$C$10:$C$409,0),1))","v":""}]
[null,null,null,null,null,null,null,{"$f":"SMALL(IF(核取結果=TRUE,ROW(序號)-9,9999),ROW(客戶資料及選擇列印!186:186))","v":9999},{"$f":"IF($H191=9999,\"\",OFFSET(客戶資料及選擇列印!$C$9,$H191,COLUMN(客戶資料及選擇列印!A:A),,))","v":""},{"$f":"IF(H191=9999,\"\",INDEX(客戶資料及選擇列印!$B$10:$B$409,MATCH(H191,客戶資料及選擇列印!$C$10:$C$409,0),1))","v":""}]
[null,null,null,null,null,null,null,{"$f":"SMALL(IF(核取結果=TRUE,ROW(序號)-9,9999),ROW(客戶資料及選擇列印!187:187))","v":9999},{"$f":"IF($H192=9999,\"\",OFFSET(客戶資料及選擇列印!$C$9,$H192,COLUMN(客戶資料及選擇列印!A:A),,))","v":""},{"$f":"IF(H192=9999,\"\",INDEX(客戶資料及選擇列印!$B$10:$B$409,MATCH(H192,客戶資料及選擇列印!$C$10:$C$409,0),1))","v":""}]
[null,null,null,null,null,null,null,{"$f":"SMALL(IF(核取結果=TRUE,ROW(序號)-9,9999),ROW(客戶資料及選擇列印!188:188))","v":9999},{"$f":"IF($H193=9999,\"\",OFFSET(客戶資料及選擇列印!$C$9,$H193,COLUMN(客戶資料及選擇列印!A:A),,))","v":""},{"$f":"IF(H193=9999,\"\",INDEX(客戶資料及選擇列印!$B$10:$B$409,MATCH(H193,客戶資料及選擇列印!$C$10:$C$409,0),1))","v":""}]
[null,null,null,null,null,null,null,{"$f":"SMALL(IF(核取結果=TRUE,ROW(序號)-9,9999),ROW(客戶資料及選擇列印!189:189))","v":9999},{"$f":"IF($H194=9999,\"\",OFFSET(客戶資料及選擇列印!$C$9,$H194,COLUMN(客戶資料及選擇列印!A:A),,))","v":""},{"$f":"IF(H194=9999,\"\",INDEX(客戶資料及選擇列印!$B$10:$B$409,MATCH(H194,客戶資料及選擇列印!$C$10:$C$409,0),1))","v":""}]
[null,null,null,null,null,null,null,{"$f":"SMALL(IF(核取結果=TRUE,ROW(序號)-9,9999),ROW(客戶資料及選擇列印!190:190))","v":9999},{"$f":"IF($H195=9999,\"\",OFFSET(客戶資料及選擇列印!$C$9,$H195,COLUMN(客戶資料及選擇列印!A:A),,))","v":""},{"$f":"IF(H195=9999,\"\",INDEX(客戶資料及選擇列印!$B$10:$B$409,MATCH(H195,客戶資料及選擇列印!$C$10:$C$409,0),1))","v":""}]
[null,null,null,null,null,null,null,{"$f":"SMALL(IF(核取結果=TRUE,ROW(序號)-9,9999),ROW(客戶資料及選擇列印!191:191))","v":9999},{"$f":"IF($H196=9999,\"\",OFFSET(客戶資料及選擇列印!$C$9,$H196,COLUMN(客戶資料及選擇列印!A:A),,))","v":""},{"$f":"IF(H196=9999,\"\",INDEX(客戶資料及選擇列印!$B$10:$B$409,MATCH(H196,客戶資料及選擇列印!$C$10:$C$409,0),1))","v":""}]
[null,null,null,null,null,null,null,{"$f":"SMALL(IF(核取結果=TRUE,ROW(序號)-9,9999),ROW(客戶資料及選擇列印!192:192))","v":9999},{"$f":"IF($H197=9999,\"\",OFFSET(客戶資料及選擇列印!$C$9,$H197,COLUMN(客戶資料及選擇列印!A:A),,))","v":""},{"$f":"IF(H197=9999,\"\",INDEX(客戶資料及選擇列印!$B$10:$B$409,MATCH(H197,客戶資料及選擇列印!$C$10:$C$409,0),1))","v":""}]
[null,null,null,null,null,null,null,{"$f":"SMALL(IF(核取結果=TRUE,ROW(序號)-9,9999),ROW(客戶資料及選擇列印!193:193))","v":9999},{"$f":"IF($H198=9999,\"\",OFFSET(客戶資料及選擇列印!$C$9,$H198,COLUMN(客戶資料及選擇列印!A:A),,))","v":""},{"$f":"IF(H198=9999,\"\",INDEX(客戶資料及選擇列印!$B$10:$B$409,MATCH(H198,客戶資料及選擇列印!$C$10:$C$409,0),1))","v":""}]
[null,null,null,null,null,null,null,{"$f":"SMALL(IF(核取結果=TRUE,ROW(序號)-9,9999),ROW(客戶資料及選擇列印!194:194))","v":9999},{"$f":"IF($H199=9999,\"\",OFFSET(客戶資料及選擇列印!$C$9,$H199,COLUMN(客戶資料及選擇列印!A:A),,))","v":""},{"$f":"IF(H199=9999,\"\",INDEX(客戶資料及選擇列印!$B$10:$B$409,MATCH(H199,客戶資料及選擇列印!$C$10:$C$409,0),1))","v":""}]
[null,null,null,null,null,null,null,{"$f":"SMALL(IF(核取結果=TRUE,ROW(序號)-9,9999),ROW(客戶資料及選擇列印!195:195))","v":9999},{"$f":"IF($H200=9999,\"\",OFFSET(客戶資料及選擇列印!$C$9,$H200,COLUMN(客戶資料及選擇列印!A:A),,))","v":""},{"$f":"IF(H200=9999,\"\",INDEX(客戶資料及選擇列印!$B$10:$B$409,MATCH(H200,客戶資料及選擇列印!$C$10:$C$409,0),1))","v":""}]
[null,null,null,null,null,null,null,{"$f":"SMALL(IF(核取結果=TRUE,ROW(序號)-9,9999),ROW(客戶資料及選擇列印!196:196))","v":9999},{"$f":"IF($H201=9999,\"\",OFFSET(客戶資料及選擇列印!$C$9,$H201,COLUMN(客戶資料及選擇列印!A:A),,))","v":""},{"$f":"IF(H201=9999,\"\",INDEX(客戶資料及選擇列印!$B$10:$B$409,MATCH(H201,客戶資料及選擇列印!$C$10:$C$409,0),1))","v":""}]
[null,null,null,null,null,null,null,{"$f":"SMALL(IF(核取結果=TRUE,ROW(序號)-9,9999),ROW(客戶資料及選擇列印!197:197))","v":9999},{"$f":"IF($H202=9999,\"\",OFFSET(客戶資料及選擇列印!$C$9,$H202,COLUMN(客戶資料及選擇列印!A:A),,))","v":""},{"$f":"IF(H202=9999,\"\",INDEX(客戶資料及選擇列印!$B$10:$B$409,MATCH(H202,客戶資料及選擇列印!$C$10:$C$409,0),1))","v":""}]
[null,null,null,null,null,null,null,{"$f":"SMALL(IF(核取結果=TRUE,ROW(序號)-9,9999),ROW(客戶資料及選擇列印!198:198))","v":9999},{"$f":"IF($H203=9999,\"\",OFFSET(客戶資料及選擇列印!$C$9,$H203,COLUMN(客戶資料及選擇列印!A:A),,))","v":""},{"$f":"IF(H203=9999,\"\",INDEX(客戶資料及選擇列印!$B$10:$B$409,MATCH(H203,客戶資料及選擇列印!$C$10:$C$409,0),1))","v":""}]
[null,null,null,null,null,null,null,{"$f":"SMALL(IF(核取結果=TRUE,ROW(序號)-9,9999),ROW(客戶資料及選擇列印!199:199))","v":9999},{"$f":"IF($H204=9999,\"\",OFFSET(客戶資料及選擇列印!$C$9,$H204,COLUMN(客戶資料及選擇列印!A:A),,))","v":""},{"$f":"IF(H204=9999,\"\",INDEX(客戶資料及選擇列印!$B$10:$B$409,MATCH(H204,客戶資料及選擇列印!$C$10:$C$409,0),1))","v":""}]
[null,null,null,null,null,null,null,{"$f":"SMALL(IF(核取結果=TRUE,ROW(序號)-9,9999),ROW(客戶資料及選擇列印!200:200))","v":9999},{"$f":"IF($H205=9999,\"\",OFFSET(客戶資料及選擇列印!$C$9,$H205,COLUMN(客戶資料及選擇列印!A:A),,))","v":""},{"$f":"IF(H205=9999,\"\",INDEX(客戶資料及選擇列印!$B$10:$B$409,MATCH(H205,客戶資料及選擇列印!$C$10:$C$409,0),1))","v":""}]
[null,null,null,null,null,null,null,{"$f":"SMALL(IF(核取結果=TRUE,ROW(序號)-9,9999),ROW(客戶資料及選擇列印!201:201))","v":9999},{"$f":"IF($H206=9999,\"\",OFFSET(客戶資料及選擇列印!$C$9,$H206,COLUMN(客戶資料及選擇列印!A:A),,))","v":""},{"$f":"IF(H206=9999,\"\",INDEX(客戶資料及選擇列印!$B$10:$B$409,MATCH(H206,客戶資料及選擇列印!$C$10:$C$409,0),1))","v":""}]
[null,null,null,null,null,null,null,{"$f":"SMALL(IF(核取結果=TRUE,ROW(序號)-9,9999),ROW(客戶資料及選擇列印!202:202))","v":9999},{"$f":"IF($H207=9999,\"\",OFFSET(客戶資料及選擇列印!$C$9,$H207,COLUMN(客戶資料及選擇列印!A:A),,))","v":""},{"$f":"IF(H207=9999,\"\",INDEX(客戶資料及選擇列印!$B$10:$B$409,MATCH(H207,客戶資料及選擇列印!$C$10:$C$409,0),1))","v":""}]
[null,null,null,null,null,null,null,{"$f":"SMALL(IF(核取結果=TRUE,ROW(序號)-9,9999),ROW(客戶資料及選擇列印!203:203))","v":9999},{"$f":"IF($H208=9999,\"\",OFFSET(客戶資料及選擇列印!$C$9,$H208,COLUMN(客戶資料及選擇列印!A:A),,))","v":""},{"$f":"IF(H208=9999,\"\",INDEX(客戶資料及選擇列印!$B$10:$B$409,MATCH(H208,客戶資料及選擇列印!$C$10:$C$409,0),1))","v":""}]
[null,null,null,null,null,null,null,{"$f":"SMALL(IF(核取結果=TRUE,ROW(序號)-9,9999),ROW(客戶資料及選擇列印!204:204))","v":9999},{"$f":"IF($H209=9999,\"\",OFFSET(客戶資料及選擇列印!$C$9,$H209,COLUMN(客戶資料及選擇列印!A:A),,))","v":""},{"$f":"IF(H209=9999,\"\",INDEX(客戶資料及選擇列印!$B$10:$B$409,MATCH(H209,客戶資料及選擇列印!$C$10:$C$409,0),1))","v":""}]
[null,null,null,null,null,null,null,{"$f":"SMALL(IF(核取結果=TRUE,ROW(序號)-9,9999),ROW(客戶資料及選擇列印!205:205))","v":9999},{"$f":"IF($H210=9999,\"\",OFFSET(客戶資料及選擇列印!$C$9,$H210,COLUMN(客戶資料及選擇列印!A:A),,))","v":""},{"$f":"IF(H210=9999,\"\",INDEX(客戶資料及選擇列印!$B$10:$B$409,MATCH(H210,客戶資料及選擇列印!$C$10:$C$409,0),1))","v":""}]
[null,null,null,null,null,null,null,{"$f":"SMALL(IF(核取結果=TRUE,ROW(序號)-9,9999),ROW(客戶資料及選擇列印!206:206))","v":9999},{"$f":"IF($H211=9999,\"\",OFFSET(客戶資料及選擇列印!$C$9,$H211,COLUMN(客戶資料及選擇列印!A:A),,))","v":""},{"$f":"IF(H211=9999,\"\",INDEX(客戶資料及選擇列印!$B$10:$B$409,MATCH(H211,客戶資料及選擇列印!$C$10:$C$409,0),1))","v":""}]
[null,null,null,null,null,null,null,{"$f":"SMALL(IF(核取結果=TRUE,ROW(序號)-9,9999),ROW(客戶資料及選擇列印!207:207))","v":9999},{"$f":"IF($H212=9999,\"\",OFFSET(客戶資料及選擇列印!$C$9,$H212,COLUMN(客戶資料及選擇列印!A:A),,))","v":""},{"$f":"IF(H212=9999,\"\",INDEX(客戶資料及選擇列印!$B$10:$B$409,MATCH(H212,客戶資料及選擇列印!$C$10:$C$409,0),1))","v":""}]
[null,null,null,null,null,null,null,{"$f":"SMALL(IF(核取結果=TRUE,ROW(序號)-9,9999),ROW(客戶資料及選擇列印!208:208))","v":9999},{"$f":"IF($H213=9999,\"\",OFFSET(客戶資料及選擇列印!$C$9,$H213,COLUMN(客戶資料及選擇列印!A:A),,))","v":""},{"$f":"IF(H213=9999,\"\",INDEX(客戶資料及選擇列印!$B$10:$B$409,MATCH(H213,客戶資料及選擇列印!$C$10:$C$409,0),1))","v":""}]
[null,null,null,null,null,null,null,{"$f":"SMALL(IF(核取結果=TRUE,ROW(序號)-9,9999),ROW(客戶資料及選擇列印!209:209))","v":9999},{"$f":"IF($H214=9999,\"\",OFFSET(客戶資料及選擇列印!$C$9,$H214,COLUMN(客戶資料及選擇列印!A:A),,))","v":""},{"$f":"IF(H214=9999,\"\",INDEX(客戶資料及選擇列印!$B$10:$B$409,MATCH(H214,客戶資料及選擇列印!$C$10:$C$409,0),1))","v":""}]
[null,null,null,null,null,null,null,{"$f":"SMALL(IF(核取結果=TRUE,ROW(序號)-9,9999),ROW(客戶資料及選擇列印!210:210))","v":9999},{"$f":"IF($H215=9999,\"\",OFFSET(客戶資料及選擇列印!$C$9,$H215,COLUMN(客戶資料及選擇列印!A:A),,))","v":""},{"$f":"IF(H215=9999,\"\",INDEX(客戶資料及選擇列印!$B$10:$B$409,MATCH(H215,客戶資料及選擇列印!$C$10:$C$409,0),1))","v":""}]
[null,null,null,null,null,null,null,{"$f":"SMALL(IF(核取結果=TRUE,ROW(序號)-9,9999),ROW(客戶資料及選擇列印!211:211))","v":9999},{"$f":"IF($H216=9999,\"\",OFFSET(客戶資料及選擇列印!$C$9,$H216,COLUMN(客戶資料及選擇列印!A:A),,))","v":""},{"$f":"IF(H216=9999,\"\",INDEX(客戶資料及選擇列印!$B$10:$B$409,MATCH(H216,客戶資料及選擇列印!$C$10:$C$409,0),1))","v":""}]
[null,null,null,null,null,null,null,{"$f":"SMALL(IF(核取結果=TRUE,ROW(序號)-9,9999),ROW(客戶資料及選擇列印!212:212))","v":9999},{"$f":"IF($H217=9999,\"\",OFFSET(客戶資料及選擇列印!$C$9,$H217,COLUMN(客戶資料及選擇列印!A:A),,))","v":""},{"$f":"IF(H217=9999,\"\",INDEX(客戶資料及選擇列印!$B$10:$B$409,MATCH(H217,客戶資料及選擇列印!$C$10:$C$409,0),1))","v":""}]
[null,null,null,null,null,null,null,{"$f":"SMALL(IF(核取結果=TRUE,ROW(序號)-9,9999),ROW(客戶資料及選擇列印!213:213))","v":9999},{"$f":"IF($H218=9999,\"\",OFFSET(客戶資料及選擇列印!$C$9,$H218,COLUMN(客戶資料及選擇列印!A:A),,))","v":""},{"$f":"IF(H218=9999,\"\",INDEX(客戶資料及選擇列印!$B$10:$B$409,MATCH(H218,客戶資料及選擇列印!$C$10:$C$409,0),1))","v":""}]
[null,null,null,null,null,null,null,{"$f":"SMALL(IF(核取結果=TRUE,ROW(序號)-9,9999),ROW(客戶資料及選擇列印!214:214))","v":9999},{"$f":"IF($H219=9999,\"\",OFFSET(客戶資料及選擇列印!$C$9,$H219,COLUMN(客戶資料及選擇列印!A:A),,))","v":""},{"$f":"IF(H219=9999,\"\",INDEX(客戶資料及選擇列印!$B$10:$B$409,MATCH(H219,客戶資料及選擇列印!$C$10:$C$409,0),1))","v":""}]
[null,null,null,null,null,null,null,{"$f":"SMALL(IF(核取結果=TRUE,ROW(序號)-9,9999),ROW(客戶資料及選擇列印!215:215))","v":9999},{"$f":"IF($H220=9999,\"\",OFFSET(客戶資料及選擇列印!$C$9,$H220,COLUMN(客戶資料及選擇列印!A:A),,))","v":""},{"$f":"IF(H220=9999,\"\",INDEX(客戶資料及選擇列印!$B$10:$B$409,MATCH(H220,客戶資料及選擇列印!$C$10:$C$409,0),1))","v":""}]
[null,null,null,null,null,null,null,{"$f":"SMALL(IF(核取結果=TRUE,ROW(序號)-9,9999),ROW(客戶資料及選擇列印!216:216))","v":9999},{"$f":"IF($H221=9999,\"\",OFFSET(客戶資料及選擇列印!$C$9,$H221,COLUMN(客戶資料及選擇列印!A:A),,))","v":""},{"$f":"IF(H221=9999,\"\",INDEX(客戶資料及選擇列印!$B$10:$B$409,MATCH(H221,客戶資料及選擇列印!$C$10:$C$409,0),1))","v":""}]
[null,null,null,null,null,null,null,{"$f":"SMALL(IF(核取結果=TRUE,ROW(序號)-9,9999),ROW(客戶資料及選擇列印!217:217))","v":9999},{"$f":"IF($H222=9999,\"\",OFFSET(客戶資料及選擇列印!$C$9,$H222,COLUMN(客戶資料及選擇列印!A:A),,))","v":""},{"$f":"IF(H222=9999,\"\",INDEX(客戶資料及選擇列印!$B$10:$B$409,MATCH(H222,客戶資料及選擇列印!$C$10:$C$409,0),1))","v":""}]
[null,null,null,null,null,null,null,{"$f":"SMALL(IF(核取結果=TRUE,ROW(序號)-9,9999),ROW(客戶資料及選擇列印!218:218))","v":9999},{"$f":"IF($H223=9999,\"\",OFFSET(客戶資料及選擇列印!$C$9,$H223,COLUMN(客戶資料及選擇列印!A:A),,))","v":""},{"$f":"IF(H223=9999,\"\",INDEX(客戶資料及選擇列印!$B$10:$B$409,MATCH(H223,客戶資料及選擇列印!$C$10:$C$409,0),1))","v":""}]
[null,null,null,null,null,null,null,{"$f":"SMALL(IF(核取結果=TRUE,ROW(序號)-9,9999),ROW(客戶資料及選擇列印!219:219))","v":9999},{"$f":"IF($H224=9999,\"\",OFFSET(客戶資料及選擇列印!$C$9,$H224,COLUMN(客戶資料及選擇列印!A:A),,))","v":""},{"$f":"IF(H224=9999,\"\",INDEX(客戶資料及選擇列印!$B$10:$B$409,MATCH(H224,客戶資料及選擇列印!$C$10:$C$409,0),1))","v":""}]
[null,null,null,null,null,null,null,{"$f":"SMALL(IF(核取結果=TRUE,ROW(序號)-9,9999),ROW(客戶資料及選擇列印!220:220))","v":9999},{"$f":"IF($H225=9999,\"\",OFFSET(客戶資料及選擇列印!$C$9,$H225,COLUMN(客戶資料及選擇列印!A:A),,))","v":""},{"$f":"IF(H225=9999,\"\",INDEX(客戶資料及選擇列印!$B$10:$B$409,MATCH(H225,客戶資料及選擇列印!$C$10:$C$409,0),1))","v":""}]
[null,null,null,null,null,null,null,{"$f":"SMALL(IF(核取結果=TRUE,ROW(序號)-9,9999),ROW(客戶資料及選擇列印!221:221))","v":9999},{"$f":"IF($H226=9999,\"\",OFFSET(客戶資料及選擇列印!$C$9,$H226,COLUMN(客戶資料及選擇列印!A:A),,))","v":""},{"$f":"IF(H226=9999,\"\",INDEX(客戶資料及選擇列印!$B$10:$B$409,MATCH(H226,客戶資料及選擇列印!$C$10:$C$409,0),1))","v":""}]
[null,null,null,null,null,null,null,{"$f":"SMALL(IF(核取結果=TRUE,ROW(序號)-9,9999),ROW(客戶資料及選擇列印!222:222))","v":9999},{"$f":"IF($H227=9999,\"\",OFFSET(客戶資料及選擇列印!$C$9,$H227,COLUMN(客戶資料及選擇列印!A:A),,))","v":""},{"$f":"IF(H227=9999,\"\",INDEX(客戶資料及選擇列印!$B$10:$B$409,MATCH(H227,客戶資料及選擇列印!$C$10:$C$409,0),1))","v":""}]
[null,null,null,null,null,null,null,{"$f":"SMALL(IF(核取結果=TRUE,ROW(序號)-9,9999),ROW(客戶資料及選擇列印!223:223))","v":9999},{"$f":"IF($H228=9999,\"\",OFFSET(客戶資料及選擇列印!$C$9,$H228,COLUMN(客戶資料及選擇列印!A:A),,))","v":""},{"$f":"IF(H228=9999,\"\",INDEX(客戶資料及選擇列印!$B$10:$B$409,MATCH(H228,客戶資料及選擇列印!$C$10:$C$409,0),1))","v":""}]
[null,null,null,null,null,null,null,{"$f":"SMALL(IF(核取結果=TRUE,ROW(序號)-9,9999),ROW(客戶資料及選擇列印!224:224))","v":9999},{"$f":"IF($H229=9999,\"\",OFFSET(客戶資料及選擇列印!$C$9,$H229,COLUMN(客戶資料及選擇列印!A:A),,))","v":""},{"$f":"IF(H229=9999,\"\",INDEX(客戶資料及選擇列印!$B$10:$B$409,MATCH(H229,客戶資料及選擇列印!$C$10:$C$409,0),1))","v":""}]
[null,null,null,null,null,null,null,{"$f":"SMALL(IF(核取結果=TRUE,ROW(序號)-9,9999),ROW(客戶資料及選擇列印!225:225))","v":9999},{"$f":"IF($H230=9999,\"\",OFFSET(客戶資料及選擇列印!$C$9,$H230,COLUMN(客戶資料及選擇列印!A:A),,))","v":""},{"$f":"IF(H230=9999,\"\",INDEX(客戶資料及選擇列印!$B$10:$B$409,MATCH(H230,客戶資料及選擇列印!$C$10:$C$409,0),1))","v":""}]
[null,null,null,null,null,null,null,{"$f":"SMALL(IF(核取結果=TRUE,ROW(序號)-9,9999),ROW(客戶資料及選擇列印!226:226))","v":9999},{"$f":"IF($H231=9999,\"\",OFFSET(客戶資料及選擇列印!$C$9,$H231,COLUMN(客戶資料及選擇列印!A:A),,))","v":""},{"$f":"IF(H231=9999,\"\",INDEX(客戶資料及選擇列印!$B$10:$B$409,MATCH(H231,客戶資料及選擇列印!$C$10:$C$409,0),1))","v":""}]
[null,null,null,null,null,null,null,{"$f":"SMALL(IF(核取結果=TRUE,ROW(序號)-9,9999),ROW(客戶資料及選擇列印!227:227))","v":9999},{"$f":"IF($H232=9999,\"\",OFFSET(客戶資料及選擇列印!$C$9,$H232,COLUMN(客戶資料及選擇列印!A:A),,))","v":""},{"$f":"IF(H232=9999,\"\",INDEX(客戶資料及選擇列印!$B$10:$B$409,MATCH(H232,客戶資料及選擇列印!$C$10:$C$409,0),1))","v":""}]
[null,null,null,null,null,null,null,{"$f":"SMALL(IF(核取結果=TRUE,ROW(序號)-9,9999),ROW(客戶資料及選擇列印!228:228))","v":9999},{"$f":"IF($H233=9999,\"\",OFFSET(客戶資料及選擇列印!$C$9,$H233,COLUMN(客戶資料及選擇列印!A:A),,))","v":""},{"$f":"IF(H233=9999,\"\",INDEX(客戶資料及選擇列印!$B$10:$B$409,MATCH(H233,客戶資料及選擇列印!$C$10:$C$409,0),1))","v":""}]
[null,null,null,null,null,null,null,{"$f":"SMALL(IF(核取結果=TRUE,ROW(序號)-9,9999),ROW(客戶資料及選擇列印!229:229))","v":9999},{"$f":"IF($H234=9999,\"\",OFFSET(客戶資料及選擇列印!$C$9,$H234,COLUMN(客戶資料及選擇列印!A:A),,))","v":""},{"$f":"IF(H234=9999,\"\",INDEX(客戶資料及選擇列印!$B$10:$B$409,MATCH(H234,客戶資料及選擇列印!$C$10:$C$409,0),1))","v":""}]
[null,null,null,null,null,null,null,{"$f":"SMALL(IF(核取結果=TRUE,ROW(序號)-9,9999),ROW(客戶資料及選擇列印!230:230))","v":9999},{"$f":"IF($H235=9999,\"\",OFFSET(客戶資料及選擇列印!$C$9,$H235,COLUMN(客戶資料及選擇列印!A:A),,))","v":""},{"$f":"IF(H235=9999,\"\",INDEX(客戶資料及選擇列印!$B$10:$B$409,MATCH(H235,客戶資料及選擇列印!$C$10:$C$409,0),1))","v":""}]
[null,null,null,null,null,null,null,{"$f":"SMALL(IF(核取結果=TRUE,ROW(序號)-9,9999),ROW(客戶資料及選擇列印!231:231))","v":9999},{"$f":"IF($H236=9999,\"\",OFFSET(客戶資料及選擇列印!$C$9,$H236,COLUMN(客戶資料及選擇列印!A:A),,))","v":""},{"$f":"IF(H236=9999,\"\",INDEX(客戶資料及選擇列印!$B$10:$B$409,MATCH(H236,客戶資料及選擇列印!$C$10:$C$409,0),1))","v":""}]
[null,null,null,null,null,null,null,{"$f":"SMALL(IF(核取結果=TRUE,ROW(序號)-9,9999),ROW(客戶資料及選擇列印!232:232))","v":9999},{"$f":"IF($H237=9999,\"\",OFFSET(客戶資料及選擇列印!$C$9,$H237,COLUMN(客戶資料及選擇列印!A:A),,))","v":""},{"$f":"IF(H237=9999,\"\",INDEX(客戶資料及選擇列印!$B$10:$B$409,MATCH(H237,客戶資料及選擇列印!$C$10:$C$409,0),1))","v":""}]
[null,null,null,null,null,null,null,{"$f":"SMALL(IF(核取結果=TRUE,ROW(序號)-9,9999),ROW(客戶資料及選擇列印!233:233))","v":9999},{"$f":"IF($H238=9999,\"\",OFFSET(客戶資料及選擇列印!$C$9,$H238,COLUMN(客戶資料及選擇列印!A:A),,))","v":""},{"$f":"IF(H238=9999,\"\",INDEX(客戶資料及選擇列印!$B$10:$B$409,MATCH(H238,客戶資料及選擇列印!$C$10:$C$409,0),1))","v":""}]
[null,null,null,null,null,null,null,{"$f":"SMALL(IF(核取結果=TRUE,ROW(序號)-9,9999),ROW(客戶資料及選擇列印!234:234))","v":9999},{"$f":"IF($H239=9999,\"\",OFFSET(客戶資料及選擇列印!$C$9,$H239,COLUMN(客戶資料及選擇列印!A:A),,))","v":""},{"$f":"IF(H239=9999,\"\",INDEX(客戶資料及選擇列印!$B$10:$B$409,MATCH(H239,客戶資料及選擇列印!$C$10:$C$409,0),1))","v":""}]
[null,null,null,null,null,null,null,{"$f":"SMALL(IF(核取結果=TRUE,ROW(序號)-9,9999),ROW(客戶資料及選擇列印!235:235))","v":9999},{"$f":"IF($H240=9999,\"\",OFFSET(客戶資料及選擇列印!$C$9,$H240,COLUMN(客戶資料及選擇列印!A:A),,))","v":""},{"$f":"IF(H240=9999,\"\",INDEX(客戶資料及選擇列印!$B$10:$B$409,MATCH(H240,客戶資料及選擇列印!$C$10:$C$409,0),1))","v":""}]
[null,null,null,null,null,null,null,{"$f":"SMALL(IF(核取結果=TRUE,ROW(序號)-9,9999),ROW(客戶資料及選擇列印!236:236))","v":9999},{"$f":"IF($H241=9999,\"\",OFFSET(客戶資料及選擇列印!$C$9,$H241,COLUMN(客戶資料及選擇列印!A:A),,))","v":""},{"$f":"IF(H241=9999,\"\",INDEX(客戶資料及選擇列印!$B$10:$B$409,MATCH(H241,客戶資料及選擇列印!$C$10:$C$409,0),1))","v":""}]
[null,null,null,null,null,null,null,{"$f":"SMALL(IF(核取結果=TRUE,ROW(序號)-9,9999),ROW(客戶資料及選擇列印!237:237))","v":9999},{"$f":"IF($H242=9999,\"\",OFFSET(客戶資料及選擇列印!$C$9,$H242,COLUMN(客戶資料及選擇列印!A:A),,))","v":""},{"$f":"IF(H242=9999,\"\",INDEX(客戶資料及選擇列印!$B$10:$B$409,MATCH(H242,客戶資料及選擇列印!$C$10:$C$409,0),1))","v":""}]
[null,null,null,null,null,null,null,{"$f":"SMALL(IF(核取結果=TRUE,ROW(序號)-9,9999),ROW(客戶資料及選擇列印!238:238))","v":9999},{"$f":"IF($H243=9999,\"\",OFFSET(客戶資料及選擇列印!$C$9,$H243,COLUMN(客戶資料及選擇列印!A:A),,))","v":""},{"$f":"IF(H243=9999,\"\",INDEX(客戶資料及選擇列印!$B$10:$B$409,MATCH(H243,客戶資料及選擇列印!$C$10:$C$409,0),1))","v":""}]
[null,null,null,null,null,null,null,{"$f":"SMALL(IF(核取結果=TRUE,ROW(序號)-9,9999),ROW(客戶資料及選擇列印!239:239))","v":9999},{"$f":"IF($H244=9999,\"\",OFFSET(客戶資料及選擇列印!$C$9,$H244,COLUMN(客戶資料及選擇列印!A:A),,))","v":""},{"$f":"IF(H244=9999,\"\",INDEX(客戶資料及選擇列印!$B$10:$B$409,MATCH(H244,客戶資料及選擇列印!$C$10:$C$409,0),1))","v":""}]
[null,null,null,null,null,null,null,{"$f":"SMALL(IF(核取結果=TRUE,ROW(序號)-9,9999),ROW(客戶資料及選擇列印!240:240))","v":9999},{"$f":"IF($H245=9999,\"\",OFFSET(客戶資料及選擇列印!$C$9,$H245,COLUMN(客戶資料及選擇列印!A:A),,))","v":""},{"$f":"IF(H245=9999,\"\",INDEX(客戶資料及選擇列印!$B$10:$B$409,MATCH(H245,客戶資料及選擇列印!$C$10:$C$409,0),1))","v":""}]
[null,null,null,null,null,null,null,{"$f":"SMALL(IF(核取結果=TRUE,ROW(序號)-9,9999),ROW(客戶資料及選擇列印!241:241))","v":9999},{"$f":"IF($H246=9999,\"\",OFFSET(客戶資料及選擇列印!$C$9,$H246,COLUMN(客戶資料及選擇列印!A:A),,))","v":""},{"$f":"IF(H246=9999,\"\",INDEX(客戶資料及選擇列印!$B$10:$B$409,MATCH(H246,客戶資料及選擇列印!$C$10:$C$409,0),1))","v":""}]
[null,null,null,null,null,null,null,{"$f":"SMALL(IF(核取結果=TRUE,ROW(序號)-9,9999),ROW(客戶資料及選擇列印!242:242))","v":9999},{"$f":"IF($H247=9999,\"\",OFFSET(客戶資料及選擇列印!$C$9,$H247,COLUMN(客戶資料及選擇列印!A:A),,))","v":""},{"$f":"IF(H247=9999,\"\",INDEX(客戶資料及選擇列印!$B$10:$B$409,MATCH(H247,客戶資料及選擇列印!$C$10:$C$409,0),1))","v":""}]
[null,null,null,null,null,null,null,{"$f":"SMALL(IF(核取結果=TRUE,ROW(序號)-9,9999),ROW(客戶資料及選擇列印!243:243))","v":9999},{"$f":"IF($H248=9999,\"\",OFFSET(客戶資料及選擇列印!$C$9,$H248,COLUMN(客戶資料及選擇列印!A:A),,))","v":""},{"$f":"IF(H248=9999,\"\",INDEX(客戶資料及選擇列印!$B$10:$B$409,MATCH(H248,客戶資料及選擇列印!$C$10:$C$409,0),1))","v":""}]
[null,null,null,null,null,null,null,{"$f":"SMALL(IF(核取結果=TRUE,ROW(序號)-9,9999),ROW(客戶資料及選擇列印!244:244))","v":9999},{"$f":"IF($H249=9999,\"\",OFFSET(客戶資料及選擇列印!$C$9,$H249,COLUMN(客戶資料及選擇列印!A:A),,))","v":""},{"$f":"IF(H249=9999,\"\",INDEX(客戶資料及選擇列印!$B$10:$B$409,MATCH(H249,客戶資料及選擇列印!$C$10:$C$409,0),1))","v":""}]
[null,null,null,null,null,null,null,{"$f":"SMALL(IF(核取結果=TRUE,ROW(序號)-9,9999),ROW(客戶資料及選擇列印!245:245))","v":9999},{"$f":"IF($H250=9999,\"\",OFFSET(客戶資料及選擇列印!$C$9,$H250,COLUMN(客戶資料及選擇列印!A:A),,))","v":""},{"$f":"IF(H250=9999,\"\",INDEX(客戶資料及選擇列印!$B$10:$B$409,MATCH(H250,客戶資料及選擇列印!$C$10:$C$409,0),1))","v":""}]
[null,null,null,null,null,null,null,{"$f":"SMALL(IF(核取結果=TRUE,ROW(序號)-9,9999),ROW(客戶資料及選擇列印!246:246))","v":9999},{"$f":"IF($H251=9999,\"\",OFFSET(客戶資料及選擇列印!$C$9,$H251,COLUMN(客戶資料及選擇列印!A:A),,))","v":""},{"$f":"IF(H251=9999,\"\",INDEX(客戶資料及選擇列印!$B$10:$B$409,MATCH(H251,客戶資料及選擇列印!$C$10:$C$409,0),1))","v":""}]
[null,null,null,null,null,null,null,{"$f":"SMALL(IF(核取結果=TRUE,ROW(序號)-9,9999),ROW(客戶資料及選擇列印!247:247))","v":9999},{"$f":"IF($H252=9999,\"\",OFFSET(客戶資料及選擇列印!$C$9,$H252,COLUMN(客戶資料及選擇列印!A:A),,))","v":""},{"$f":"IF(H252=9999,\"\",INDEX(客戶資料及選擇列印!$B$10:$B$409,MATCH(H252,客戶資料及選擇列印!$C$10:$C$409,0),1))","v":""}]
[null,null,null,null,null,null,null,{"$f":"SMALL(IF(核取結果=TRUE,ROW(序號)-9,9999),ROW(客戶資料及選擇列印!248:248))","v":9999},{"$f":"IF($H253=9999,\"\",OFFSET(客戶資料及選擇列印!$C$9,$H253,COLUMN(客戶資料及選擇列印!A:A),,))","v":""},{"$f":"IF(H253=9999,\"\",INDEX(客戶資料及選擇列印!$B$10:$B$409,MATCH(H253,客戶資料及選擇列印!$C$10:$C$409,0),1))","v":""}]
[null,null,null,null,null,null,null,{"$f":"SMALL(IF(核取結果=TRUE,ROW(序號)-9,9999),ROW(客戶資料及選擇列印!249:249))","v":9999},{"$f":"IF($H254=9999,\"\",OFFSET(客戶資料及選擇列印!$C$9,$H254,COLUMN(客戶資料及選擇列印!A:A),,))","v":""},{"$f":"IF(H254=9999,\"\",INDEX(客戶資料及選擇列印!$B$10:$B$409,MATCH(H254,客戶資料及選擇列印!$C$10:$C$409,0),1))","v":""}]
[null,null,null,null,null,null,null,{"$f":"SMALL(IF(核取結果=TRUE,ROW(序號)-9,9999),ROW(客戶資料及選擇列印!250:250))","v":9999},{"$f":"IF($H255=9999,\"\",OFFSET(客戶資料及選擇列印!$C$9,$H255,COLUMN(客戶資料及選擇列印!A:A),,))","v":""},{"$f":"IF(H255=9999,\"\",INDEX(客戶資料及選擇列印!$B$10:$B$409,MATCH(H255,客戶資料及選擇列印!$C$10:$C$409,0),1))","v":""}]
[null,null,null,null,null,null,null,{"$f":"SMALL(IF(核取結果=TRUE,ROW(序號)-9,9999),ROW(客戶資料及選擇列印!251:251))","v":9999},{"$f":"IF($H256=9999,\"\",OFFSET(客戶資料及選擇列印!$C$9,$H256,COLUMN(客戶資料及選擇列印!A:A),,))","v":""},{"$f":"IF(H256=9999,\"\",INDEX(客戶資料及選擇列印!$B$10:$B$409,MATCH(H256,客戶資料及選擇列印!$C$10:$C$409,0),1))","v":""}]
[null,null,null,null,null,null,null,{"$f":"SMALL(IF(核取結果=TRUE,ROW(序號)-9,9999),ROW(客戶資料及選擇列印!252:252))","v":9999},{"$f":"IF($H257=9999,\"\",OFFSET(客戶資料及選擇列印!$C$9,$H257,COLUMN(客戶資料及選擇列印!A:A),,))","v":""},{"$f":"IF(H257=9999,\"\",INDEX(客戶資料及選擇列印!$B$10:$B$409,MATCH(H257,客戶資料及選擇列印!$C$10:$C$409,0),1))","v":""}]
[null,null,null,null,null,null,null,{"$f":"SMALL(IF(核取結果=TRUE,ROW(序號)-9,9999),ROW(客戶資料及選擇列印!253:253))","v":9999},{"$f":"IF($H258=9999,\"\",OFFSET(客戶資料及選擇列印!$C$9,$H258,COLUMN(客戶資料及選擇列印!A:A),,))","v":""},{"$f":"IF(H258=9999,\"\",INDEX(客戶資料及選擇列印!$B$10:$B$409,MATCH(H258,客戶資料及選擇列印!$C$10:$C$409,0),1))","v":""}]
[null,null,null,null,null,null,null,{"$f":"SMALL(IF(核取結果=TRUE,ROW(序號)-9,9999),ROW(客戶資料及選擇列印!254:254))","v":9999},{"$f":"IF($H259=9999,\"\",OFFSET(客戶資料及選擇列印!$C$9,$H259,COLUMN(客戶資料及選擇列印!A:A),,))","v":""},{"$f":"IF(H259=9999,\"\",INDEX(客戶資料及選擇列印!$B$10:$B$409,MATCH(H259,客戶資料及選擇列印!$C$10:$C$409,0),1))","v":""}]
[null,null,null,null,null,null,null,{"$f":"SMALL(IF(核取結果=TRUE,ROW(序號)-9,9999),ROW(客戶資料及選擇列印!255:255))","v":9999},{"$f":"IF($H260=9999,\"\",OFFSET(客戶資料及選擇列印!$C$9,$H260,COLUMN(客戶資料及選擇列印!A:A),,))","v":""},{"$f":"IF(H260=9999,\"\",INDEX(客戶資料及選擇列印!$B$10:$B$409,MATCH(H260,客戶資料及選擇列印!$C$10:$C$409,0),1))","v":""}]
[null,null,null,null,null,null,null,{"$f":"SMALL(IF(核取結果=TRUE,ROW(序號)-9,9999),ROW(客戶資料及選擇列印!256:256))","v":9999},{"$f":"IF($H261=9999,\"\",OFFSET(客戶資料及選擇列印!$C$9,$H261,COLUMN(客戶資料及選擇列印!A:A),,))","v":""},{"$f":"IF(H261=9999,\"\",INDEX(客戶資料及選擇列印!$B$10:$B$409,MATCH(H261,客戶資料及選擇列印!$C$10:$C$409,0),1))","v":""}]
[null,null,null,null,null,null,null,{"$f":"SMALL(IF(核取結果=TRUE,ROW(序號)-9,9999),ROW(客戶資料及選擇列印!257:257))","v":9999},{"$f":"IF($H262=9999,\"\",OFFSET(客戶資料及選擇列印!$C$9,$H262,COLUMN(客戶資料及選擇列印!A:A),,))","v":""},{"$f":"IF(H262=9999,\"\",INDEX(客戶資料及選擇列印!$B$10:$B$409,MATCH(H262,客戶資料及選擇列印!$C$10:$C$409,0),1))","v":""}]
[null,null,null,null,null,null,null,{"$f":"SMALL(IF(核取結果=TRUE,ROW(序號)-9,9999),ROW(客戶資料及選擇列印!258:258))","v":9999},{"$f":"IF($H263=9999,\"\",OFFSET(客戶資料及選擇列印!$C$9,$H263,COLUMN(客戶資料及選擇列印!A:A),,))","v":""},{"$f":"IF(H263=9999,\"\",INDEX(客戶資料及選擇列印!$B$10:$B$409,MATCH(H263,客戶資料及選擇列印!$C$10:$C$409,0),1))","v":""}]
[null,null,null,null,null,null,null,{"$f":"SMALL(IF(核取結果=TRUE,ROW(序號)-9,9999),ROW(客戶資料及選擇列印!259:259))","v":9999},{"$f":"IF($H264=9999,\"\",OFFSET(客戶資料及選擇列印!$C$9,$H264,COLUMN(客戶資料及選擇列印!A:A),,))","v":""},{"$f":"IF(H264=9999,\"\",INDEX(客戶資料及選擇列印!$B$10:$B$409,MATCH(H264,客戶資料及選擇列印!$C$10:$C$409,0),1))","v":""}]
[null,null,null,null,null,null,null,{"$f":"SMALL(IF(核取結果=TRUE,ROW(序號)-9,9999),ROW(客戶資料及選擇列印!260:260))","v":9999},{"$f":"IF($H265=9999,\"\",OFFSET(客戶資料及選擇列印!$C$9,$H265,COLUMN(客戶資料及選擇列印!A:A),,))","v":""},{"$f":"IF(H265=9999,\"\",INDEX(客戶資料及選擇列印!$B$10:$B$409,MATCH(H265,客戶資料及選擇列印!$C$10:$C$409,0),1))","v":""}]
[null,null,null,null,null,null,null,{"$f":"SMALL(IF(核取結果=TRUE,ROW(序號)-9,9999),ROW(客戶資料及選擇列印!261:261))","v":9999},{"$f":"IF($H266=9999,\"\",OFFSET(客戶資料及選擇列印!$C$9,$H266,COLUMN(客戶資料及選擇列印!A:A),,))","v":""},{"$f":"IF(H266=9999,\"\",INDEX(客戶資料及選擇列印!$B$10:$B$409,MATCH(H266,客戶資料及選擇列印!$C$10:$C$409,0),1))","v":""}]
[null,null,null,null,null,null,null,{"$f":"SMALL(IF(核取結果=TRUE,ROW(序號)-9,9999),ROW(客戶資料及選擇列印!262:262))","v":9999},{"$f":"IF($H267=9999,\"\",OFFSET(客戶資料及選擇列印!$C$9,$H267,COLUMN(客戶資料及選擇列印!A:A),,))","v":""},{"$f":"IF(H267=9999,\"\",INDEX(客戶資料及選擇列印!$B$10:$B$409,MATCH(H267,客戶資料及選擇列印!$C$10:$C$409,0),1))","v":""}]
[null,null,null,null,null,null,null,{"$f":"SMALL(IF(核取結果=TRUE,ROW(序號)-9,9999),ROW(客戶資料及選擇列印!263:263))","v":9999},{"$f":"IF($H268=9999,\"\",OFFSET(客戶資料及選擇列印!$C$9,$H268,COLUMN(客戶資料及選擇列印!A:A),,))","v":""},{"$f":"IF(H268=9999,\"\",INDEX(客戶資料及選擇列印!$B$10:$B$409,MATCH(H268,客戶資料及選擇列印!$C$10:$C$409,0),1))","v":""}]
[null,null,null,null,null,null,null,{"$f":"SMALL(IF(核取結果=TRUE,ROW(序號)-9,9999),ROW(客戶資料及選擇列印!264:264))","v":9999},{"$f":"IF($H269=9999,\"\",OFFSET(客戶資料及選擇列印!$C$9,$H269,COLUMN(客戶資料及選擇列印!A:A),,))","v":""},{"$f":"IF(H269=9999,\"\",INDEX(客戶資料及選擇列印!$B$10:$B$409,MATCH(H269,客戶資料及選擇列印!$C$10:$C$409,0),1))","v":""}]
[null,null,null,null,null,null,null,{"$f":"SMALL(IF(核取結果=TRUE,ROW(序號)-9,9999),ROW(客戶資料及選擇列印!265:265))","v":9999},{"$f":"IF($H270=9999,\"\",OFFSET(客戶資料及選擇列印!$C$9,$H270,COLUMN(客戶資料及選擇列印!A:A),,))","v":""},{"$f":"IF(H270=9999,\"\",INDEX(客戶資料及選擇列印!$B$10:$B$409,MATCH(H270,客戶資料及選擇列印!$C$10:$C$409,0),1))","v":""}]
[null,null,null,null,null,null,null,{"$f":"SMALL(IF(核取結果=TRUE,ROW(序號)-9,9999),ROW(客戶資料及選擇列印!266:266))","v":9999},{"$f":"IF($H271=9999,\"\",OFFSET(客戶資料及選擇列印!$C$9,$H271,COLUMN(客戶資料及選擇列印!A:A),,))","v":""},{"$f":"IF(H271=9999,\"\",INDEX(客戶資料及選擇列印!$B$10:$B$409,MATCH(H271,客戶資料及選擇列印!$C$10:$C$409,0),1))","v":""}]
[null,null,null,null,null,null,null,{"$f":"SMALL(IF(核取結果=TRUE,ROW(序號)-9,9999),ROW(客戶資料及選擇列印!267:267))","v":9999},{"$f":"IF($H272=9999,\"\",OFFSET(客戶資料及選擇列印!$C$9,$H272,COLUMN(客戶資料及選擇列印!A:A),,))","v":""},{"$f":"IF(H272=9999,\"\",INDEX(客戶資料及選擇列印!$B$10:$B$409,MATCH(H272,客戶資料及選擇列印!$C$10:$C$409,0),1))","v":""}]
[null,null,null,null,null,null,null,{"$f":"SMALL(IF(核取結果=TRUE,ROW(序號)-9,9999),ROW(客戶資料及選擇列印!268:268))","v":9999},{"$f":"IF($H273=9999,\"\",OFFSET(客戶資料及選擇列印!$C$9,$H273,COLUMN(客戶資料及選擇列印!A:A),,))","v":""},{"$f":"IF(H273=9999,\"\",INDEX(客戶資料及選擇列印!$B$10:$B$409,MATCH(H273,客戶資料及選擇列印!$C$10:$C$409,0),1))","v":""}]
[null,null,null,null,null,null,null,{"$f":"SMALL(IF(核取結果=TRUE,ROW(序號)-9,9999),ROW(客戶資料及選擇列印!269:269))","v":9999},{"$f":"IF($H274=9999,\"\",OFFSET(客戶資料及選擇列印!$C$9,$H274,COLUMN(客戶資料及選擇列印!A:A),,))","v":""},{"$f":"IF(H274=9999,\"\",INDEX(客戶資料及選擇列印!$B$10:$B$409,MATCH(H274,客戶資料及選擇列印!$C$10:$C$409,0),1))","v":""}]
[null,null,null,null,null,null,null,{"$f":"SMALL(IF(核取結果=TRUE,ROW(序號)-9,9999),ROW(客戶資料及選擇列印!270:270))","v":9999},{"$f":"IF($H275=9999,\"\",OFFSET(客戶資料及選擇列印!$C$9,$H275,COLUMN(客戶資料及選擇列印!A:A),,))","v":""},{"$f":"IF(H275=9999,\"\",INDEX(客戶資料及選擇列印!$B$10:$B$409,MATCH(H275,客戶資料及選擇列印!$C$10:$C$409,0),1))","v":""}]
[null,null,null,null,null,null,null,{"$f":"SMALL(IF(核取結果=TRUE,ROW(序號)-9,9999),ROW(客戶資料及選擇列印!271:271))","v":9999},{"$f":"IF($H276=9999,\"\",OFFSET(客戶資料及選擇列印!$C$9,$H276,COLUMN(客戶資料及選擇列印!A:A),,))","v":""},{"$f":"IF(H276=9999,\"\",INDEX(客戶資料及選擇列印!$B$10:$B$409,MATCH(H276,客戶資料及選擇列印!$C$10:$C$409,0),1))","v":""}]
[null,null,null,null,null,null,null,{"$f":"SMALL(IF(核取結果=TRUE,ROW(序號)-9,9999),ROW(客戶資料及選擇列印!272:272))","v":9999},{"$f":"IF($H277=9999,\"\",OFFSET(客戶資料及選擇列印!$C$9,$H277,COLUMN(客戶資料及選擇列印!A:A),,))","v":""},{"$f":"IF(H277=9999,\"\",INDEX(客戶資料及選擇列印!$B$10:$B$409,MATCH(H277,客戶資料及選擇列印!$C$10:$C$409,0),1))","v":""}]
[null,null,null,null,null,null,null,{"$f":"SMALL(IF(核取結果=TRUE,ROW(序號)-9,9999),ROW(客戶資料及選擇列印!273:273))","v":9999},{"$f":"IF($H278=9999,\"\",OFFSET(客戶資料及選擇列印!$C$9,$H278,COLUMN(客戶資料及選擇列印!A:A),,))","v":""},{"$f":"IF(H278=9999,\"\",INDEX(客戶資料及選擇列印!$B$10:$B$409,MATCH(H278,客戶資料及選擇列印!$C$10:$C$409,0),1))","v":""}]
[null,null,null,null,null,null,null,{"$f":"SMALL(IF(核取結果=TRUE,ROW(序號)-9,9999),ROW(客戶資料及選擇列印!274:274))","v":9999},{"$f":"IF($H279=9999,\"\",OFFSET(客戶資料及選擇列印!$C$9,$H279,COLUMN(客戶資料及選擇列印!A:A),,))","v":""},{"$f":"IF(H279=9999,\"\",INDEX(客戶資料及選擇列印!$B$10:$B$409,MATCH(H279,客戶資料及選擇列印!$C$10:$C$409,0),1))","v":""}]
[null,null,null,null,null,null,null,{"$f":"SMALL(IF(核取結果=TRUE,ROW(序號)-9,9999),ROW(客戶資料及選擇列印!275:275))","v":9999},{"$f":"IF($H280=9999,\"\",OFFSET(客戶資料及選擇列印!$C$9,$H280,COLUMN(客戶資料及選擇列印!A:A),,))","v":""},{"$f":"IF(H280=9999,\"\",INDEX(客戶資料及選擇列印!$B$10:$B$409,MATCH(H280,客戶資料及選擇列印!$C$10:$C$409,0),1))","v":""}]
[null,null,null,null,null,null,null,{"$f":"SMALL(IF(核取結果=TRUE,ROW(序號)-9,9999),ROW(客戶資料及選擇列印!276:276))","v":9999},{"$f":"IF($H281=9999,\"\",OFFSET(客戶資料及選擇列印!$C$9,$H281,COLUMN(客戶資料及選擇列印!A:A),,))","v":""},{"$f":"IF(H281=9999,\"\",INDEX(客戶資料及選擇列印!$B$10:$B$409,MATCH(H281,客戶資料及選擇列印!$C$10:$C$409,0),1))","v":""}]
[null,null,null,null,null,null,null,{"$f":"SMALL(IF(核取結果=TRUE,ROW(序號)-9,9999),ROW(客戶資料及選擇列印!277:277))","v":9999},{"$f":"IF($H282=9999,\"\",OFFSET(客戶資料及選擇列印!$C$9,$H282,COLUMN(客戶資料及選擇列印!A:A),,))","v":""},{"$f":"IF(H282=9999,\"\",INDEX(客戶資料及選擇列印!$B$10:$B$409,MATCH(H282,客戶資料及選擇列印!$C$10:$C$409,0),1))","v":""}]
[null,null,null,null,null,null,null,{"$f":"SMALL(IF(核取結果=TRUE,ROW(序號)-9,9999),ROW(客戶資料及選擇列印!278:278))","v":9999},{"$f":"IF($H283=9999,\"\",OFFSET(客戶資料及選擇列印!$C$9,$H283,COLUMN(客戶資料及選擇列印!A:A),,))","v":""},{"$f":"IF(H283=9999,\"\",INDEX(客戶資料及選擇列印!$B$10:$B$409,MATCH(H283,客戶資料及選擇列印!$C$10:$C$409,0),1))","v":""}]
[null,null,null,null,null,null,null,{"$f":"SMALL(IF(核取結果=TRUE,ROW(序號)-9,9999),ROW(客戶資料及選擇列印!279:279))","v":9999},{"$f":"IF($H284=9999,\"\",OFFSET(客戶資料及選擇列印!$C$9,$H284,COLUMN(客戶資料及選擇列印!A:A),,))","v":""},{"$f":"IF(H284=9999,\"\",INDEX(客戶資料及選擇列印!$B$10:$B$409,MATCH(H284,客戶資料及選擇列印!$C$10:$C$409,0),1))","v":""}]
[null,null,null,null,null,null,null,{"$f":"SMALL(IF(核取結果=TRUE,ROW(序號)-9,9999),ROW(客戶資料及選擇列印!280:280))","v":9999},{"$f":"IF($H285=9999,\"\",OFFSET(客戶資料及選擇列印!$C$9,$H285,COLUMN(客戶資料及選擇列印!A:A),,))","v":""},{"$f":"IF(H285=9999,\"\",INDEX(客戶資料及選擇列印!$B$10:$B$409,MATCH(H285,客戶資料及選擇列印!$C$10:$C$409,0),1))","v":""}]
[null,null,null,null,null,null,null,{"$f":"SMALL(IF(核取結果=TRUE,ROW(序號)-9,9999),ROW(客戶資料及選擇列印!281:281))","v":9999},{"$f":"IF($H286=9999,\"\",OFFSET(客戶資料及選擇列印!$C$9,$H286,COLUMN(客戶資料及選擇列印!A:A),,))","v":""},{"$f":"IF(H286=9999,\"\",INDEX(客戶資料及選擇列印!$B$10:$B$409,MATCH(H286,客戶資料及選擇列印!$C$10:$C$409,0),1))","v":""}]
[null,null,null,null,null,null,null,{"$f":"SMALL(IF(核取結果=TRUE,ROW(序號)-9,9999),ROW(客戶資料及選擇列印!282:282))","v":9999},{"$f":"IF($H287=9999,\"\",OFFSET(客戶資料及選擇列印!$C$9,$H287,COLUMN(客戶資料及選擇列印!A:A),,))","v":""},{"$f":"IF(H287=9999,\"\",INDEX(客戶資料及選擇列印!$B$10:$B$409,MATCH(H287,客戶資料及選擇列印!$C$10:$C$409,0),1))","v":""}]
[null,null,null,null,null,null,null,{"$f":"SMALL(IF(核取結果=TRUE,ROW(序號)-9,9999),ROW(客戶資料及選擇列印!283:283))","v":9999},{"$f":"IF($H288=9999,\"\",OFFSET(客戶資料及選擇列印!$C$9,$H288,COLUMN(客戶資料及選擇列印!A:A),,))","v":""},{"$f":"IF(H288=9999,\"\",INDEX(客戶資料及選擇列印!$B$10:$B$409,MATCH(H288,客戶資料及選擇列印!$C$10:$C$409,0),1))","v":""}]
[null,null,null,null,null,null,null,{"$f":"SMALL(IF(核取結果=TRUE,ROW(序號)-9,9999),ROW(客戶資料及選擇列印!284:284))","v":9999},{"$f":"IF($H289=9999,\"\",OFFSET(客戶資料及選擇列印!$C$9,$H289,COLUMN(客戶資料及選擇列印!A:A),,))","v":""},{"$f":"IF(H289=9999,\"\",INDEX(客戶資料及選擇列印!$B$10:$B$409,MATCH(H289,客戶資料及選擇列印!$C$10:$C$409,0),1))","v":""}]
[null,null,null,null,null,null,null,{"$f":"SMALL(IF(核取結果=TRUE,ROW(序號)-9,9999),ROW(客戶資料及選擇列印!285:285))","v":9999},{"$f":"IF($H290=9999,\"\",OFFSET(客戶資料及選擇列印!$C$9,$H290,COLUMN(客戶資料及選擇列印!A:A),,))","v":""},{"$f":"IF(H290=9999,\"\",INDEX(客戶資料及選擇列印!$B$10:$B$409,MATCH(H290,客戶資料及選擇列印!$C$10:$C$409,0),1))","v":""}]
[null,null,null,null,null,null,null,{"$f":"SMALL(IF(核取結果=TRUE,ROW(序號)-9,9999),ROW(客戶資料及選擇列印!286:286))","v":9999},{"$f":"IF($H291=9999,\"\",OFFSET(客戶資料及選擇列印!$C$9,$H291,COLUMN(客戶資料及選擇列印!A:A),,))","v":""},{"$f":"IF(H291=9999,\"\",INDEX(客戶資料及選擇列印!$B$10:$B$409,MATCH(H291,客戶資料及選擇列印!$C$10:$C$409,0),1))","v":""}]
[null,null,null,null,null,null,null,{"$f":"SMALL(IF(核取結果=TRUE,ROW(序號)-9,9999),ROW(客戶資料及選擇列印!287:287))","v":9999},{"$f":"IF($H292=9999,\"\",OFFSET(客戶資料及選擇列印!$C$9,$H292,COLUMN(客戶資料及選擇列印!A:A),,))","v":""},{"$f":"IF(H292=9999,\"\",INDEX(客戶資料及選擇列印!$B$10:$B$409,MATCH(H292,客戶資料及選擇列印!$C$10:$C$409,0),1))","v":""}]
[null,null,null,null,null,null,null,{"$f":"SMALL(IF(核取結果=TRUE,ROW(序號)-9,9999),ROW(客戶資料及選擇列印!288:288))","v":9999},{"$f":"IF($H293=9999,\"\",OFFSET(客戶資料及選擇列印!$C$9,$H293,COLUMN(客戶資料及選擇列印!A:A),,))","v":""},{"$f":"IF(H293=9999,\"\",INDEX(客戶資料及選擇列印!$B$10:$B$409,MATCH(H293,客戶資料及選擇列印!$C$10:$C$409,0),1))","v":""}]
[null,null,null,null,null,null,null,{"$f":"SMALL(IF(核取結果=TRUE,ROW(序號)-9,9999),ROW(客戶資料及選擇列印!289:289))","v":9999},{"$f":"IF($H294=9999,\"\",OFFSET(客戶資料及選擇列印!$C$9,$H294,COLUMN(客戶資料及選擇列印!A:A),,))","v":""},{"$f":"IF(H294=9999,\"\",INDEX(客戶資料及選擇列印!$B$10:$B$409,MATCH(H294,客戶資料及選擇列印!$C$10:$C$409,0),1))","v":""}]
[null,null,null,null,null,null,null,{"$f":"SMALL(IF(核取結果=TRUE,ROW(序號)-9,9999),ROW(客戶資料及選擇列印!290:290))","v":9999},{"$f":"IF($H295=9999,\"\",OFFSET(客戶資料及選擇列印!$C$9,$H295,COLUMN(客戶資料及選擇列印!A:A),,))","v":""},{"$f":"IF(H295=9999,\"\",INDEX(客戶資料及選擇列印!$B$10:$B$409,MATCH(H295,客戶資料及選擇列印!$C$10:$C$409,0),1))","v":""}]
[null,null,null,null,null,null,null,{"$f":"SMALL(IF(核取結果=TRUE,ROW(序號)-9,9999),ROW(客戶資料及選擇列印!291:291))","v":9999},{"$f":"IF($H296=9999,\"\",OFFSET(客戶資料及選擇列印!$C$9,$H296,COLUMN(客戶資料及選擇列印!A:A),,))","v":""},{"$f":"IF(H296=9999,\"\",INDEX(客戶資料及選擇列印!$B$10:$B$409,MATCH(H296,客戶資料及選擇列印!$C$10:$C$409,0),1))","v":""}]
[null,null,null,null,null,null,null,{"$f":"SMALL(IF(核取結果=TRUE,ROW(序號)-9,9999),ROW(客戶資料及選擇列印!292:292))","v":9999},{"$f":"IF($H297=9999,\"\",OFFSET(客戶資料及選擇列印!$C$9,$H297,COLUMN(客戶資料及選擇列印!A:A),,))","v":""},{"$f":"IF(H297=9999,\"\",INDEX(客戶資料及選擇列印!$B$10:$B$409,MATCH(H297,客戶資料及選擇列印!$C$10:$C$409,0),1))","v":""}]
[null,null,null,null,null,null,null,{"$f":"SMALL(IF(核取結果=TRUE,ROW(序號)-9,9999),ROW(客戶資料及選擇列印!293:293))","v":9999},{"$f":"IF($H298=9999,\"\",OFFSET(客戶資料及選擇列印!$C$9,$H298,COLUMN(客戶資料及選擇列印!A:A),,))","v":""},{"$f":"IF(H298=9999,\"\",INDEX(客戶資料及選擇列印!$B$10:$B$409,MATCH(H298,客戶資料及選擇列印!$C$10:$C$409,0),1))","v":""}]
[null,null,null,null,null,null,null,{"$f":"SMALL(IF(核取結果=TRUE,ROW(序號)-9,9999),ROW(客戶資料及選擇列印!294:294))","v":9999},{"$f":"IF($H299=9999,\"\",OFFSET(客戶資料及選擇列印!$C$9,$H299,COLUMN(客戶資料及選擇列印!A:A),,))","v":""},{"$f":"IF(H299=9999,\"\",INDEX(客戶資料及選擇列印!$B$10:$B$409,MATCH(H299,客戶資料及選擇列印!$C$10:$C$409,0),1))","v":""}]
[null,null,null,null,null,null,null,{"$f":"SMALL(IF(核取結果=TRUE,ROW(序號)-9,9999),ROW(客戶資料及選擇列印!295:295))","v":9999},{"$f":"IF($H300=9999,\"\",OFFSET(客戶資料及選擇列印!$C$9,$H300,COLUMN(客戶資料及選擇列印!A:A),,))","v":""},{"$f":"IF(H300=9999,\"\",INDEX(客戶資料及選擇列印!$B$10:$B$409,MATCH(H300,客戶資料及選擇列印!$C$10:$C$409,0),1))","v":""}]
[null,null,null,null,null,null,null,{"$f":"SMALL(IF(核取結果=TRUE,ROW(序號)-9,9999),ROW(客戶資料及選擇列印!296:296))","v":9999},{"$f":"IF($H301=9999,\"\",OFFSET(客戶資料及選擇列印!$C$9,$H301,COLUMN(客戶資料及選擇列印!A:A),,))","v":""},{"$f":"IF(H301=9999,\"\",INDEX(客戶資料及選擇列印!$B$10:$B$409,MATCH(H301,客戶資料及選擇列印!$C$10:$C$409,0),1))","v":""}]
[null,null,null,null,null,null,null,{"$f":"SMALL(IF(核取結果=TRUE,ROW(序號)-9,9999),ROW(客戶資料及選擇列印!297:297))","v":9999},{"$f":"IF($H302=9999,\"\",OFFSET(客戶資料及選擇列印!$C$9,$H302,COLUMN(客戶資料及選擇列印!A:A),,))","v":""},{"$f":"IF(H302=9999,\"\",INDEX(客戶資料及選擇列印!$B$10:$B$409,MATCH(H302,客戶資料及選擇列印!$C$10:$C$409,0),1))","v":""}]
[null,null,null,null,null,null,null,{"$f":"SMALL(IF(核取結果=TRUE,ROW(序號)-9,9999),ROW(客戶資料及選擇列印!298:298))","v":9999},{"$f":"IF($H303=9999,\"\",OFFSET(客戶資料及選擇列印!$C$9,$H303,COLUMN(客戶資料及選擇列印!A:A),,))","v":""},{"$f":"IF(H303=9999,\"\",INDEX(客戶資料及選擇列印!$B$10:$B$409,MATCH(H303,客戶資料及選擇列印!$C$10:$C$409,0),1))","v":""}]
[null,null,null,null,null,null,null,{"$f":"SMALL(IF(核取結果=TRUE,ROW(序號)-9,9999),ROW(客戶資料及選擇列印!299:299))","v":9999},{"$f":"IF($H304=9999,\"\",OFFSET(客戶資料及選擇列印!$C$9,$H304,COLUMN(客戶資料及選擇列印!A:A),,))","v":""},{"$f":"IF(H304=9999,\"\",INDEX(客戶資料及選擇列印!$B$10:$B$409,MATCH(H304,客戶資料及選擇列印!$C$10:$C$409,0),1))","v":""}]
[null,null,null,null,null,null,null,{"$f":"SMALL(IF(核取結果=TRUE,ROW(序號)-9,9999),ROW(客戶資料及選擇列印!300:300))","v":9999},{"$f":"IF($H305=9999,\"\",OFFSET(客戶資料及選擇列印!$C$9,$H305,COLUMN(客戶資料及選擇列印!A:A),,))","v":""},{"$f":"IF(H305=9999,\"\",INDEX(客戶資料及選擇列印!$B$10:$B$409,MATCH(H305,客戶資料及選擇列印!$C$10:$C$409,0),1))","v":""}]
[null,null,null,null,null,null,null,{"$f":"SMALL(IF(核取結果=TRUE,ROW(序號)-9,9999),ROW(客戶資料及選擇列印!301:301))","v":9999},{"$f":"IF($H306=9999,\"\",OFFSET(客戶資料及選擇列印!$C$9,$H306,COLUMN(客戶資料及選擇列印!A:A),,))","v":""},{"$f":"IF(H306=9999,\"\",INDEX(客戶資料及選擇列印!$B$10:$B$409,MATCH(H306,客戶資料及選擇列印!$C$10:$C$409,0),1))","v":""}]
[null,null,null,null,null,null,null,{"$f":"SMALL(IF(核取結果=TRUE,ROW(序號)-9,9999),ROW(客戶資料及選擇列印!302:302))","v":9999},{"$f":"IF($H307=9999,\"\",OFFSET(客戶資料及選擇列印!$C$9,$H307,COLUMN(客戶資料及選擇列印!A:A),,))","v":""},{"$f":"IF(H307=9999,\"\",INDEX(客戶資料及選擇列印!$B$10:$B$409,MATCH(H307,客戶資料及選擇列印!$C$10:$C$409,0),1))","v":""}]
[null,null,null,null,null,null,null,{"$f":"SMALL(IF(核取結果=TRUE,ROW(序號)-9,9999),ROW(客戶資料及選擇列印!303:303))","v":9999},{"$f":"IF($H308=9999,\"\",OFFSET(客戶資料及選擇列印!$C$9,$H308,COLUMN(客戶資料及選擇列印!A:A),,))","v":""},{"$f":"IF(H308=9999,\"\",INDEX(客戶資料及選擇列印!$B$10:$B$409,MATCH(H308,客戶資料及選擇列印!$C$10:$C$409,0),1))","v":""}]
[null,null,null,null,null,null,null,{"$f":"SMALL(IF(核取結果=TRUE,ROW(序號)-9,9999),ROW(客戶資料及選擇列印!304:304))","v":9999},{"$f":"IF($H309=9999,\"\",OFFSET(客戶資料及選擇列印!$C$9,$H309,COLUMN(客戶資料及選擇列印!A:A),,))","v":""},{"$f":"IF(H309=9999,\"\",INDEX(客戶資料及選擇列印!$B$10:$B$409,MATCH(H309,客戶資料及選擇列印!$C$10:$C$409,0),1))","v":""}]
[null,null,null,null,null,null,null,{"$f":"SMALL(IF(核取結果=TRUE,ROW(序號)-9,9999),ROW(客戶資料及選擇列印!305:305))","v":9999},{"$f":"IF($H310=9999,\"\",OFFSET(客戶資料及選擇列印!$C$9,$H310,COLUMN(客戶資料及選擇列印!A:A),,))","v":""},{"$f":"IF(H310=9999,\"\",INDEX(客戶資料及選擇列印!$B$10:$B$409,MATCH(H310,客戶資料及選擇列印!$C$10:$C$409,0),1))","v":""}]
[null,null,null,null,null,null,null,{"$f":"SMALL(IF(核取結果=TRUE,ROW(序號)-9,9999),ROW(客戶資料及選擇列印!306:306))","v":9999},{"$f":"IF($H311=9999,\"\",OFFSET(客戶資料及選擇列印!$C$9,$H311,COLUMN(客戶資料及選擇列印!A:A),,))","v":""},{"$f":"IF(H311=9999,\"\",INDEX(客戶資料及選擇列印!$B$10:$B$409,MATCH(H311,客戶資料及選擇列印!$C$10:$C$409,0),1))","v":""}]
[null,null,null,null,null,null,null,{"$f":"SMALL(IF(核取結果=TRUE,ROW(序號)-9,9999),ROW(客戶資料及選擇列印!307:307))","v":9999},{"$f":"IF($H312=9999,\"\",OFFSET(客戶資料及選擇列印!$C$9,$H312,COLUMN(客戶資料及選擇列印!A:A),,))","v":""},{"$f":"IF(H312=9999,\"\",INDEX(客戶資料及選擇列印!$B$10:$B$409,MATCH(H312,客戶資料及選擇列印!$C$10:$C$409,0),1))","v":""}]
[null,null,null,null,null,null,null,{"$f":"SMALL(IF(核取結果=TRUE,ROW(序號)-9,9999),ROW(客戶資料及選擇列印!308:308))","v":9999},{"$f":"IF($H313=9999,\"\",OFFSET(客戶資料及選擇列印!$C$9,$H313,COLUMN(客戶資料及選擇列印!A:A),,))","v":""},{"$f":"IF(H313=9999,\"\",INDEX(客戶資料及選擇列印!$B$10:$B$409,MATCH(H313,客戶資料及選擇列印!$C$10:$C$409,0),1))","v":""}]
[null,null,null,null,null,null,null,{"$f":"SMALL(IF(核取結果=TRUE,ROW(序號)-9,9999),ROW(客戶資料及選擇列印!309:309))","v":9999},{"$f":"IF($H314=9999,\"\",OFFSET(客戶資料及選擇列印!$C$9,$H314,COLUMN(客戶資料及選擇列印!A:A),,))","v":""},{"$f":"IF(H314=9999,\"\",INDEX(客戶資料及選擇列印!$B$10:$B$409,MATCH(H314,客戶資料及選擇列印!$C$10:$C$409,0),1))","v":""}]
[null,null,null,null,null,null,null,{"$f":"SMALL(IF(核取結果=TRUE,ROW(序號)-9,9999),ROW(客戶資料及選擇列印!310:310))","v":9999},{"$f":"IF($H315=9999,\"\",OFFSET(客戶資料及選擇列印!$C$9,$H315,COLUMN(客戶資料及選擇列印!A:A),,))","v":""},{"$f":"IF(H315=9999,\"\",INDEX(客戶資料及選擇列印!$B$10:$B$409,MATCH(H315,客戶資料及選擇列印!$C$10:$C$409,0),1))","v":""}]
[null,null,null,null,null,null,null,{"$f":"SMALL(IF(核取結果=TRUE,ROW(序號)-9,9999),ROW(客戶資料及選擇列印!311:311))","v":9999},{"$f":"IF($H316=9999,\"\",OFFSET(客戶資料及選擇列印!$C$9,$H316,COLUMN(客戶資料及選擇列印!A:A),,))","v":""},{"$f":"IF(H316=9999,\"\",INDEX(客戶資料及選擇列印!$B$10:$B$409,MATCH(H316,客戶資料及選擇列印!$C$10:$C$409,0),1))","v":""}]
[null,null,null,null,null,null,null,{"$f":"SMALL(IF(核取結果=TRUE,ROW(序號)-9,9999),ROW(客戶資料及選擇列印!312:312))","v":9999},{"$f":"IF($H317=9999,\"\",OFFSET(客戶資料及選擇列印!$C$9,$H317,COLUMN(客戶資料及選擇列印!A:A),,))","v":""},{"$f":"IF(H317=9999,\"\",INDEX(客戶資料及選擇列印!$B$10:$B$409,MATCH(H317,客戶資料及選擇列印!$C$10:$C$409,0),1))","v":""}]
[null,null,null,null,null,null,null,{"$f":"SMALL(IF(核取結果=TRUE,ROW(序號)-9,9999),ROW(客戶資料及選擇列印!313:313))","v":9999},{"$f":"IF($H318=9999,\"\",OFFSET(客戶資料及選擇列印!$C$9,$H318,COLUMN(客戶資料及選擇列印!A:A),,))","v":""},{"$f":"IF(H318=9999,\"\",INDEX(客戶資料及選擇列印!$B$10:$B$409,MATCH(H318,客戶資料及選擇列印!$C$10:$C$409,0),1))","v":""}]
[null,null,null,null,null,null,null,{"$f":"SMALL(IF(核取結果=TRUE,ROW(序號)-9,9999),ROW(客戶資料及選擇列印!314:314))","v":9999},{"$f":"IF($H319=9999,\"\",OFFSET(客戶資料及選擇列印!$C$9,$H319,COLUMN(客戶資料及選擇列印!A:A),,))","v":""},{"$f":"IF(H319=9999,\"\",INDEX(客戶資料及選擇列印!$B$10:$B$409,MATCH(H319,客戶資料及選擇列印!$C$10:$C$409,0),1))","v":""}]
[null,null,null,null,null,null,null,{"$f":"SMALL(IF(核取結果=TRUE,ROW(序號)-9,9999),ROW(客戶資料及選擇列印!315:315))","v":9999},{"$f":"IF($H320=9999,\"\",OFFSET(客戶資料及選擇列印!$C$9,$H320,COLUMN(客戶資料及選擇列印!A:A),,))","v":""},{"$f":"IF(H320=9999,\"\",INDEX(客戶資料及選擇列印!$B$10:$B$409,MATCH(H320,客戶資料及選擇列印!$C$10:$C$409,0),1))","v":""}]
[null,null,null,null,null,null,null,{"$f":"SMALL(IF(核取結果=TRUE,ROW(序號)-9,9999),ROW(客戶資料及選擇列印!316:316))","v":9999},{"$f":"IF($H321=9999,\"\",OFFSET(客戶資料及選擇列印!$C$9,$H321,COLUMN(客戶資料及選擇列印!A:A),,))","v":""},{"$f":"IF(H321=9999,\"\",INDEX(客戶資料及選擇列印!$B$10:$B$409,MATCH(H321,客戶資料及選擇列印!$C$10:$C$409,0),1))","v":""}]
[null,null,null,null,null,null,null,{"$f":"SMALL(IF(核取結果=TRUE,ROW(序號)-9,9999),ROW(客戶資料及選擇列印!317:317))","v":9999},{"$f":"IF($H322=9999,\"\",OFFSET(客戶資料及選擇列印!$C$9,$H322,COLUMN(客戶資料及選擇列印!A:A),,))","v":""},{"$f":"IF(H322=9999,\"\",INDEX(客戶資料及選擇列印!$B$10:$B$409,MATCH(H322,客戶資料及選擇列印!$C$10:$C$409,0),1))","v":""}]
[null,null,null,null,null,null,null,{"$f":"SMALL(IF(核取結果=TRUE,ROW(序號)-9,9999),ROW(客戶資料及選擇列印!318:318))","v":9999},{"$f":"IF($H323=9999,\"\",OFFSET(客戶資料及選擇列印!$C$9,$H323,COLUMN(客戶資料及選擇列印!A:A),,))","v":""},{"$f":"IF(H323=9999,\"\",INDEX(客戶資料及選擇列印!$B$10:$B$409,MATCH(H323,客戶資料及選擇列印!$C$10:$C$409,0),1))","v":""}]
[null,null,null,null,null,null,null,{"$f":"SMALL(IF(核取結果=TRUE,ROW(序號)-9,9999),ROW(客戶資料及選擇列印!319:319))","v":9999},{"$f":"IF($H324=9999,\"\",OFFSET(客戶資料及選擇列印!$C$9,$H324,COLUMN(客戶資料及選擇列印!A:A),,))","v":""},{"$f":"IF(H324=9999,\"\",INDEX(客戶資料及選擇列印!$B$10:$B$409,MATCH(H324,客戶資料及選擇列印!$C$10:$C$409,0),1))","v":""}]
[null,null,null,null,null,null,null,{"$f":"SMALL(IF(核取結果=TRUE,ROW(序號)-9,9999),ROW(客戶資料及選擇列印!320:320))","v":9999},{"$f":"IF($H325=9999,\"\",OFFSET(客戶資料及選擇列印!$C$9,$H325,COLUMN(客戶資料及選擇列印!A:A),,))","v":""},{"$f":"IF(H325=9999,\"\",INDEX(客戶資料及選擇列印!$B$10:$B$409,MATCH(H325,客戶資料及選擇列印!$C$10:$C$409,0),1))","v":""}]
[null,null,null,null,null,null,null,{"$f":"SMALL(IF(核取結果=TRUE,ROW(序號)-9,9999),ROW(客戶資料及選擇列印!321:321))","v":9999},{"$f":"IF($H326=9999,\"\",OFFSET(客戶資料及選擇列印!$C$9,$H326,COLUMN(客戶資料及選擇列印!A:A),,))","v":""},{"$f":"IF(H326=9999,\"\",INDEX(客戶資料及選擇列印!$B$10:$B$409,MATCH(H326,客戶資料及選擇列印!$C$10:$C$409,0),1))","v":""}]
[null,null,null,null,null,null,null,{"$f":"SMALL(IF(核取結果=TRUE,ROW(序號)-9,9999),ROW(客戶資料及選擇列印!322:322))","v":9999},{"$f":"IF($H327=9999,\"\",OFFSET(客戶資料及選擇列印!$C$9,$H327,COLUMN(客戶資料及選擇列印!A:A),,))","v":""},{"$f":"IF(H327=9999,\"\",INDEX(客戶資料及選擇列印!$B$10:$B$409,MATCH(H327,客戶資料及選擇列印!$C$10:$C$409,0),1))","v":""}]
[null,null,null,null,null,null,null,{"$f":"SMALL(IF(核取結果=TRUE,ROW(序號)-9,9999),ROW(客戶資料及選擇列印!323:323))","v":9999},{"$f":"IF($H328=9999,\"\",OFFSET(客戶資料及選擇列印!$C$9,$H328,COLUMN(客戶資料及選擇列印!A:A),,))","v":""},{"$f":"IF(H328=9999,\"\",INDEX(客戶資料及選擇列印!$B$10:$B$409,MATCH(H328,客戶資料及選擇列印!$C$10:$C$409,0),1))","v":""}]
[null,null,null,null,null,null,null,{"$f":"SMALL(IF(核取結果=TRUE,ROW(序號)-9,9999),ROW(客戶資料及選擇列印!324:324))","v":9999},{"$f":"IF($H329=9999,\"\",OFFSET(客戶資料及選擇列印!$C$9,$H329,COLUMN(客戶資料及選擇列印!A:A),,))","v":""},{"$f":"IF(H329=9999,\"\",INDEX(客戶資料及選擇列印!$B$10:$B$409,MATCH(H329,客戶資料及選擇列印!$C$10:$C$409,0),1))","v":""}]
[null,null,null,null,null,null,null,{"$f":"SMALL(IF(核取結果=TRUE,ROW(序號)-9,9999),ROW(客戶資料及選擇列印!325:325))","v":9999},{"$f":"IF($H330=9999,\"\",OFFSET(客戶資料及選擇列印!$C$9,$H330,COLUMN(客戶資料及選擇列印!A:A),,))","v":""},{"$f":"IF(H330=9999,\"\",INDEX(客戶資料及選擇列印!$B$10:$B$409,MATCH(H330,客戶資料及選擇列印!$C$10:$C$409,0),1))","v":""}]
[null,null,null,null,null,null,null,{"$f":"SMALL(IF(核取結果=TRUE,ROW(序號)-9,9999),ROW(客戶資料及選擇列印!326:326))","v":9999},{"$f":"IF($H331=9999,\"\",OFFSET(客戶資料及選擇列印!$C$9,$H331,COLUMN(客戶資料及選擇列印!A:A),,))","v":""},{"$f":"IF(H331=9999,\"\",INDEX(客戶資料及選擇列印!$B$10:$B$409,MATCH(H331,客戶資料及選擇列印!$C$10:$C$409,0),1))","v":""}]
[null,null,null,null,null,null,null,{"$f":"SMALL(IF(核取結果=TRUE,ROW(序號)-9,9999),ROW(客戶資料及選擇列印!327:327))","v":9999},{"$f":"IF($H332=9999,\"\",OFFSET(客戶資料及選擇列印!$C$9,$H332,COLUMN(客戶資料及選擇列印!A:A),,))","v":""},{"$f":"IF(H332=9999,\"\",INDEX(客戶資料及選擇列印!$B$10:$B$409,MATCH(H332,客戶資料及選擇列印!$C$10:$C$409,0),1))","v":""}]
[null,null,null,null,null,null,null,{"$f":"SMALL(IF(核取結果=TRUE,ROW(序號)-9,9999),ROW(客戶資料及選擇列印!328:328))","v":9999},{"$f":"IF($H333=9999,\"\",OFFSET(客戶資料及選擇列印!$C$9,$H333,COLUMN(客戶資料及選擇列印!A:A),,))","v":""},{"$f":"IF(H333=9999,\"\",INDEX(客戶資料及選擇列印!$B$10:$B$409,MATCH(H333,客戶資料及選擇列印!$C$10:$C$409,0),1))","v":""}]
[null,null,null,null,null,null,null,{"$f":"SMALL(IF(核取結果=TRUE,ROW(序號)-9,9999),ROW(客戶資料及選擇列印!329:329))","v":9999},{"$f":"IF($H334=9999,\"\",OFFSET(客戶資料及選擇列印!$C$9,$H334,COLUMN(客戶資料及選擇列印!A:A),,))","v":""},{"$f":"IF(H334=9999,\"\",INDEX(客戶資料及選擇列印!$B$10:$B$409,MATCH(H334,客戶資料及選擇列印!$C$10:$C$409,0),1))","v":""}]
[null,null,null,null,null,null,null,{"$f":"SMALL(IF(核取結果=TRUE,ROW(序號)-9,9999),ROW(客戶資料及選擇列印!330:330))","v":9999},{"$f":"IF($H335=9999,\"\",OFFSET(客戶資料及選擇列印!$C$9,$H335,COLUMN(客戶資料及選擇列印!A:A),,))","v":""},{"$f":"IF(H335=9999,\"\",INDEX(客戶資料及選擇列印!$B$10:$B$409,MATCH(H335,客戶資料及選擇列印!$C$10:$C$409,0),1))","v":""}]
[null,null,null,null,null,null,null,{"$f":"SMALL(IF(核取結果=TRUE,ROW(序號)-9,9999),ROW(客戶資料及選擇列印!331:331))","v":9999},{"$f":"IF($H336=9999,\"\",OFFSET(客戶資料及選擇列印!$C$9,$H336,COLUMN(客戶資料及選擇列印!A:A),,))","v":""},{"$f":"IF(H336=9999,\"\",INDEX(客戶資料及選擇列印!$B$10:$B$409,MATCH(H336,客戶資料及選擇列印!$C$10:$C$409,0),1))","v":""}]
[null,null,null,null,null,null,null,{"$f":"SMALL(IF(核取結果=TRUE,ROW(序號)-9,9999),ROW(客戶資料及選擇列印!332:332))","v":9999},{"$f":"IF($H337=9999,\"\",OFFSET(客戶資料及選擇列印!$C$9,$H337,COLUMN(客戶資料及選擇列印!A:A),,))","v":""},{"$f":"IF(H337=9999,\"\",INDEX(客戶資料及選擇列印!$B$10:$B$409,MATCH(H337,客戶資料及選擇列印!$C$10:$C$409,0),1))","v":""}]
[null,null,null,null,null,null,null,{"$f":"SMALL(IF(核取結果=TRUE,ROW(序號)-9,9999),ROW(客戶資料及選擇列印!333:333))","v":9999},{"$f":"IF($H338=9999,\"\",OFFSET(客戶資料及選擇列印!$C$9,$H338,COLUMN(客戶資料及選擇列印!A:A),,))","v":""},{"$f":"IF(H338=9999,\"\",INDEX(客戶資料及選擇列印!$B$10:$B$409,MATCH(H338,客戶資料及選擇列印!$C$10:$C$409,0),1))","v":""}]
[null,null,null,null,null,null,null,{"$f":"SMALL(IF(核取結果=TRUE,ROW(序號)-9,9999),ROW(客戶資料及選擇列印!334:334))","v":9999},{"$f":"IF($H339=9999,\"\",OFFSET(客戶資料及選擇列印!$C$9,$H339,COLUMN(客戶資料及選擇列印!A:A),,))","v":""},{"$f":"IF(H339=9999,\"\",INDEX(客戶資料及選擇列印!$B$10:$B$409,MATCH(H339,客戶資料及選擇列印!$C$10:$C$409,0),1))","v":""}]
[null,null,null,null,null,null,null,{"$f":"SMALL(IF(核取結果=TRUE,ROW(序號)-9,9999),ROW(客戶資料及選擇列印!335:335))","v":9999},{"$f":"IF($H340=9999,\"\",OFFSET(客戶資料及選擇列印!$C$9,$H340,COLUMN(客戶資料及選擇列印!A:A),,))","v":""},{"$f":"IF(H340=9999,\"\",INDEX(客戶資料及選擇列印!$B$10:$B$409,MATCH(H340,客戶資料及選擇列印!$C$10:$C$409,0),1))","v":""}]
[null,null,null,null,null,null,null,{"$f":"SMALL(IF(核取結果=TRUE,ROW(序號)-9,9999),ROW(客戶資料及選擇列印!336:336))","v":9999},{"$f":"IF($H341=9999,\"\",OFFSET(客戶資料及選擇列印!$C$9,$H341,COLUMN(客戶資料及選擇列印!A:A),,))","v":""},{"$f":"IF(H341=9999,\"\",INDEX(客戶資料及選擇列印!$B$10:$B$409,MATCH(H341,客戶資料及選擇列印!$C$10:$C$409,0),1))","v":""}]
[null,null,null,null,null,null,null,{"$f":"SMALL(IF(核取結果=TRUE,ROW(序號)-9,9999),ROW(客戶資料及選擇列印!337:337))","v":9999},{"$f":"IF($H342=9999,\"\",OFFSET(客戶資料及選擇列印!$C$9,$H342,COLUMN(客戶資料及選擇列印!A:A),,))","v":""},{"$f":"IF(H342=9999,\"\",INDEX(客戶資料及選擇列印!$B$10:$B$409,MATCH(H342,客戶資料及選擇列印!$C$10:$C$409,0),1))","v":""}]
[null,null,null,null,null,null,null,{"$f":"SMALL(IF(核取結果=TRUE,ROW(序號)-9,9999),ROW(客戶資料及選擇列印!338:338))","v":9999},{"$f":"IF($H343=9999,\"\",OFFSET(客戶資料及選擇列印!$C$9,$H343,COLUMN(客戶資料及選擇列印!A:A),,))","v":""},{"$f":"IF(H343=9999,\"\",INDEX(客戶資料及選擇列印!$B$10:$B$409,MATCH(H343,客戶資料及選擇列印!$C$10:$C$409,0),1))","v":""}]
[null,null,null,null,null,null,null,{"$f":"SMALL(IF(核取結果=TRUE,ROW(序號)-9,9999),ROW(客戶資料及選擇列印!339:339))","v":9999},{"$f":"IF($H344=9999,\"\",OFFSET(客戶資料及選擇列印!$C$9,$H344,COLUMN(客戶資料及選擇列印!A:A),,))","v":""},{"$f":"IF(H344=9999,\"\",INDEX(客戶資料及選擇列印!$B$10:$B$409,MATCH(H344,客戶資料及選擇列印!$C$10:$C$409,0),1))","v":""}]
[null,null,null,null,null,null,null,{"$f":"SMALL(IF(核取結果=TRUE,ROW(序號)-9,9999),ROW(客戶資料及選擇列印!340:340))","v":9999},{"$f":"IF($H345=9999,\"\",OFFSET(客戶資料及選擇列印!$C$9,$H345,COLUMN(客戶資料及選擇列印!A:A),,))","v":""},{"$f":"IF(H345=9999,\"\",INDEX(客戶資料及選擇列印!$B$10:$B$409,MATCH(H345,客戶資料及選擇列印!$C$10:$C$409,0),1))","v":""}]
[null,null,null,null,null,null,null,{"$f":"SMALL(IF(核取結果=TRUE,ROW(序號)-9,9999),ROW(客戶資料及選擇列印!341:341))","v":9999},{"$f":"IF($H346=9999,\"\",OFFSET(客戶資料及選擇列印!$C$9,$H346,COLUMN(客戶資料及選擇列印!A:A),,))","v":""},{"$f":"IF(H346=9999,\"\",INDEX(客戶資料及選擇列印!$B$10:$B$409,MATCH(H346,客戶資料及選擇列印!$C$10:$C$409,0),1))","v":""}]
[null,null,null,null,null,null,null,{"$f":"SMALL(IF(核取結果=TRUE,ROW(序號)-9,9999),ROW(客戶資料及選擇列印!342:342))","v":9999},{"$f":"IF($H347=9999,\"\",OFFSET(客戶資料及選擇列印!$C$9,$H347,COLUMN(客戶資料及選擇列印!A:A),,))","v":""},{"$f":"IF(H347=9999,\"\",INDEX(客戶資料及選擇列印!$B$10:$B$409,MATCH(H347,客戶資料及選擇列印!$C$10:$C$409,0),1))","v":""}]
[null,null,null,null,null,null,null,{"$f":"SMALL(IF(核取結果=TRUE,ROW(序號)-9,9999),ROW(客戶資料及選擇列印!343:343))","v":9999},{"$f":"IF($H348=9999,\"\",OFFSET(客戶資料及選擇列印!$C$9,$H348,COLUMN(客戶資料及選擇列印!A:A),,))","v":""},{"$f":"IF(H348=9999,\"\",INDEX(客戶資料及選擇列印!$B$10:$B$409,MATCH(H348,客戶資料及選擇列印!$C$10:$C$409,0),1))","v":""}]
[null,null,null,null,null,null,null,{"$f":"SMALL(IF(核取結果=TRUE,ROW(序號)-9,9999),ROW(客戶資料及選擇列印!344:344))","v":9999},{"$f":"IF($H349=9999,\"\",OFFSET(客戶資料及選擇列印!$C$9,$H349,COLUMN(客戶資料及選擇列印!A:A),,))","v":""},{"$f":"IF(H349=9999,\"\",INDEX(客戶資料及選擇列印!$B$10:$B$409,MATCH(H349,客戶資料及選擇列印!$C$10:$C$409,0),1))","v":""}]
[null,null,null,null,null,null,null,{"$f":"SMALL(IF(核取結果=TRUE,ROW(序號)-9,9999),ROW(客戶資料及選擇列印!345:345))","v":9999},{"$f":"IF($H350=9999,\"\",OFFSET(客戶資料及選擇列印!$C$9,$H350,COLUMN(客戶資料及選擇列印!A:A),,))","v":""},{"$f":"IF(H350=9999,\"\",INDEX(客戶資料及選擇列印!$B$10:$B$409,MATCH(H350,客戶資料及選擇列印!$C$10:$C$409,0),1))","v":""}]
[null,null,null,null,null,null,null,{"$f":"SMALL(IF(核取結果=TRUE,ROW(序號)-9,9999),ROW(客戶資料及選擇列印!346:346))","v":9999},{"$f":"IF($H351=9999,\"\",OFFSET(客戶資料及選擇列印!$C$9,$H351,COLUMN(客戶資料及選擇列印!A:A),,))","v":""},{"$f":"IF(H351=9999,\"\",INDEX(客戶資料及選擇列印!$B$10:$B$409,MATCH(H351,客戶資料及選擇列印!$C$10:$C$409,0),1))","v":""}]
[null,null,null,null,null,null,null,{"$f":"SMALL(IF(核取結果=TRUE,ROW(序號)-9,9999),ROW(客戶資料及選擇列印!347:347))","v":9999},{"$f":"IF($H352=9999,\"\",OFFSET(客戶資料及選擇列印!$C$9,$H352,COLUMN(客戶資料及選擇列印!A:A),,))","v":""},{"$f":"IF(H352=9999,\"\",INDEX(客戶資料及選擇列印!$B$10:$B$409,MATCH(H352,客戶資料及選擇列印!$C$10:$C$409,0),1))","v":""}]
[null,null,null,null,null,null,null,{"$f":"SMALL(IF(核取結果=TRUE,ROW(序號)-9,9999),ROW(客戶資料及選擇列印!348:348))","v":9999},{"$f":"IF($H353=9999,\"\",OFFSET(客戶資料及選擇列印!$C$9,$H353,COLUMN(客戶資料及選擇列印!A:A),,))","v":""},{"$f":"IF(H353=9999,\"\",INDEX(客戶資料及選擇列印!$B$10:$B$409,MATCH(H353,客戶資料及選擇列印!$C$10:$C$409,0),1))","v":""}]
[null,null,null,null,null,null,null,{"$f":"SMALL(IF(核取結果=TRUE,ROW(序號)-9,9999),ROW(客戶資料及選擇列印!349:349))","v":9999},{"$f":"IF($H354=9999,\"\",OFFSET(客戶資料及選擇列印!$C$9,$H354,COLUMN(客戶資料及選擇列印!A:A),,))","v":""},{"$f":"IF(H354=9999,\"\",INDEX(客戶資料及選擇列印!$B$10:$B$409,MATCH(H354,客戶資料及選擇列印!$C$10:$C$409,0),1))","v":""}]
[null,null,null,null,null,null,null,{"$f":"SMALL(IF(核取結果=TRUE,ROW(序號)-9,9999),ROW(客戶資料及選擇列印!350:350))","v":9999},{"$f":"IF($H355=9999,\"\",OFFSET(客戶資料及選擇列印!$C$9,$H355,COLUMN(客戶資料及選擇列印!A:A),,))","v":""},{"$f":"IF(H355=9999,\"\",INDEX(客戶資料及選擇列印!$B$10:$B$409,MATCH(H355,客戶資料及選擇列印!$C$10:$C$409,0),1))","v":""}]
[null,null,null,null,null,null,null,{"$f":"SMALL(IF(核取結果=TRUE,ROW(序號)-9,9999),ROW(客戶資料及選擇列印!351:351))","v":9999},{"$f":"IF($H356=9999,\"\",OFFSET(客戶資料及選擇列印!$C$9,$H356,COLUMN(客戶資料及選擇列印!A:A),,))","v":""},{"$f":"IF(H356=9999,\"\",INDEX(客戶資料及選擇列印!$B$10:$B$409,MATCH(H356,客戶資料及選擇列印!$C$10:$C$409,0),1))","v":""}]
[null,null,null,null,null,null,null,{"$f":"SMALL(IF(核取結果=TRUE,ROW(序號)-9,9999),ROW(客戶資料及選擇列印!352:352))","v":9999},{"$f":"IF($H357=9999,\"\",OFFSET(客戶資料及選擇列印!$C$9,$H357,COLUMN(客戶資料及選擇列印!A:A),,))","v":""},{"$f":"IF(H357=9999,\"\",INDEX(客戶資料及選擇列印!$B$10:$B$409,MATCH(H357,客戶資料及選擇列印!$C$10:$C$409,0),1))","v":""}]
[null,null,null,null,null,null,null,{"$f":"SMALL(IF(核取結果=TRUE,ROW(序號)-9,9999),ROW(客戶資料及選擇列印!353:353))","v":9999},{"$f":"IF($H358=9999,\"\",OFFSET(客戶資料及選擇列印!$C$9,$H358,COLUMN(客戶資料及選擇列印!A:A),,))","v":""},{"$f":"IF(H358=9999,\"\",INDEX(客戶資料及選擇列印!$B$10:$B$409,MATCH(H358,客戶資料及選擇列印!$C$10:$C$409,0),1))","v":""}]
[null,null,null,null,null,null,null,{"$f":"SMALL(IF(核取結果=TRUE,ROW(序號)-9,9999),ROW(客戶資料及選擇列印!354:354))","v":9999},{"$f":"IF($H359=9999,\"\",OFFSET(客戶資料及選擇列印!$C$9,$H359,COLUMN(客戶資料及選擇列印!A:A),,))","v":""},{"$f":"IF(H359=9999,\"\",INDEX(客戶資料及選擇列印!$B$10:$B$409,MATCH(H359,客戶資料及選擇列印!$C$10:$C$409,0),1))","v":""}]
[null,null,null,null,null,null,null,{"$f":"SMALL(IF(核取結果=TRUE,ROW(序號)-9,9999),ROW(客戶資料及選擇列印!355:355))","v":9999},{"$f":"IF($H360=9999,\"\",OFFSET(客戶資料及選擇列印!$C$9,$H360,COLUMN(客戶資料及選擇列印!A:A),,))","v":""},{"$f":"IF(H360=9999,\"\",INDEX(客戶資料及選擇列印!$B$10:$B$409,MATCH(H360,客戶資料及選擇列印!$C$10:$C$409,0),1))","v":""}]
[null,null,null,null,null,null,null,{"$f":"SMALL(IF(核取結果=TRUE,ROW(序號)-9,9999),ROW(客戶資料及選擇列印!356:356))","v":9999},{"$f":"IF($H361=9999,\"\",OFFSET(客戶資料及選擇列印!$C$9,$H361,COLUMN(客戶資料及選擇列印!A:A),,))","v":""},{"$f":"IF(H361=9999,\"\",INDEX(客戶資料及選擇列印!$B$10:$B$409,MATCH(H361,客戶資料及選擇列印!$C$10:$C$409,0),1))","v":""}]
[null,null,null,null,null,null,null,{"$f":"SMALL(IF(核取結果=TRUE,ROW(序號)-9,9999),ROW(客戶資料及選擇列印!357:357))","v":9999},{"$f":"IF($H362=9999,\"\",OFFSET(客戶資料及選擇列印!$C$9,$H362,COLUMN(客戶資料及選擇列印!A:A),,))","v":""},{"$f":"IF(H362=9999,\"\",INDEX(客戶資料及選擇列印!$B$10:$B$409,MATCH(H362,客戶資料及選擇列印!$C$10:$C$409,0),1))","v":""}]
[null,null,null,null,null,null,null,{"$f":"SMALL(IF(核取結果=TRUE,ROW(序號)-9,9999),ROW(客戶資料及選擇列印!358:358))","v":9999},{"$f":"IF($H363=9999,\"\",OFFSET(客戶資料及選擇列印!$C$9,$H363,COLUMN(客戶資料及選擇列印!A:A),,))","v":""},{"$f":"IF(H363=9999,\"\",INDEX(客戶資料及選擇列印!$B$10:$B$409,MATCH(H363,客戶資料及選擇列印!$C$10:$C$409,0),1))","v":""}]
[null,null,null,null,null,null,null,{"$f":"SMALL(IF(核取結果=TRUE,ROW(序號)-9,9999),ROW(客戶資料及選擇列印!359:359))","v":9999},{"$f":"IF($H364=9999,\"\",OFFSET(客戶資料及選擇列印!$C$9,$H364,COLUMN(客戶資料及選擇列印!A:A),,))","v":""},{"$f":"IF(H364=9999,\"\",INDEX(客戶資料及選擇列印!$B$10:$B$409,MATCH(H364,客戶資料及選擇列印!$C$10:$C$409,0),1))","v":""}]
[null,null,null,null,null,null,null,{"$f":"SMALL(IF(核取結果=TRUE,ROW(序號)-9,9999),ROW(客戶資料及選擇列印!360:360))","v":9999},{"$f":"IF($H365=9999,\"\",OFFSET(客戶資料及選擇列印!$C$9,$H365,COLUMN(客戶資料及選擇列印!A:A),,))","v":""},{"$f":"IF(H365=9999,\"\",INDEX(客戶資料及選擇列印!$B$10:$B$409,MATCH(H365,客戶資料及選擇列印!$C$10:$C$409,0),1))","v":""}]
[null,null,null,null,null,null,null,{"$f":"SMALL(IF(核取結果=TRUE,ROW(序號)-9,9999),ROW(客戶資料及選擇列印!361:361))","v":9999},{"$f":"IF($H366=9999,\"\",OFFSET(客戶資料及選擇列印!$C$9,$H366,COLUMN(客戶資料及選擇列印!A:A),,))","v":""},{"$f":"IF(H366=9999,\"\",INDEX(客戶資料及選擇列印!$B$10:$B$409,MATCH(H366,客戶資料及選擇列印!$C$10:$C$409,0),1))","v":""}]
[null,null,null,null,null,null,null,{"$f":"SMALL(IF(核取結果=TRUE,ROW(序號)-9,9999),ROW(客戶資料及選擇列印!362:362))","v":9999},{"$f":"IF($H367=9999,\"\",OFFSET(客戶資料及選擇列印!$C$9,$H367,COLUMN(客戶資料及選擇列印!A:A),,))","v":""},{"$f":"IF(H367=9999,\"\",INDEX(客戶資料及選擇列印!$B$10:$B$409,MATCH(H367,客戶資料及選擇列印!$C$10:$C$409,0),1))","v":""}]
[null,null,null,null,null,null,null,{"$f":"SMALL(IF(核取結果=TRUE,ROW(序號)-9,9999),ROW(客戶資料及選擇列印!363:363))","v":9999},{"$f":"IF($H368=9999,\"\",OFFSET(客戶資料及選擇列印!$C$9,$H368,COLUMN(客戶資料及選擇列印!A:A),,))","v":""},{"$f":"IF(H368=9999,\"\",INDEX(客戶資料及選擇列印!$B$10:$B$409,MATCH(H368,客戶資料及選擇列印!$C$10:$C$409,0),1))","v":""}]
[null,null,null,null,null,null,null,{"$f":"SMALL(IF(核取結果=TRUE,ROW(序號)-9,9999),ROW(客戶資料及選擇列印!364:364))","v":9999},{"$f":"IF($H369=9999,\"\",OFFSET(客戶資料及選擇列印!$C$9,$H369,COLUMN(客戶資料及選擇列印!A:A),,))","v":""},{"$f":"IF(H369=9999,\"\",INDEX(客戶資料及選擇列印!$B$10:$B$409,MATCH(H369,客戶資料及選擇列印!$C$10:$C$409,0),1))","v":""}]
[null,null,null,null,null,null,null,{"$f":"SMALL(IF(核取結果=TRUE,ROW(序號)-9,9999),ROW(客戶資料及選擇列印!365:365))","v":9999},{"$f":"IF($H370=9999,\"\",OFFSET(客戶資料及選擇列印!$C$9,$H370,COLUMN(客戶資料及選擇列印!A:A),,))","v":""},{"$f":"IF(H370=9999,\"\",INDEX(客戶資料及選擇列印!$B$10:$B$409,MATCH(H370,客戶資料及選擇列印!$C$10:$C$409,0),1))","v":""}]
[null,null,null,null,null,null,null,{"$f":"SMALL(IF(核取結果=TRUE,ROW(序號)-9,9999),ROW(客戶資料及選擇列印!366:366))","v":9999},{"$f":"IF($H371=9999,\"\",OFFSET(客戶資料及選擇列印!$C$9,$H371,COLUMN(客戶資料及選擇列印!A:A),,))","v":""},{"$f":"IF(H371=9999,\"\",INDEX(客戶資料及選擇列印!$B$10:$B$409,MATCH(H371,客戶資料及選擇列印!$C$10:$C$409,0),1))","v":""}]
[null,null,null,null,null,null,null,{"$f":"SMALL(IF(核取結果=TRUE,ROW(序號)-9,9999),ROW(客戶資料及選擇列印!367:367))","v":9999},{"$f":"IF($H372=9999,\"\",OFFSET(客戶資料及選擇列印!$C$9,$H372,COLUMN(客戶資料及選擇列印!A:A),,))","v":""},{"$f":"IF(H372=9999,\"\",INDEX(客戶資料及選擇列印!$B$10:$B$409,MATCH(H372,客戶資料及選擇列印!$C$10:$C$409,0),1))","v":""}]
[null,null,null,null,null,null,null,{"$f":"SMALL(IF(核取結果=TRUE,ROW(序號)-9,9999),ROW(客戶資料及選擇列印!368:368))","v":9999},{"$f":"IF($H373=9999,\"\",OFFSET(客戶資料及選擇列印!$C$9,$H373,COLUMN(客戶資料及選擇列印!A:A),,))","v":""},{"$f":"IF(H373=9999,\"\",INDEX(客戶資料及選擇列印!$B$10:$B$409,MATCH(H373,客戶資料及選擇列印!$C$10:$C$409,0),1))","v":""}]
[null,null,null,null,null,null,null,{"$f":"SMALL(IF(核取結果=TRUE,ROW(序號)-9,9999),ROW(客戶資料及選擇列印!369:369))","v":9999},{"$f":"IF($H374=9999,\"\",OFFSET(客戶資料及選擇列印!$C$9,$H374,COLUMN(客戶資料及選擇列印!A:A),,))","v":""},{"$f":"IF(H374=9999,\"\",INDEX(客戶資料及選擇列印!$B$10:$B$409,MATCH(H374,客戶資料及選擇列印!$C$10:$C$409,0),1))","v":""}]
[null,null,null,null,null,null,null,{"$f":"SMALL(IF(核取結果=TRUE,ROW(序號)-9,9999),ROW(客戶資料及選擇列印!370:370))","v":9999},{"$f":"IF($H375=9999,\"\",OFFSET(客戶資料及選擇列印!$C$9,$H375,COLUMN(客戶資料及選擇列印!A:A),,))","v":""},{"$f":"IF(H375=9999,\"\",INDEX(客戶資料及選擇列印!$B$10:$B$409,MATCH(H375,客戶資料及選擇列印!$C$10:$C$409,0),1))","v":""}]
[null,null,null,null,null,null,null,{"$f":"SMALL(IF(核取結果=TRUE,ROW(序號)-9,9999),ROW(客戶資料及選擇列印!371:371))","v":9999},{"$f":"IF($H376=9999,\"\",OFFSET(客戶資料及選擇列印!$C$9,$H376,COLUMN(客戶資料及選擇列印!A:A),,))","v":""},{"$f":"IF(H376=9999,\"\",INDEX(客戶資料及選擇列印!$B$10:$B$409,MATCH(H376,客戶資料及選擇列印!$C$10:$C$409,0),1))","v":""}]
[null,null,null,null,null,null,null,{"$f":"SMALL(IF(核取結果=TRUE,ROW(序號)-9,9999),ROW(客戶資料及選擇列印!372:372))","v":9999},{"$f":"IF($H377=9999,\"\",OFFSET(客戶資料及選擇列印!$C$9,$H377,COLUMN(客戶資料及選擇列印!A:A),,))","v":""},{"$f":"IF(H377=9999,\"\",INDEX(客戶資料及選擇列印!$B$10:$B$409,MATCH(H377,客戶資料及選擇列印!$C$10:$C$409,0),1))","v":""}]
[null,null,null,null,null,null,null,{"$f":"SMALL(IF(核取結果=TRUE,ROW(序號)-9,9999),ROW(客戶資料及選擇列印!373:373))","v":9999},{"$f":"IF($H378=9999,\"\",OFFSET(客戶資料及選擇列印!$C$9,$H378,COLUMN(客戶資料及選擇列印!A:A),,))","v":""},{"$f":"IF(H378=9999,\"\",INDEX(客戶資料及選擇列印!$B$10:$B$409,MATCH(H378,客戶資料及選擇列印!$C$10:$C$409,0),1))","v":""}]
[null,null,null,null,null,null,null,{"$f":"SMALL(IF(核取結果=TRUE,ROW(序號)-9,9999),ROW(客戶資料及選擇列印!374:374))","v":9999},{"$f":"IF($H379=9999,\"\",OFFSET(客戶資料及選擇列印!$C$9,$H379,COLUMN(客戶資料及選擇列印!A:A),,))","v":""},{"$f":"IF(H379=9999,\"\",INDEX(客戶資料及選擇列印!$B$10:$B$409,MATCH(H379,客戶資料及選擇列印!$C$10:$C$409,0),1))","v":""}]
[null,null,null,null,null,null,null,{"$f":"SMALL(IF(核取結果=TRUE,ROW(序號)-9,9999),ROW(客戶資料及選擇列印!375:375))","v":9999},{"$f":"IF($H380=9999,\"\",OFFSET(客戶資料及選擇列印!$C$9,$H380,COLUMN(客戶資料及選擇列印!A:A),,))","v":""},{"$f":"IF(H380=9999,\"\",INDEX(客戶資料及選擇列印!$B$10:$B$409,MATCH(H380,客戶資料及選擇列印!$C$10:$C$409,0),1))","v":""}]
[null,null,null,null,null,null,null,{"$f":"SMALL(IF(核取結果=TRUE,ROW(序號)-9,9999),ROW(客戶資料及選擇列印!376:376))","v":9999},{"$f":"IF($H381=9999,\"\",OFFSET(客戶資料及選擇列印!$C$9,$H381,COLUMN(客戶資料及選擇列印!A:A),,))","v":""},{"$f":"IF(H381=9999,\"\",INDEX(客戶資料及選擇列印!$B$10:$B$409,MATCH(H381,客戶資料及選擇列印!$C$10:$C$409,0),1))","v":""}]
[null,null,null,null,null,null,null,{"$f":"SMALL(IF(核取結果=TRUE,ROW(序號)-9,9999),ROW(客戶資料及選擇列印!377:377))","v":9999},{"$f":"IF($H382=9999,\"\",OFFSET(客戶資料及選擇列印!$C$9,$H382,COLUMN(客戶資料及選擇列印!A:A),,))","v":""},{"$f":"IF(H382=9999,\"\",INDEX(客戶資料及選擇列印!$B$10:$B$409,MATCH(H382,客戶資料及選擇列印!$C$10:$C$409,0),1))","v":""}]
[null,null,null,null,null,null,null,{"$f":"SMALL(IF(核取結果=TRUE,ROW(序號)-9,9999),ROW(客戶資料及選擇列印!378:378))","v":9999},{"$f":"IF($H383=9999,\"\",OFFSET(客戶資料及選擇列印!$C$9,$H383,COLUMN(客戶資料及選擇列印!A:A),,))","v":""},{"$f":"IF(H383=9999,\"\",INDEX(客戶資料及選擇列印!$B$10:$B$409,MATCH(H383,客戶資料及選擇列印!$C$10:$C$409,0),1))","v":""}]
[null,null,null,null,null,null,null,{"$f":"SMALL(IF(核取結果=TRUE,ROW(序號)-9,9999),ROW(客戶資料及選擇列印!379:379))","v":9999},{"$f":"IF($H384=9999,\"\",OFFSET(客戶資料及選擇列印!$C$9,$H384,COLUMN(客戶資料及選擇列印!A:A),,))","v":""},{"$f":"IF(H384=9999,\"\",INDEX(客戶資料及選擇列印!$B$10:$B$409,MATCH(H384,客戶資料及選擇列印!$C$10:$C$409,0),1))","v":""}]
[null,null,null,null,null,null,null,{"$f":"SMALL(IF(核取結果=TRUE,ROW(序號)-9,9999),ROW(客戶資料及選擇列印!380:380))","v":9999},{"$f":"IF($H385=9999,\"\",OFFSET(客戶資料及選擇列印!$C$9,$H385,COLUMN(客戶資料及選擇列印!A:A),,))","v":""},{"$f":"IF(H385=9999,\"\",INDEX(客戶資料及選擇列印!$B$10:$B$409,MATCH(H385,客戶資料及選擇列印!$C$10:$C$409,0),1))","v":""}]
[null,null,null,null,null,null,null,{"$f":"SMALL(IF(核取結果=TRUE,ROW(序號)-9,9999),ROW(客戶資料及選擇列印!381:381))","v":9999},{"$f":"IF($H386=9999,\"\",OFFSET(客戶資料及選擇列印!$C$9,$H386,COLUMN(客戶資料及選擇列印!A:A),,))","v":""},{"$f":"IF(H386=9999,\"\",INDEX(客戶資料及選擇列印!$B$10:$B$409,MATCH(H386,客戶資料及選擇列印!$C$10:$C$409,0),1))","v":""}]
[null,null,null,null,null,null,null,{"$f":"SMALL(IF(核取結果=TRUE,ROW(序號)-9,9999),ROW(客戶資料及選擇列印!382:382))","v":9999},{"$f":"IF($H387=9999,\"\",OFFSET(客戶資料及選擇列印!$C$9,$H387,COLUMN(客戶資料及選擇列印!A:A),,))","v":""},{"$f":"IF(H387=9999,\"\",INDEX(客戶資料及選擇列印!$B$10:$B$409,MATCH(H387,客戶資料及選擇列印!$C$10:$C$409,0),1))","v":""}]
[null,null,null,null,null,null,null,{"$f":"SMALL(IF(核取結果=TRUE,ROW(序號)-9,9999),ROW(客戶資料及選擇列印!383:383))","v":9999},{"$f":"IF($H388=9999,\"\",OFFSET(客戶資料及選擇列印!$C$9,$H388,COLUMN(客戶資料及選擇列印!A:A),,))","v":""},{"$f":"IF(H388=9999,\"\",INDEX(客戶資料及選擇列印!$B$10:$B$409,MATCH(H388,客戶資料及選擇列印!$C$10:$C$409,0),1))","v":""}]
[null,null,null,null,null,null,null,{"$f":"SMALL(IF(核取結果=TRUE,ROW(序號)-9,9999),ROW(客戶資料及選擇列印!384:384))","v":9999},{"$f":"IF($H389=9999,\"\",OFFSET(客戶資料及選擇列印!$C$9,$H389,COLUMN(客戶資料及選擇列印!A:A),,))","v":""},{"$f":"IF(H389=9999,\"\",INDEX(客戶資料及選擇列印!$B$10:$B$409,MATCH(H389,客戶資料及選擇列印!$C$10:$C$409,0),1))","v":""}]
[null,null,null,null,null,null,null,{"$f":"SMALL(IF(核取結果=TRUE,ROW(序號)-9,9999),ROW(客戶資料及選擇列印!385:385))","v":9999},{"$f":"IF($H390=9999,\"\",OFFSET(客戶資料及選擇列印!$C$9,$H390,COLUMN(客戶資料及選擇列印!A:A),,))","v":""},{"$f":"IF(H390=9999,\"\",INDEX(客戶資料及選擇列印!$B$10:$B$409,MATCH(H390,客戶資料及選擇列印!$C$10:$C$409,0),1))","v":""}]
[null,null,null,null,null,null,null,{"$f":"SMALL(IF(核取結果=TRUE,ROW(序號)-9,9999),ROW(客戶資料及選擇列印!386:386))","v":9999},{"$f":"IF($H391=9999,\"\",OFFSET(客戶資料及選擇列印!$C$9,$H391,COLUMN(客戶資料及選擇列印!A:A),,))","v":""},{"$f":"IF(H391=9999,\"\",INDEX(客戶資料及選擇列印!$B$10:$B$409,MATCH(H391,客戶資料及選擇列印!$C$10:$C$409,0),1))","v":""}]
[null,null,null,null,null,null,null,{"$f":"SMALL(IF(核取結果=TRUE,ROW(序號)-9,9999),ROW(客戶資料及選擇列印!387:387))","v":9999},{"$f":"IF($H392=9999,\"\",OFFSET(客戶資料及選擇列印!$C$9,$H392,COLUMN(客戶資料及選擇列印!A:A),,))","v":""},{"$f":"IF(H392=9999,\"\",INDEX(客戶資料及選擇列印!$B$10:$B$409,MATCH(H392,客戶資料及選擇列印!$C$10:$C$409,0),1))","v":""}]
[null,null,null,null,null,null,null,{"$f":"SMALL(IF(核取結果=TRUE,ROW(序號)-9,9999),ROW(客戶資料及選擇列印!388:388))","v":9999},{"$f":"IF($H393=9999,\"\",OFFSET(客戶資料及選擇列印!$C$9,$H393,COLUMN(客戶資料及選擇列印!A:A),,))","v":""},{"$f":"IF(H393=9999,\"\",INDEX(客戶資料及選擇列印!$B$10:$B$409,MATCH(H393,客戶資料及選擇列印!$C$10:$C$409,0),1))","v":""}]
[null,null,null,null,null,null,null,{"$f":"SMALL(IF(核取結果=TRUE,ROW(序號)-9,9999),ROW(客戶資料及選擇列印!389:389))","v":9999},{"$f":"IF($H394=9999,\"\",OFFSET(客戶資料及選擇列印!$C$9,$H394,COLUMN(客戶資料及選擇列印!A:A),,))","v":""},{"$f":"IF(H394=9999,\"\",INDEX(客戶資料及選擇列印!$B$10:$B$409,MATCH(H394,客戶資料及選擇列印!$C$10:$C$409,0),1))","v":""}]
[null,null,null,null,null,null,null,{"$f":"SMALL(IF(核取結果=TRUE,ROW(序號)-9,9999),ROW(客戶資料及選擇列印!390:390))","v":9999},{"$f":"IF($H395=9999,\"\",OFFSET(客戶資料及選擇列印!$C$9,$H395,COLUMN(客戶資料及選擇列印!A:A),,))","v":""},{"$f":"IF(H395=9999,\"\",INDEX(客戶資料及選擇列印!$B$10:$B$409,MATCH(H395,客戶資料及選擇列印!$C$10:$C$409,0),1))","v":""}]
[null,null,null,null,null,null,null,{"$f":"SMALL(IF(核取結果=TRUE,ROW(序號)-9,9999),ROW(客戶資料及選擇列印!391:391))","v":9999},{"$f":"IF($H396=9999,\"\",OFFSET(客戶資料及選擇列印!$C$9,$H396,COLUMN(客戶資料及選擇列印!A:A),,))","v":""},{"$f":"IF(H396=9999,\"\",INDEX(客戶資料及選擇列印!$B$10:$B$409,MATCH(H396,客戶資料及選擇列印!$C$10:$C$409,0),1))","v":""}]
[null,null,null,null,null,null,null,{"$f":"SMALL(IF(核取結果=TRUE,ROW(序號)-9,9999),ROW(客戶資料及選擇列印!392:392))","v":9999},{"$f":"IF($H397=9999,\"\",OFFSET(客戶資料及選擇列印!$C$9,$H397,COLUMN(客戶資料及選擇列印!A:A),,))","v":""},{"$f":"IF(H397=9999,\"\",INDEX(客戶資料及選擇列印!$B$10:$B$409,MATCH(H397,客戶資料及選擇列印!$C$10:$C$409,0),1))","v":""}]
[null,null,null,null,null,null,null,{"$f":"SMALL(IF(核取結果=TRUE,ROW(序號)-9,9999),ROW(客戶資料及選擇列印!393:393))","v":9999},{"$f":"IF($H398=9999,\"\",OFFSET(客戶資料及選擇列印!$C$9,$H398,COLUMN(客戶資料及選擇列印!A:A),,))","v":""},{"$f":"IF(H398=9999,\"\",INDEX(客戶資料及選擇列印!$B$10:$B$409,MATCH(H398,客戶資料及選擇列印!$C$10:$C$409,0),1))","v":""}]
[null,null,null,null,null,null,null,{"$f":"SMALL(IF(核取結果=TRUE,ROW(序號)-9,9999),ROW(客戶資料及選擇列印!394:394))","v":9999},{"$f":"IF($H399=9999,\"\",OFFSET(客戶資料及選擇列印!$C$9,$H399,COLUMN(客戶資料及選擇列印!A:A),,))","v":""},{"$f":"IF(H399=9999,\"\",INDEX(客戶資料及選擇列印!$B$10:$B$409,MATCH(H399,客戶資料及選擇列印!$C$10:$C$409,0),1))","v":""}]
[null,null,null,null,null,null,null,{"$f":"SMALL(IF(核取結果=TRUE,ROW(序號)-9,9999),ROW(客戶資料及選擇列印!395:395))","v":9999},{"$f":"IF($H400=9999,\"\",OFFSET(客戶資料及選擇列印!$C$9,$H400,COLUMN(客戶資料及選擇列印!A:A),,))","v":""},{"$f":"IF(H400=9999,\"\",INDEX(客戶資料及選擇列印!$B$10:$B$409,MATCH(H400,客戶資料及選擇列印!$C$10:$C$409,0),1))","v":""}]
[null,null,null,null,null,null,null,{"$f":"SMALL(IF(核取結果=TRUE,ROW(序號)-9,9999),ROW(客戶資料及選擇列印!396:396))","v":9999},{"$f":"IF($H401=9999,\"\",OFFSET(客戶資料及選擇列印!$C$9,$H401,COLUMN(客戶資料及選擇列印!A:A),,))","v":""},{"$f":"IF(H401=9999,\"\",INDEX(客戶資料及選擇列印!$B$10:$B$409,MATCH(H401,客戶資料及選擇列印!$C$10:$C$409,0),1))","v":""}]
[null,null,null,null,null,null,null,{"$f":"SMALL(IF(核取結果=TRUE,ROW(序號)-9,9999),ROW(客戶資料及選擇列印!397:397))","v":9999},{"$f":"IF($H402=9999,\"\",OFFSET(客戶資料及選擇列印!$C$9,$H402,COLUMN(客戶資料及選擇列印!A:A),,))","v":""},{"$f":"IF(H402=9999,\"\",INDEX(客戶資料及選擇列印!$B$10:$B$409,MATCH(H402,客戶資料及選擇列印!$C$10:$C$409,0),1))","v":""}]
[null,null,null,null,null,null,null,{"$f":"SMALL(IF(核取結果=TRUE,ROW(序號)-9,9999),ROW(客戶資料及選擇列印!398:398))","v":9999},{"$f":"IF($H403=9999,\"\",OFFSET(客戶資料及選擇列印!$C$9,$H403,COLUMN(客戶資料及選擇列印!A:A),,))","v":""},{"$f":"IF(H403=9999,\"\",INDEX(客戶資料及選擇列印!$B$10:$B$409,MATCH(H403,客戶資料及選擇列印!$C$10:$C$409,0),1))","v":""}]
[null,null,null,null,null,null,null,{"$f":"SMALL(IF(核取結果=TRUE,ROW(序號)-9,9999),ROW(客戶資料及選擇列印!399:399))","v":9999},{"$f":"IF($H404=9999,\"\",OFFSET(客戶資料及選擇列印!$C$9,$H404,COLUMN(客戶資料及選擇列印!A:A),,))","v":""},{"$f":"IF(H404=9999,\"\",INDEX(客戶資料及選擇列印!$B$10:$B$409,MATCH(H404,客戶資料及選擇列印!$C$10:$C$409,0),1))","v":""}]
[null,null,null,null,null,null,null,{"$f":"SMALL(IF(核取結果=TRUE,ROW(序號)-9,9999),ROW(客戶資料及選擇列印!400:400))","v":9999},{"$f":"IF($H405=9999,\"\",OFFSET(客戶資料及選擇列印!$C$9,$H405,COLUMN(客戶資料及選擇列印!A:A),,))","v":""},{"$f":"IF(H405=9999,\"\",INDEX(客戶資料及選擇列印!$B$10:$B$409,MATCH(H405,客戶資料及選擇列印!$C$10:$C$409,0),1))","v":""}]

{"sheet":"大宗入戶匯款","index":2,"n_rows":33,"n_cols":28,"rows_kept":33,"cut":false,"hidden":true,"merged":[[23,0,23,27],[22,11,22,12],[22,20,22,21],[22,23,22,26],[24,1,24,3],[24,7,24,8],[24,11,24,12],[24,20,24,21],[24,23,24,26],[25,0,25,27],[26,22,27,27],[26,0,26,1],[27,0,27,1],[26,4,26,9],[27,4,27,9],[27,10,27,16],[26,18,26,20],[27,18,27,20],[26,10,26,17],[18,1,18,3],[18,7,18,8],[18,11,18,12],[18,20,18,21],[18,23,18,26],[19,0,19,27],[20,1,20,3],[21,0,21,27],[22,1,22,3],[22,7,22,8],[20,7,20,8],[20,11,20,12],[20,20,20,21],[20,23,20,26],[17,0,17,27],[14,1,14,3],[14,7,14,8],[14,11,14,12],[14,20,14,21],[14,23,14,26],[15,0,15,27],[16,1,16,3],[16,7,16,8],[16,11,16,12],[16,20,16,21],[16,23,16,26],[8,23,8,26],[13,0,13,27],[10,1,10,3],[10,7,10,8],[10,11,10,12],[10,20,10,21],[10,23,10,26],[11,0,11,27],[12,1,12,3],[12,7,12,8],[12,11,12,12],[12,20,12,21],[12,23,12,26],[9,0,9,27],[8,1,8,3],[8,7,8,8],[5,1,5,3],[5,4,5,12],[5,13,5,19],[5,20,5,21],[5,23,5,26],[7,0,7,27],[6,7,6,8],[6,1,6,3],[6,11,6,12],[6,20,6,21],[6,23,6,26],[8,11,8,12],[8,20,8,21],[4,26,4,27],[2,0,3,0],[2,1,2,7],[2,8,2,21],[3,2,3,11],[3,12,3,14],[3,15,3,27],[2,22,2,25],[2,26,2,27],[4,0,4,1],[4,3,4,14],[4,15,4,20],[4,21,4,23],[4,24,4,25]]}
["98-05-51-26           大宗入戶匯款(網路)匯款單/執據"]
["匯款局：",null,null,null,null,null,null,null,"日期：",null,null,null,null,null,null,null,null,null,null,null,"批號：",null,null,null,null,null,null,"第1頁"]
["＊匯款人","姓名及留言(合計限10個字)",null,null,null,null,null,null,{"$f":"客戶資料及選擇列印!C1","v":"彰化郵局"},null,null,null,null,null,null,null,null,null,null,null,null,null,"身分證統一編號",null,null,null,{"$f":"客戶資料及選擇列印!C3","v":12345678}]
[null,"電話",{"$f":"客戶資料及選擇列印!C2","v":"04-7616690"},null,null,null,null,null,null,null,null,null,"地址",null,null,{"$f":"客戶資料及選擇列印!C4","v":"500彰化縣彰化市中央路270號"}]
["＊匯款代理人",null,"姓名",{"$f":"客戶資料及選擇列印!C5","v":"劉先生"},null,null,null,null,null,null,null,null,null,null,null,"身分證統一編號",null,null,null,null,null,{"$f":"客戶資料及選擇列印!C7","v":"N234567890"},null,null,"電話",null,{"$f":"客戶資料及選擇列印!C6","v":"04-7616690#999"}]
["行位","＊受款人姓名",null,null,"＊立帳局號",null,null,null,null,null,null,null,null,"＊存簿帳號",null,null,null,null,null,null,"＊匯款金額",null,"匯費","匯款號",null,null,null,"序號"]
[1,{"$f":"IF(運算!$B6=\"\",\"\",運算!$B6)","v":"吳先生"},null,null,{"$f":"IF($B7=\"\",\"\",MID(VLOOKUP($B7,客戶資料及選擇列印!$D10:$L409,5,FALSE),1,1))","v":"0"},{"$f":"IF($B7=\"\",\"\",MID(VLOOKUP($B7,客戶資料及選擇列印!$D10:$L409,5,FALSE),2,1))","v":"0"},{"$f":"IF($B7=\"\",\"\",MID(VLOOKUP($B7,客戶資料及選擇列印!$D10:$L409,5,FALSE),3,1))","v":"8"},{"$f":"IF($B7=\"\",\"\",MID(VLOOKUP($B7,客戶資料及選擇列印!$D10:$L409,5,FALSE),4,1))","v":"1"},{"$error":"#N/A"},{"$f":"IF($B7=\"\",\"\",MID(VLOOKUP($B7,客戶資料及選擇列印!$D10:$L409,5,FALSE),5,1))","v":"0"},{"$f":"IF($B7=\"\",\"\",MID(VLOOKUP($B7,客戶資料及選擇列印!$D10:$L409,5,FALSE),6,1))","v":"0"},{"$f":"IF($B7=\"\",\"\",MID(VLOOKUP($B7,客戶資料及選擇列印!$D10:$L409,5,FALSE),7,1))","v":"7"},{"$error":"#N/A"},{"$f":"IF($B7=\"\",\"\",MID(VLOOKUP($B7,客戶資料及選擇列印!$D10:$L409,6,FALSE),1,1))","v":"9"},{"$f":"IF($B7=\"\",\"\",MID(VLOOKUP($B7,客戶資料及選擇列印!$D10:$L409,6,FALSE),2,1))","v":"0"},{"$f":"IF($B7=\"\",\"\",MID(VLOOKUP($B7,客戶資料及選擇列印!$D10:$L409,6,FALSE),3,1))","v":"0"},{"$f":"IF($B7=\"\",\"\",MID(VLOOKUP($B7,客戶資料及選擇列印!$D10:$L409,6,FALSE),4,1))","v":"2"},{"$f":"IF($B7=\"\",\"\",MID(VLOOKUP($B7,客戶資料及選擇列印!$D10:$L409,6,FALSE),5,1))","v":"0"},{"$f":"IF($B7=\"\",\"\",MID(VLOOKUP($B7,客戶資料及選擇列印!$D10:$L409,6,FALSE),6,1))","v":"5"},{"$f":"IF($B7=\"\",\"\",MID(VLOOKUP($B7,客戶資料及選擇列印!$D10:$L409,6,FALSE),7,1))","v":"3"},{"$f":"IF(運算!$C6=\"\",\"\",運算!$C6)","v":10},null,{"$f":"IF(U7=\"\",\"\",IF(U7=0,\"\",30))","v":30}]
[]
[2,{"$f":"IF(運算!$B7=\"\",\"\",運算!$B7)","v":""},null,null,{"$f":"IF($B9=\"\",\"\",MID(VLOOKUP($B9,客戶資料及選擇列印!$D10:$L409,5,FALSE),1,1))","v":""},{"$f":"IF($B9=\"\",\"\",MID(VLOOKUP($B9,客戶資料及選擇列印!$D10:$L409,5,FALSE),2,1))","v":""},{"$f":"IF($B9=\"\",\"\",MID(VLOOKUP($B9,客戶資料及選擇列印!$D10:$L409,5,FALSE),3,1))","v":""},{"$f":"IF($B9=\"\",\"\",MID(VLOOKUP($B9,客戶資料及選擇列印!$D10:$L409,5,FALSE),4,1))","v":""},{"$error":"#N/A"},{"$f":"IF($B9=\"\",\"\",MID(VLOOKUP($B9,客戶資料及選擇列印!$D10:$L409,5,FALSE),5,1))","v":""},{"$f":"IF($B9=\"\",\"\",MID(VLOOKUP($B9,客戶資料及選擇列印!$D10:$L409,5,FALSE),6,1))","v":""},{"$f":"IF($B9=\"\",\"\",MID(VLOOKUP($B9,客戶資料及選擇列印!$D10:$L409,5,FALSE),7,1))","v":""},{"$error":"#N/A"},{"$f":"IF($B9=\"\",\"\",MID(VLOOKUP($B9,客戶資料及選擇列印!$D10:$L409,6,FALSE),1,1))","v":""},{"$f":"IF($B9=\"\",\"\",MID(VLOOKUP($B9,客戶資料及選擇列印!$D10:$L409,6,FALSE),2,1))","v":""},{"$f":"IF($B9=\"\",\"\",MID(VLOOKUP($B9,客戶資料及選擇列印!$D10:$L409,6,FALSE),3,1))","v":""},{"$f":"IF($B9=\"\",\"\",MID(VLOOKUP($B9,客戶資料及選擇列印!$D10:$L409,6,FALSE),4,1))","v":""},{"$f":"IF($B9=\"\",\"\",MID(VLOOKUP($B9,客戶資料及選擇列印!$D10:$L409,6,FALSE),5,1))","v":""},{"$f":"IF($B9=\"\",\"\",MID(VLOOKUP($B9,客戶資料及選擇列印!$D10:$L409,6,FALSE),6,1))","v":""},{"$f":"IF($B9=\"\",\"\",MID(VLOOKUP($B9,客戶資料及選擇列印!$D10:$L409,6,FALSE),7,1))","v":""},{"$f":"IF(運算!$C7=\"\",\"\",運算!$C7)","v":""},null,{"$f":"IF(U9=\"\",\"\",IF(U9=0,\"\",30))","v":""}]
[]
[3,{"$f":"IF(運算!$B8=\"\",\"\",運算!$B8)","v":""},null,null,{"$f":"IF($B11=\"\",\"\",MID(VLOOKUP($B11,客戶資料及選擇列印!$D10:$L409,5,FALSE),1,1))","v":""},{"$f":"IF($B11=\"\",\"\",MID(VLOOKUP($B11,客戶資料及選擇列印!$D10:$L409,5,FALSE),2,1))","v":""},{"$f":"IF($B11=\"\",\"\",MID(VLOOKUP($B11,客戶資料及選擇列印!$D10:$L409,5,FALSE),3,1))","v":""},{"$f":"IF($B11=\"\",\"\",MID(VLOOKUP($B11,客戶資料及選擇列印!$D10:$L409,5,FALSE),4,1))","v":""},{"$error":"#N/A"},{"$f":"IF($B11=\"\",\"\",MID(VLOOKUP($B11,客戶資料及選擇列印!$D10:$L409,5,FALSE),5,1))","v":""},{"$f":"IF($B11=\"\",\"\",MID(VLOOKUP($B11,客戶資料及選擇列印!$D10:$L409,5,FALSE),6,1))","v":""},{"$f":"IF($B11=\"\",\"\",MID(VLOOKUP($B11,客戶資料及選擇列印!$D10:$L409,5,FALSE),7,1))","v":""},{"$error":"#N/A"},{"$f":"IF($B11=\"\",\"\",MID(VLOOKUP($B11,客戶資料及選擇列印!$D10:$L409,6,FALSE),1,1))","v":""},{"$f":"IF($B11=\"\",\"\",MID(VLOOKUP($B11,客戶資料及選擇列印!$D10:$L409,6,FALSE),2,1))","v":""},{"$f":"IF($B11=\"\",\"\",MID(VLOOKUP($B11,客戶資料及選擇列印!$D10:$L409,6,FALSE),3,1))","v":""},{"$f":"IF($B11=\"\",\"\",MID(VLOOKUP($B11,客戶資料及選擇列印!$D10:$L409,6,FALSE),4,1))","v":""},{"$f":"IF($B11=\"\",\"\",MID(VLOOKUP($B11,客戶資料及選擇列印!$D10:$L409,6,FALSE),5,1))","v":""},{"$f":"IF($B11=\"\",\"\",MID(VLOOKUP($B11,客戶資料及選擇列印!$D10:$L409,6,FALSE),6,1))","v":""},{"$f":"IF($B11=\"\",\"\",MID(VLOOKUP($B11,客戶資料及選擇列印!$D10:$L409,6,FALSE),7,1))","v":""},{"$f":"IF(運算!$C8=\"\",\"\",運算!$C8)","v":""},null,{"$f":"IF(U11=\"\",\"\",IF(U11=0,\"\",30))","v":""}]
[]
[4,{"$f":"IF(運算!$B9=\"\",\"\",運算!$B9)","v":""},null,null,{"$f":"IF($B13=\"\",\"\",MID(VLOOKUP($B13,客戶資料及選擇列印!$D10:$L409,5,FALSE),1,1))","v":""},{"$f":"IF($B13=\"\",\"\",MID(VLOOKUP($B13,客戶資料及選擇列印!$D10:$L409,5,FALSE),2,1))","v":""},{"$f":"IF($B13=\"\",\"\",MID(VLOOKUP($B13,客戶資料及選擇列印!$D10:$L409,5,FALSE),3,1))","v":""},{"$f":"IF($B13=\"\",\"\",MID(VLOOKUP($B13,客戶資料及選擇列印!$D10:$L409,5,FALSE),4,1))","v":""},{"$error":"#N/A"},{"$f":"IF($B13=\"\",\"\",MID(VLOOKUP($B13,客戶資料及選擇列印!$D10:$L409,5,FALSE),5,1))","v":""},{"$f":"IF($B13=\"\",\"\",MID(VLOOKUP($B13,客戶資料及選擇列印!$D10:$L409,5,FALSE),6,1))","v":""},{"$f":"IF($B13=\"\",\"\",MID(VLOOKUP($B13,客戶資料及選擇列印!$D10:$L409,5,FALSE),7,1))","v":""},{"$error":"#N/A"},{"$f":"IF($B13=\"\",\"\",MID(VLOOKUP($B13,客戶資料及選擇列印!$D10:$L409,6,FALSE),1,1))","v":""},{"$f":"IF($B13=\"\",\"\",MID(VLOOKUP($B13,客戶資料及選擇列印!$D10:$L409,6,FALSE),2,1))","v":""},{"$f":"IF($B13=\"\",\"\",MID(VLOOKUP($B13,客戶資料及選擇列印!$D10:$L409,6,FALSE),3,1))","v":""},{"$f":"IF($B13=\"\",\"\",MID(VLOOKUP($B13,客戶資料及選擇列印!$D10:$L409,6,FALSE),4,1))","v":""},{"$f":"IF($B13=\"\",\"\",MID(VLOOKUP($B13,客戶資料及選擇列印!$D10:$L409,6,FALSE),5,1))","v":""},{"$f":"IF($B13=\"\",\"\",MID(VLOOKUP($B13,客戶資料及選擇列印!$D10:$L409,6,FALSE),6,1))","v":""},{"$f":"IF($B13=\"\",\"\",MID(VLOOKUP($B13,客戶資料及選擇列印!$D10:$L409,6,FALSE),7,1))","v":""},{"$f":"IF(運算!$C9=\"\",\"\",運算!$C9)","v":""},null,{"$f":"IF(U13=\"\",\"\",IF(U13=0,\"\",30))","v":""}]
[]
[5,{"$f":"IF(運算!$B10=\"\",\"\",運算!$B10)","v":""},null,null,{"$f":"IF($B15=\"\",\"\",MID(VLOOKUP($B15,客戶資料及選擇列印!$D10:$L409,5,FALSE),1,1))","v":""},{"$f":"IF($B15=\"\",\"\",MID(VLOOKUP($B15,客戶資料及選擇列印!$D10:$L409,5,FALSE),2,1))","v":""},{"$f":"IF($B15=\"\",\"\",MID(VLOOKUP($B15,客戶資料及選擇列印!$D10:$L409,5,FALSE),3,1))","v":""},{"$f":"IF($B15=\"\",\"\",MID(VLOOKUP($B15,客戶資料及選擇列印!$D10:$L409,5,FALSE),4,1))","v":""},"0",{"$f":"IF($B15=\"\",\"\",MID(VLOOKUP($B15,客戶資料及選擇列印!$D10:$L409,5,FALSE),5,1))","v":""},{"$f":"IF($B15=\"\",\"\",MID(VLOOKUP($B15,客戶資料及選擇列印!$D10:$L409,5,FALSE),6,1))","v":""},{"$f":"IF($B15=\"\",\"\",MID(VLOOKUP($B15,客戶資料及選擇列印!$D10:$L409,5,FALSE),7,1))","v":""},"0",{"$f":"IF($B15=\"\",\"\",MID(VLOOKUP($B15,客戶資料及選擇列印!$D10:$L409,6,FALSE),1,1))","v":""},{"$f":"IF($B15=\"\",\"\",MID(VLOOKUP($B15,客戶資料及選擇列印!$D10:$L409,6,FALSE),2,1))","v":""},{"$f":"IF($B15=\"\",\"\",MID(VLOOKUP($B15,客戶資料及選擇列印!$D10:$L409,6,FALSE),3,1))","v":""},{"$f":"IF($B15=\"\",\"\",MID(VLOOKUP($B15,客戶資料及選擇列印!$D10:$L409,6,FALSE),4,1))","v":""},{"$f":"IF($B15=\"\",\"\",MID(VLOOKUP($B15,客戶資料及選擇列印!$D10:$L409,6,FALSE),5,1))","v":""},{"$f":"IF($B15=\"\",\"\",MID(VLOOKUP($B15,客戶資料及選擇列印!$D10:$L409,6,FALSE),6,1))","v":""},{"$f":"IF($B15=\"\",\"\",MID(VLOOKUP($B15,客戶資料及選擇列印!$D10:$L409,6,FALSE),7,1))","v":""},{"$f":"IF(運算!$C10=\"\",\"\",運算!$C10)","v":""},null,{"$f":"IF(U15=\"\",\"\",IF(U15=0,\"\",30))","v":""}]
[]
[6,{"$f":"IF(運算!$B11=\"\",\"\",運算!$B11)","v":""},null,null,{"$f":"IF($B17=\"\",\"\",MID(VLOOKUP($B17,客戶資料及選擇列印!$D10:$L409,5,FALSE),1,1))","v":""},{"$f":"IF($B17=\"\",\"\",MID(VLOOKUP($B17,客戶資料及選擇列印!$D10:$L409,5,FALSE),2,1))","v":""},{"$f":"IF($B17=\"\",\"\",MID(VLOOKUP($B17,客戶資料及選擇列印!$D10:$L409,5,FALSE),3,1))","v":""},{"$f":"IF($B17=\"\",\"\",MID(VLOOKUP($B17,客戶資料及選擇列印!$D10:$L409,5,FALSE),4,1))","v":""},{"$error":"#N/A"},{"$f":"IF($B17=\"\",\"\",MID(VLOOKUP($B17,客戶資料及選擇列印!$D10:$L409,5,FALSE),5,1))","v":""},{"$f":"IF($B17=\"\",\"\",MID(VLOOKUP($B17,客戶資料及選擇列印!$D10:$L409,5,FALSE),6,1))","v":""},{"$f":"IF($B17=\"\",\"\",MID(VLOOKUP($B17,客戶資料及選擇列印!$D10:$L409,5,FALSE),7,1))","v":""},{"$error":"#N/A"},{"$f":"IF($B17=\"\",\"\",MID(VLOOKUP($B17,客戶資料及選擇列印!$D10:$L409,6,FALSE),1,1))","v":""},{"$f":"IF($B17=\"\",\"\",MID(VLOOKUP($B17,客戶資料及選擇列印!$D10:$L409,6,FALSE),2,1))","v":""},{"$f":"IF($B17=\"\",\"\",MID(VLOOKUP($B17,客戶資料及選擇列印!$D10:$L409,6,FALSE),3,1))","v":""},{"$f":"IF($B17=\"\",\"\",MID(VLOOKUP($B17,客戶資料及選擇列印!$D10:$L409,6,FALSE),4,1))","v":""},{"$f":"IF($B17=\"\",\"\",MID(VLOOKUP($B17,客戶資料及選擇列印!$D10:$L409,6,FALSE),5,1))","v":""},{"$f":"IF($B17=\"\",\"\",MID(VLOOKUP($B17,客戶資料及選擇列印!$D10:$L409,6,FALSE),6,1))","v":""},{"$f":"IF($B17=\"\",\"\",MID(VLOOKUP($B17,客戶資料及選擇列印!$D10:$L409,6,FALSE),7,1))","v":""},{"$f":"IF(運算!$C11=\"\",\"\",運算!$C11)","v":""},null,{"$f":"IF(U17=\"\",\"\",IF(U17=0,\"\",30))","v":""}]
[]
[7,{"$f":"IF(運算!$B12=\"\",\"\",運算!$B12)","v":""},null,null,{"$f":"IF($B19=\"\",\"\",MID(VLOOKUP($B19,客戶資料及選擇列印!$D10:$L409,5,FALSE),1,1))","v":""},{"$f":"IF($B19=\"\",\"\",MID(VLOOKUP($B19,客戶資料及選擇列印!$D10:$L409,5,FALSE),2,1))","v":""},{"$f":"IF($B19=\"\",\"\",MID(VLOOKUP($B19,客戶資料及選擇列印!$D10:$L409,5,FALSE),3,1))","v":""},{"$f":"IF($B19=\"\",\"\",MID(VLOOKUP($B19,客戶資料及選擇列印!$D10:$L409,5,FALSE),4,1))","v":""},{"$error":"#N/A"},{"$f":"IF($B19=\"\",\"\",MID(VLOOKUP($B19,客戶資料及選擇列印!$D10:$L409,5,FALSE),5,1))","v":""},{"$f":"IF($B19=\"\",\"\",MID(VLOOKUP($B19,客戶資料及選擇列印!$D10:$L409,5,FALSE),6,1))","v":""},{"$f":"IF($B19=\"\",\"\",MID(VLOOKUP($B19,客戶資料及選擇列印!$D10:$L409,5,FALSE),7,1))","v":""},{"$error":"#N/A"},{"$f":"IF($B19=\"\",\"\",MID(VLOOKUP($B19,客戶資料及選擇列印!$D10:$L409,6,FALSE),1,1))","v":""},{"$f":"IF($B19=\"\",\"\",MID(VLOOKUP($B19,客戶資料及選擇列印!$D10:$L409,6,FALSE),2,1))","v":""},{"$f":"IF($B19=\"\",\"\",MID(VLOOKUP($B19,客戶資料及選擇列印!$D10:$L409,6,FALSE),3,1))","v":""},{"$f":"IF($B19=\"\",\"\",MID(VLOOKUP($B19,客戶資料及選擇列印!$D10:$L409,6,FALSE),4,1))","v":""},{"$f":"IF($B19=\"\",\"\",MID(VLOOKUP($B19,客戶資料及選擇列印!$D10:$L409,6,FALSE),5,1))","v":""},{"$f":"IF($B19=\"\",\"\",MID(VLOOKUP($B19,客戶資料及選擇列印!$D10:$L409,6,FALSE),6,1))","v":""},{"$f":"IF($B19=\"\",\"\",MID(VLOOKUP($B19,客戶資料及選擇列印!$D10:$L409,6,FALSE),7,1))","v":""},{"$f":"IF(運算!$C12=\"\",\"\",運算!$C12)","v":""},null,{"$f":"IF(U19=\"\",\"\",IF(U19=0,\"\",30))","v":""}]
[]
[8,{"$f":"IF(運算!$B13=\"\",\"\",運算!$B13)","v":""},null,null,{"$f":"IF($B21=\"\",\"\",MID(VLOOKUP($B21,客戶資料及選擇列印!$D10:$L409,5,FALSE),1,1))","v":""},{"$f":"IF($B21=\"\",\"\",MID(VLOOKUP($B21,客戶資料及選擇列印!$D10:$L409,5,FALSE),2,1))","v":""},{"$f":"IF($B21=\"\",\"\",MID(VLOOKUP($B21,客戶資料及選擇列印!$D10:$L409,5,FALSE),3,1))","v":""},{"$f":"IF($B21=\"\",\"\",MID(VLOOKUP($B21,客戶資料及選擇列印!$D10:$L409,5,FALSE),4,1))","v":""},{"$error":"#N/A"},{"$f":"IF($B21=\"\",\"\",MID(VLOOKUP($B21,客戶資料及選擇列印!$D10:$L409,5,FALSE),5,1))","v":""},{"$f":"IF($B21=\"\",\"\",MID(VLOOKUP($B21,客戶資料及選擇列印!$D10:$L409,5,FALSE),6,1))","v":""},{"$f":"IF($B21=\"\",\"\",MID(VLOOKUP($B21,客戶資料及選擇列印!$D10:$L409,5,FALSE),7,1))","v":""},{"$error":"#N/A"},{"$f":"IF($B21=\"\",\"\",MID(VLOOKUP($B21,客戶資料及選擇列印!$D10:$L409,6,FALSE),1,1))","v":""},{"$f":"IF($B21=\"\",\"\",MID(VLOOKUP($B21,客戶資料及選擇列印!$D10:$L409,6,FALSE),2,1))","v":""},{"$f":"IF($B21=\"\",\"\",MID(VLOOKUP($B21,客戶資料及選擇列印!$D10:$L409,6,FALSE),3,1))","v":""},{"$f":"IF($B21=\"\",\"\",MID(VLOOKUP($B21,客戶資料及選擇列印!$D10:$L409,6,FALSE),4,1))","v":""},{"$f":"IF($B21=\"\",\"\",MID(VLOOKUP($B21,客戶資料及選擇列印!$D10:$L409,6,FALSE),5,1))","v":""},{"$f":"IF($B21=\"\",\"\",MID(VLOOKUP($B21,客戶資料及選擇列印!$D10:$L409,6,FALSE),6,1))","v":""},{"$f":"IF($B21=\"\",\"\",MID(VLOOKUP($B21,客戶資料及選擇列印!$D10:$L409,6,FALSE),7,1))","v":""},{"$f":"IF(運算!$C13=\"\",\"\",運算!$C13)","v":""},null,{"$f":"IF(U21=\"\",\"\",IF(U21=0,\"\",30))","v":""}]
[]
[9,{"$f":"IF(運算!$B14=\"\",\"\",運算!$B14)","v":""},null,null,{"$f":"IF($B23=\"\",\"\",MID(VLOOKUP($B23,客戶資料及選擇列印!$D10:$L409,5,FALSE),1,1))","v":""},{"$f":"IF($B23=\"\",\"\",MID(VLOOKUP($B23,客戶資料及選擇列印!$D10:$L409,5,FALSE),2,1))","v":""},{"$f":"IF($B23=\"\",\"\",MID(VLOOKUP($B23,客戶資料及選擇列印!$D10:$L409,5,FALSE),3,1))","v":""},{"$f":"IF($B23=\"\",\"\",MID(VLOOKUP($B23,客戶資料及選擇列印!$D10:$L409,5,FALSE),4,1))","v":""},{"$error":"#N/A"},{"$f":"IF($B23=\"\",\"\",MID(VLOOKUP($B23,客戶資料及選擇列印!$D10:$L409,5,FALSE),5,1))","v":""},{"$f":"IF($B23=\"\",\"\",MID(VLOOKUP($B23,客戶資料及選擇列印!$D10:$L409,5,FALSE),6,1))","v":""},{"$f":"IF($B23=\"\",\"\",MID(VLOOKUP($B23,客戶資料及選擇列印!$D10:$L409,5,FALSE),7,1))","v":""},{"$error":"#N/A"},{"$f":"IF($B23=\"\",\"\",MID(VLOOKUP($B23,客戶資料及選擇列印!$D10:$L409,6,FALSE),1,1))","v":""},{"$f":"IF($B23=\"\",\"\",MID(VLOOKUP($B23,客戶資料及選擇列印!$D10:$L409,6,FALSE),2,1))","v":""},{"$f":"IF($B23=\"\",\"\",MID(VLOOKUP($B23,客戶資料及選擇列印!$D10:$L409,6,FALSE),3,1))","v":""},{"$f":"IF($B23=\"\",\"\",MID(VLOOKUP($B23,客戶資料及選擇列印!$D10:$L409,6,FALSE),4,1))","v":""},{"$f":"IF($B23=\"\",\"\",MID(VLOOKUP($B23,客戶資料及選擇列印!$D10:$L409,6,FALSE),5,1))","v":""},{"$f":"IF($B23=\"\",\"\",MID(VLOOKUP($B23,客戶資料及選擇列印!$D10:$L409,6,FALSE),6,1))","v":""},{"$f":"IF($B23=\"\",\"\",MID(VLOOKUP($B23,客戶資料及選擇列印!$D10:$L409,6,FALSE),7,1))","v":""},{"$f":"IF(運算!$C14=\"\",\"\",運算!$C14)","v":""},null,{"$f":"IF(U23=\"\",\"\",IF(U23=0,\"\",30))","v":""}]
[]
[10,{"$f":"IF(運算!$B15=\"\",\"\",運算!$B15)","v":""},null,null,{"$f":"IF($B25=\"\",\"\",MID(VLOOKUP($B25,客戶資料及選擇列印!$D10:$L409,5,FALSE),1,1))","v":""},{"$f":"IF($B25=\"\",\"\",MID(VLOOKUP($B25,客戶資料及選擇列印!$D10:$L409,5,FALSE),2,1))","v":""},{"$f":"IF($B25=\"\",\"\",MID(VLOOKUP($B25,客戶資料及選擇列印!$D10:$L409,5,FALSE),3,1))","v":""},{"$f":"IF($B25=\"\",\"\",MID(VLOOKUP($B25,客戶資料及選擇列印!$D10:$L409,5,FALSE),4,1))","v":""},{"$error":"#N/A"},{"$f":"IF($B25=\"\",\"\",MID(VLOOKUP($B25,客戶資料及選擇列印!$D10:$L409,5,FALSE),5,1))","v":""},{"$f":"IF($B25=\"\",\"\",MID(VLOOKUP($B25,客戶資料及選擇列印!$D10:$L409,5,FALSE),6,1))","v":""},{"$f":"IF($B25=\"\",\"\",MID(VLOOKUP($B25,客戶資料及選擇列印!$D10:$L409,5,FALSE),7,1))","v":""},{"$error":"#N/A"},{"$f":"IF($B25=\"\",\"\",MID(VLOOKUP($B25,客戶資料及選擇列印!$D10:$L409,6,FALSE),1,1))","v":""},{"$f":"IF($B25=\"\",\"\",MID(VLOOKUP($B25,客戶資料及選擇列印!$D10:$L409,6,FALSE),2,1))","v":""},{"$f":"IF($B25=\"\",\"\",MID(VLOOKUP($B25,客戶資料及選擇列印!$D10:$L409,6,FALSE),3,1))","v":""},{"$f":"IF($B25=\"\",\"\",MID(VLOOKUP($B25,客戶資料及選擇列印!$D10:$L409,6,FALSE),4,1))","v":""},{"$f":"IF($B25=\"\",\"\",MID(VLOOKUP($B25,客戶資料及選擇列印!$D10:$L409,6,FALSE),5,1))","v":""},{"$f":"IF($B25=\"\",\"\",MID(VLOOKUP($B25,客戶資料及選擇列印!$D10:$L409,6,FALSE),6,1))","v":""},{"$f":"IF($B25=\"\",\"\",MID(VLOOKUP($B25,客戶資料及選擇列印!$D10:$L409,6,FALSE),7,1))","v":""},{"$f":"IF(運算!$C15=\"\",\"\",運算!$C15)","v":""},null,{"$f":"IF(U25=\"\",\"\",IF(U25=0,\"\",30))","v":""}]
[]
["總計：",null,{"$f":"V27/30&\"筆\"","v":"1筆"},null,"＊匯款：",null,null,null,null,null,{"$f":"IF(COUNTA(B25,B23,B21,B19,B17,B15,B13,B11,B9,B7)=0,0,SUM(U7,U9,U11,U13,U15,U17,U19,U21,U23,U25))","v":10},null,null,null,null,null,null,null,"＊匯費：",null,null,{"$f":"IF(COUNTA(B25,B23,B21,B19,B17,B15,B13,B11,B9,B7)=0,0,SUM(W7,W9,W11,W13,W15,W17,W19,W21,W23,W25))","v":30}]
["總計：",null,"　筆",null,"  匯款：",null,null,null,null,null,null,null,null,null,null,null,null,null,"　匯費："]
[]
["※申請批號：5541   輸入：5506   查詢及列印總數：5507"]
["※本單欄位大小請勿更動以免影響機器印錄位置，致欄位重疊影響辨識。"]
["※本單印錄完妥後,郵局影印1份加蓋「與正本相符」戳記、經辦章及主管章留存。"]
["104.11網路版  A4（210 ×297mm）郵局檔案保管5年"]

{"sheet":"大宗郵件交寄清單","index":3,"n_rows":39,"n_cols":15,"rows_kept":39,"cut":false,"hidden":true,"merged":[[5,7,5,9],[5,4,5,6],[33,6,33,7],[29,6,31,7],[29,8,31,9],[27,1,27,2],[28,1,28,2],[29,1,29,2],[28,6,28,9],[26,1,26,2],[22,1,22,2],[23,1,23,2],[24,1,24,2],[15,1,15,2],[16,1,16,2],[17,1,17,2],[18,1,18,2],[19,1,19,2],[25,1,25,2],[14,1,14,2],[6,8,7,8],[6,9,7,9],[8,1,8,2],[6,3,6,4],[6,5,7,5],[6,6,7,6],[6,7,7,7],[9,1,9,2],[10,1,10,2],[11,1,11,2],[12,1,12,2],[13,1,13,2],[20,1,20,2],[21,1,21,2],[1,4,3,4],[6,0,7,0],[6,1,7,2],[2,0,2,2],[0,0,0,3],[1,0,1,3],[3,0,3,3]]}
["□□□□□□  □□",null,null,null,"中　華　民　國　郵　政"]
["收寄局碼      郵件種類碼",null,null,null,{"$f":"VLOOKUP(L6,$M$6:$O$8,2,FALSE)","v":"交寄大宗 掛　　號 函件執據"}]
["（由收寄局填寫）"]
["中華民國　　年　　月　　日"]
["寄件人名稱：",null,null,{"$f":"客戶資料及選擇列印!C1","v":"彰化郵局"}]
[{"$f":"\"寄件人代表：\"&IF(客戶資料及選擇列印!C5=\"\",\"\",客戶資料及選擇列印!C5)","v":"寄件人代表：劉先生"},null,null,null,{"$f":"\"地址：\"&客戶資料及選擇列印!C4","v":"地址：500彰化縣彰化市中央路270號"},null,null,{"$f":"\"電話號碼：\"&客戶資料及選擇列印!C2","v":"電話號碼：04-7616690"},null,null,null,2,1,"交寄大宗 限時掛號 函件執據"," 限時掛號"]
["順序\n號碼","掛號號碼",null,"收　　　　件　　　　人",null,"是否\n回執(a)","是否\n印刷物(a)","重量","郵資","限時小包掛號或\n快捷郵件內裝物品名稱",null,null,2,"交寄大宗 掛　　號 函件執據","掛號函件"]
[null,null,null,"姓名","寄達地名(或地址)",null,null,null,null,null,null,null,3,"交寄大宗 掛　　號 函件執據","快捷郵件"]
[1,null,null,{"$f":"IF(運算!F6=\"\",\"\",運算!F6)","v":"吳先生"},{"$f":"IF(D9=\"\",\"\",VLOOKUP($D9,客戶資料及選擇列印!$D10:$L409,2,FALSE)&VLOOKUP($D9,客戶資料及選擇列印!$D10:$L409,3,FALSE))","v":"500彰化縣彰化市中央路270巷31弄5號6樓3之2室9床"}]
[2,null,null,{"$f":"IF(運算!F7=\"\",\"\",運算!F7)","v":"張小姐"},{"$f":"IF(D10=\"\",\"\",VLOOKUP($D10,客戶資料及選擇列印!$D10:$L409,2,FALSE)&VLOOKUP($D10,客戶資料及選擇列印!$D10:$L409,3,FALSE))","v":"502彰化縣芬園"}]
[3,null,null,{"$f":"IF(運算!F8=\"\",\"\",運算!F8)","v":"葉先生"},{"$f":"IF(D11=\"\",\"\",VLOOKUP($D11,客戶資料及選擇列印!$D10:$L409,2,FALSE)&VLOOKUP($D11,客戶資料及選擇列印!$D10:$L409,3,FALSE))","v":"503彰化縣花壇"}]
[4,null,null,{"$f":"IF(運算!F9=\"\",\"\",運算!F9)","v":"李小姐"},{"$f":"IF(D12=\"\",\"\",VLOOKUP($D12,客戶資料及選擇列印!$D10:$L409,2,FALSE)&VLOOKUP($D12,客戶資料及選擇列印!$D10:$L409,3,FALSE))","v":"504彰化縣秀水"}]
[5,null,null,{"$f":"IF(運算!F10=\"\",\"\",運算!F10)","v":""},{"$f":"IF(D13=\"\",\"\",VLOOKUP($D13,客戶資料及選擇列印!$D10:$L409,2,FALSE)&VLOOKUP($D13,客戶資料及選擇列印!$D10:$L409,3,FALSE))","v":""}]
[6,null,null,{"$f":"IF(運算!F11=\"\",\"\",運算!F11)","v":""},{"$f":"IF(D14=\"\",\"\",VLOOKUP($D14,客戶資料及選擇列印!$D10:$L409,2,FALSE)&VLOOKUP($D14,客戶資料及選擇列印!$D10:$L409,3,FALSE))","v":""}]
[7,null,null,{"$f":"IF(運算!F12=\"\",\"\",運算!F12)","v":""},{"$f":"IF(D15=\"\",\"\",VLOOKUP($D15,客戶資料及選擇列印!$D10:$L409,2,FALSE)&VLOOKUP($D15,客戶資料及選擇列印!$D10:$L409,3,FALSE))","v":""}]
[8,null,null,{"$f":"IF(運算!F13=\"\",\"\",運算!F13)","v":""},{"$f":"IF(D16=\"\",\"\",VLOOKUP($D16,客戶資料及選擇列印!$D10:$L409,2,FALSE)&VLOOKUP($D16,客戶資料及選擇列印!$D10:$L409,3,FALSE))","v":""}]
[9,null,null,{"$f":"IF(運算!F14=\"\",\"\",運算!F14)","v":""},{"$f":"IF(D17=\"\",\"\",VLOOKUP($D17,客戶資料及選擇列印!$D10:$L409,2,FALSE)&VLOOKUP($D17,客戶資料及選擇列印!$D10:$L409,3,FALSE))","v":""}]
[10,null,null,{"$f":"IF(運算!F15=\"\",\"\",運算!F15)","v":""},{"$f":"IF(D18=\"\",\"\",VLOOKUP($D18,客戶資料及選擇列印!$D10:$L409,2,FALSE)&VLOOKUP($D18,客戶資料及選擇列印!$D10:$L409,3,FALSE))","v":""}]
[11,null,null,{"$f":"IF(運算!F16=\"\",\"\",運算!F16)","v":""},{"$f":"IF(D19=\"\",\"\",VLOOKUP($D19,客戶資料及選擇列印!$D10:$L409,2,FALSE)&VLOOKUP($D19,客戶資料及選擇列印!$D10:$L409,3,FALSE))","v":""}]
[12,null,null,{"$f":"IF(運算!F17=\"\",\"\",運算!F17)","v":""},{"$f":"IF(D20=\"\",\"\",VLOOKUP($D20,客戶資料及選擇列印!$D10:$L409,2,FALSE)&VLOOKUP($D20,客戶資料及選擇列印!$D10:$L409,3,FALSE))","v":""}]
[13,null,null,{"$f":"IF(運算!F18=\"\",\"\",運算!F18)","v":""},{"$f":"IF(D21=\"\",\"\",VLOOKUP($D21,客戶資料及選擇列印!$D10:$L409,2,FALSE)&VLOOKUP($D21,客戶資料及選擇列印!$D10:$L409,3,FALSE))","v":""}]
[14,null,null,{"$f":"IF(運算!F19=\"\",\"\",運算!F19)","v":""},{"$f":"IF(D22=\"\",\"\",VLOOKUP($D22,客戶資料及選擇列印!$D10:$L409,2,FALSE)&VLOOKUP($D22,客戶資料及選擇列印!$D10:$L409,3,FALSE))","v":""}]
[15,null,null,{"$f":"IF(運算!F20=\"\",\"\",運算!F20)","v":""},{"$f":"IF(D23=\"\",\"\",VLOOKUP($D23,客戶資料及選擇列印!$D10:$L409,2,FALSE)&VLOOKUP($D23,客戶資料及選擇列印!$D10:$L409,3,FALSE))","v":""}]
[16,null,null,{"$f":"IF(運算!F21=\"\",\"\",運算!F21)","v":""},{"$f":"IF(D24=\"\",\"\",VLOOKUP($D24,客戶資料及選擇列印!$D10:$L409,2,FALSE)&VLOOKUP($D24,客戶資料及選擇列印!$D10:$L409,3,FALSE))","v":""}]
[17,null,null,{"$f":"IF(運算!F22=\"\",\"\",運算!F22)","v":""},{"$f":"IF(D25=\"\",\"\",VLOOKUP($D25,客戶資料及選擇列印!$D10:$L409,2,FALSE)&VLOOKUP($D25,客戶資料及選擇列印!$D10:$L409,3,FALSE))","v":""}]
[18,null,null,{"$f":"IF(運算!F23=\"\",\"\",運算!F23)","v":""},{"$f":"IF(D26=\"\",\"\",VLOOKUP($D26,客戶資料及選擇列印!$D10:$L409,2,FALSE)&VLOOKUP($D26,客戶資料及選擇列印!$D10:$L409,3,FALSE))","v":""}]
[19,null,null,{"$f":"IF(運算!F24=\"\",\"\",運算!F24)","v":""},{"$f":"IF(D27=\"\",\"\",VLOOKUP($D27,客戶資料及選擇列印!$D10:$L409,2,FALSE)&VLOOKUP($D27,客戶資料及選擇列印!$D10:$L409,3,FALSE))","v":""}]
[20,null,null,{"$f":"IF(運算!F25=\"\",\"\",運算!F25)","v":""},{"$f":"IF(D28=\"\",\"\",VLOOKUP($D28,客戶資料及選擇列印!$D10:$L409,2,FALSE)&VLOOKUP($D28,客戶資料及選擇列印!$D10:$L409,3,FALSE))","v":""}]
[null,null,null,null,null,null,"上開"]
[null,null,null,null,null,null,{"$f":"VLOOKUP(L6,$M$6:$O$8,3,FALSE)","v":"掛號函件"},null,{"$f":"\"共\"&20-COUNTIF(D9:D28,\"\")&\"件照收無誤\"","v":"共4件照收無誤"}]
[]
[]
[]
[null,null,null,null,null,null,"郵資共計",null,null,"元"]
[]
[null,null,null,null,null,null,null,"經 辦 員 簽 署"]
[]
[]
[null,"寄件人簽章：　　　　　　　　　查詢網址：www.post.gov.tw",null,null,null,null,null,null,"保存期限2年"]

{"sheet":"大宗匯票","index":4,"n_rows":43,"n_cols":16,"rows_kept":43,"cut":false,"hidden":true,"merged":[[28,0,30,0],[34,7,34,8],[23,6,23,8],[23,9,23,10],[23,11,23,14],[32,1,32,2],[33,1,34,1],[32,3,32,5],[31,11,31,15],[27,1,27,15],[30,2,30,15],[31,1,31,2],[31,3,31,5],[31,7,31,10],[28,2,28,15],[29,2,29,15],[15,6,15,8],[15,9,15,10],[15,11,15,14],[18,1,18,14],[26,1,26,14],[21,2,21,5],[21,6,21,8],[21,9,21,10],[21,11,21,14],[22,1,22,14],[24,1,24,14],[25,2,25,5],[25,6,25,8],[25,9,25,10],[25,11,25,14],[23,2,23,5],[20,1,20,14],[16,1,16,14],[17,2,17,5],[17,6,17,8],[17,9,17,10],[17,11,17,14],[19,2,19,5],[19,6,19,8],[13,2,13,5],[13,6,13,8],[13,9,13,10],[13,11,13,14],[7,2,7,5],[7,6,7,8],[7,9,7,10],[12,1,12,14],[11,2,11,5],[8,1,8,14],[9,2,9,5],[9,6,9,8],[9,9,9,10],[9,11,9,14],[6,6,6,8],[7,11,7,14],[5,8,5,11],[6,9,6,10],[5,14,5,15],[6,11,6,14],[1,1,4,1],[4,8,4,9],[2,9,3,9],[5,1,5,3],[1,10,1,15],[2,14,3,15],[3,3,3,8],[1,3,1,8],[2,3,2,8],[2,12,3,13],[2,10,3,11],[4,10,4,15],[36,1,36,8],[6,2,6,5],[4,5,4,7],[5,5,5,6],[2,2,3,2],[10,1,10,14],[11,6,11,8],[11,9,11,10],[11,11,11,14],[14,1,14,14],[19,9,19,10],[19,11,19,14],[15,2,15,5],[33,4,33,5],[34,4,34,5],[33,7,33,8],[41,1,41,7],[39,1,39,10],[40,1,40,9],[38,1,38,9],[37,1,37,9]]}
[null,null,null,null,null,"大宗郵政匯票(網路)請購單/執據",null,null,null,null,null,null,null,null,"第1頁"]
[null,"*匯款人"," 姓名",{"$f":"客戶資料及選擇列印!C1","v":"彰化郵局"},null,null,null,null,null,"電話",{"$f":"客戶資料及選擇列印!C2","v":"04-7616690"}]
[null,null,"地址","郵遞區號",null,null,null,null,null,"批號",null,null,"日期"]
[null,null,null,{"$f":"客戶資料及選擇列印!C4","v":"500彰化縣彰化市中央路270號"}]
[null,null,"身分證統一編號",null,null,{"$f":"TEXT(客戶資料及選擇列印!C3,0)","v":"12345678"},null,null,"預定過帳日"]
[null,"*匯款代理人",null,null,"姓名",{"$f":"IF(客戶資料及選擇列印!C5=\"\",\"\",客戶資料及選擇列印!C5)","v":"劉先生"},null,"身分證統一編號",{"$f":"IF(客戶資料及選擇列印!C7=\"\",\"\",客戶資料及選擇列印!C7)","v":"N234567890"},null,null,null,"電話",null,{"$f":"IF(客戶資料及選擇列印!C6=\"\",\"\",客戶資料及選擇列印!C6)","v":"04-7616690#999"}]
[null,"行次","*受款人姓名",null,null,null,"*受款人地址",null,null,"*金額",null,"匯票號碼",null,null,null,"備註"]
[null,1,{"$f":"IF(運算!B6=\"\",\"\",運算!B6)","v":"吳先生"},null,null,null,{"$f":"IF(C8=\"\",\"\",VLOOKUP($C8,客戶資料及選擇列印!$D$10:$L$409,2,FALSE)&VLOOKUP($C8,客戶資料及選擇列印!$D$10:$L$409,3,FALSE))","v":"500彰化縣彰化市中央路270巷31弄5號6樓3之2室9床"},null,null,{"$f":"IF(運算!$C6=\"\",\"\",運算!$C6)","v":10}]
[]
[null,2,{"$f":"IF(運算!B7=\"\",\"\",運算!B7)","v":""},null,null,null,{"$f":"IF(C10=\"\",\"\",VLOOKUP($C10,客戶資料及選擇列印!$D$10:$L$409,2,FALSE)&VLOOKUP($C10,客戶資料及選擇列印!$D$10:$L$409,3,FALSE))","v":""},null,null,{"$f":"IF(運算!$C7=\"\",\"\",運算!$C7)","v":""}]
[]
[null,3,{"$f":"IF(運算!B8=\"\",\"\",運算!B8)","v":""},null,null,null,{"$f":"IF(C12=\"\",\"\",VLOOKUP($C12,客戶資料及選擇列印!$D$10:$L$409,2,FALSE)&VLOOKUP($C12,客戶資料及選擇列印!$D$10:$L$409,3,FALSE))","v":""},null,null,{"$f":"IF(運算!$C8=\"\",\"\",運算!$C8)","v":""}]
[]
[null,4,{"$f":"IF(運算!B9=\"\",\"\",運算!B9)","v":""},null,null,null,{"$f":"IF(C14=\"\",\"\",VLOOKUP($C14,客戶資料及選擇列印!$D$10:$L$409,2,FALSE)&VLOOKUP($C14,客戶資料及選擇列印!$D$10:$L$409,3,FALSE))","v":""},null,null,{"$f":"IF(運算!$C9=\"\",\"\",運算!$C9)","v":""}]
[]
[null,5,{"$f":"IF(運算!B10=\"\",\"\",運算!B10)","v":""},null,null,null,{"$f":"IF(C16=\"\",\"\",VLOOKUP($C16,客戶資料及選擇列印!$D$10:$L$409,2,FALSE)&VLOOKUP($C16,客戶資料及選擇列印!$D$10:$L$409,3,FALSE))","v":""},null,null,{"$f":"IF(運算!$C10=\"\",\"\",運算!$C10)","v":""}]
[]
[null,6,{"$f":"IF(運算!B11=\"\",\"\",運算!B11)","v":""},null,null,null,{"$f":"IF(C18=\"\",\"\",VLOOKUP($C18,客戶資料及選擇列印!$D$10:$L$409,2,FALSE)&VLOOKUP($C18,客戶資料及選擇列印!$D$10:$L$409,3,FALSE))","v":""},null,null,{"$f":"IF(運算!$C11=\"\",\"\",運算!$C11)","v":""}]
[]
[null,7,{"$f":"IF(運算!B12=\"\",\"\",運算!B12)","v":""},null,null,null,{"$f":"IF(C20=\"\",\"\",VLOOKUP($C20,客戶資料及選擇列印!$D$10:$L$409,2,FALSE)&VLOOKUP($C20,客戶資料及選擇列印!$D$10:$L$409,3,FALSE))","v":""},null,null,{"$f":"IF(運算!$C12=\"\",\"\",運算!$C12)","v":""}]
[]
[null,8,{"$f":"IF(運算!B13=\"\",\"\",運算!B13)","v":""},null,null,null,{"$f":"IF(C22=\"\",\"\",VLOOKUP($C22,客戶資料及選擇列印!$D$10:$L$409,2,FALSE)&VLOOKUP($C22,客戶資料及選擇列印!$D$10:$L$409,3,FALSE))","v":""},null,null,{"$f":"IF(運算!$C13=\"\",\"\",運算!$C13)","v":""}]
[]
[null,9,{"$f":"IF(運算!B14=\"\",\"\",運算!B14)","v":""},null,null,null,{"$f":"IF(C24=\"\",\"\",VLOOKUP($C24,客戶資料及選擇列印!$D$10:$L$409,2,FALSE)&VLOOKUP($C24,客戶資料及選擇列印!$D$10:$L$409,3,FALSE))","v":""},null,null,{"$f":"IF(運算!$C14=\"\",\"\",運算!$C14)","v":""}]
[]
[null,10,{"$f":"IF(運算!B15=\"\",\"\",運算!B15)","v":""},null,null,null,{"$f":"IF(C26=\"\",\"\",VLOOKUP($C26,客戶資料及選擇列印!$D$10:$L$409,2,FALSE)&VLOOKUP($C26,客戶資料及選擇列印!$D$10:$L$409,3,FALSE))","v":""},null,null,{"$f":"IF(運算!$C15=\"\",\"\",運算!$C15)","v":""}]
[]
[]
["重開印證",11]
[null,12]
[null,13]
[null,"*小計",null,{"$f":"COUNTIF(運算!A6:A15,\"<9999\")","v":0},null,null,"筆",{"$f":"運算!C16","v":10},null,null,null,{"$f":"D32*30","v":0}]
[null,"總計",null,null,null,null,"筆","匯款:",null,null,null,"匯費:"]
[null,"郵局印證","小計",null,"筆匯款:",null,null,"匯費:"]
[null,null,"總計",null,"筆匯款:",null,null,"匯費:"]
[null,"交易代號：申請批號：5520   預開匯票：5521   總計：5523   確認入帳：5525"]
[null,"請注意: 一、本單＊部分，請匯款人用正楷填寫並勿潦草。"]
[null,"二、每筆匯款最高限額為50萬元，逾50萬元者分行填寫。"]
[null,"三、請妥存本單，日後如需查詢、掛失兌領時，應憑本單辦理。"]
[null,"四、每筆匯款金額達3萬元以上者,匯款人(或匯款代理人)請出示身分證明文件以供確認身分。                                      "]
[null,"五、本單印錄完妥後，郵局影印1份加蓋「與正本相符」戳記、經辦章及主管章留存。                                 主  管  ",null,null,null,null,null,null,null,null,"儲匯壽險專用章",null,null,null,"主管"]
[null,"六、本單所批註之文字請勿變更，若自行變更仍以本公司規定為準。"]
[null,"另欄位大小亦請勿更動以免影響機器印錄位置，致欄位重疊影響辨識"]

{"sheet":"大宗跨行匯款","index":5,"n_rows":54,"n_cols":45,"rows_kept":54,"cut":false,"hidden":true,"merged":[[3,32,3,34],[3,35,3,40],[5,5,5,31],[38,0,38,40],[8,32,8,36],[3,5,3,17],[3,18,3,20],[3,21,3,31],[6,15,6,20],[6,8,6,14],[9,0,10,0],[14,8,14,9],[3,0,5,0],[3,1,3,4],[14,0,15,0],[4,5,4,31],[8,26,8,31],[4,1,5,4],[6,32,6,33],[20,15,20,25],[20,26,20,31],[14,17,14,40],[15,15,15,25],[15,26,15,31],[4,32,5,33],[10,37,10,40],[10,32,10,36],[15,37,15,40],[15,32,15,36],[1,0,1,40],[6,34,6,40],[19,4,19,5],[19,6,19,7],[9,1,9,3],[9,6,9,7],[14,1,14,3],[14,4,14,5],[14,6,14,7],[19,1,19,3],[7,0,8,0],[11,0,12,40],[13,0,13,40],[7,1,7,9],[7,10,7,16],[7,17,7,40],[9,4,9,5],[8,37,8,40],[9,17,9,40],[8,1,8,14],[6,0,6,4],[6,5,6,7],[8,15,8,25],[6,21,6,31],[39,0,40,0],[34,0,35,0],[29,0,30,0],[29,8,29,9],[29,1,29,3],[24,0,25,0],[24,6,24,7],[40,15,40,25],[40,26,40,31],[39,4,39,5],[39,6,39,7],[34,4,34,5],[39,8,39,9],[28,0,28,40],[39,17,39,40],[31,0,32,40],[35,37,35,40],[26,0,27,40],[35,32,35,36],[25,26,25,31],[39,1,39,3],[30,32,30,36],[30,37,30,40],[16,0,17,40],[18,0,18,40],[9,8,9,9],[10,15,10,25],[10,26,10,31],[19,0,20,0],[19,17,19,40],[3,42,6,42],[53,28,54,33],[51,35,51,38],[49,35,49,38],[43,0,43,40],[44,22,44,26],[44,8,44,13],[53,0,53,26],[44,27,44,40],[19,8,19,9],[46,0,46,40],[48,6,48,27],[44,14,44,21],[41,0,42,40],[4,34,4,40],[5,34,5,40],[40,32,40,36],[25,15,25,25],[7,42,47,42],[20,37,20,40],[20,32,20,36],[7,41,50,41],[40,37,40,40],[44,0,44,7],[7,43,47,43],[7,44,46,44],[25,37,25,40],[25,32,25,36],[21,0,22,40],[23,0,23,40],[24,8,24,9],[24,17,24,40],[24,1,24,3],[24,4,24,5],[35,26,35,31],[34,17,34,40],[35,15,35,25],[29,17,29,40],[33,0,33,40],[29,4,29,5],[29,6,29,7],[34,1,34,3],[34,8,34,9],[34,6,34,7],[30,15,30,25],[45,0,45,40],[36,0,37,40],[30,26,30,31]]}
[]
["大宗郵政跨行匯款(網路)申請書"]
["※本匯款務必於15：30前交付儲匯櫃台辦妥。                                      批號：",null,null,null,null,null,null,null,null,null,null,null,null,null,null,null,null,null,null,null,null,null,null,null,null,null,null,null,null,null,null,null,null,null,null,null,"第1頁"]
["＊匯款人","姓 名",null,null,null,{"$f":"客戶資料及選擇列印!C1","v":"彰化郵局"},null,null,null,null,null,null,null,null,null,null,null,null,"身 分 證 統一編號",null,null,{"$f":"TEXT(客戶資料及選擇列印!C3,0)","v":"12345678"},null,null,null,null,null,null,null,null,null,null,"交匯日期 及 時 間",null,null,{"$f":"TODAY()","v":"2019-08-16"},null,null,null,null,null,null,"注意事項:"]
[null,"地 址",null,null,null,"郵遞區號",null,null,null,null,null,null,null,null,null,null,null,null,null,null,null,null,null,null,null,null,null,null,null,null,null,null,"電話",null,"(務必填寫，行動電話亦可)"]
[null,null,null,null,null,{"$f":"客戶資料及選擇列印!C4","v":"500彰化縣彰化市中央路270號"},null,null,null,null,null,null,null,null,null,null,null,null,null,null,null,null,null,null,null,null,null,null,null,null,null,null,null,null,{"$f":"客戶資料及選擇列印!C2","v":"04-7616690"}]
["＊匯款代理人",null,null,null,null,"姓名",null,null,{"$f":"IF(客戶資料及選擇列印!C5=\"\",\"\",客戶資料及選擇列印!C5)","v":"劉先生"},null,null,null,null,null,null,"身分證統一編號",null,null,null,null,null,{"$f":"IF(客戶資料及選擇列印!C7=\"\",\"\",客戶資料及選擇列印!C7)","v":"N234567890"},null,null,null,null,null,null,null,null,null,null,"電話",null,{"$f":"IF(客戶資料及選擇列印!C6=\"\",\"\",客戶資料及選擇列印!C6)","v":"04-7616690#999"}]
["行號","＊解 款 行(受款行)",null,null,null,null,null,null,null,null,"＊解款行代號",null,null,null,null,null,null,"＊收     款     人     姓     名",null,null,null,null,null,null,null,null,null,null,null,null,null,null,null,null,null,null,null,null,null,null,null,"一、有*部分，請匯款人用正楷填寫勿潦草，若有填寫錯誤致無法匯達或遭退匯，所導致之 損失郵局不負責任。二、每筆匯款逾各局最高限額者，請另行填寫","三、匯款人請核對電腦印錄是否正確，並請自行通知受款人。四、匯款人請妥存本單，日後如需查詢、更正、退匯，應憑本聯及攜國民身分證來局洽辦。","五、本單所批註之文字請勿變更，若自行變更仍以本公司規定為準，另欄位大小亦請勿更動以免影響機器印錄位置，致欄位重疊影響辨識。","六、匯款金額達3萬元以上者，匯款人(或匯款代理人)請出示身分證明文件以供確認身分。"]
[null,"＊收款人帳號(請由左方依序填寫,空格留右方)",null,null,null,null,null,null,null,null,null,null,null,null,null,"＊匯款金額",null,null,null,null,null,null,null,null,null,null,"匯費",null,null,null,null,null,"匯款序號",null,null,null,null,"交易序號"]
[1,{"$f":"IF(R10=\"\",\"\",VLOOKUP($R10,客戶資料及選擇列印!$D$10:$L$409,7,FALSE))","v":"中信"},null,null,"銀行",null,{"$f":"IF(R10=\"\",\"\",VLOOKUP($R10,客戶資料及選擇列印!$D$10:$L$409,8,FALSE))","v":"彰化"},null,"分行",null,null,null,null,null,null,null,null,{"$f":"IF(運算!B6=\"\",\"\",運算!B6)","v":"吳先生"}]
[null,{"$f":"IF($R10=\"\",\"\",MID(VLOOKUP($R10,客戶資料及選擇列印!$D$10:$L$409,9,FALSE),1,1))","v":"2"},{"$f":"IF($R10=\"\",\"\",MID(VLOOKUP($R10,客戶資料及選擇列印!$D$10:$L$409,9,FALSE),2,1))","v":"1"},{"$f":"IF($R10=\"\",\"\",MID(VLOOKUP($R10,客戶資料及選擇列印!$D$10:$L$409,9,FALSE),3,1))","v":"2"},{"$f":"IF($R10=\"\",\"\",MID(VLOOKUP($R10,客戶資料及選擇列印!$D$10:$L$409,9,FALSE),4,1))","v":"6"},{"$f":"IF($R10=\"\",\"\",MID(VLOOKUP($R10,客戶資料及選擇列印!$D$10:$L$409,9,FALSE),5,1))","v":"5"},{"$f":"IF($R10=\"\",\"\",MID(VLOOKUP($R10,客戶資料及選擇列印!$D$10:$L$409,9,FALSE),6,1))","v":"6"},{"$f":"IF($R10=\"\",\"\",MID(VLOOKUP($R10,客戶資料及選擇列印!$D$10:$L$409,9,FALSE),7,1))","v":"5"},{"$f":"IF($R10=\"\",\"\",MID(VLOOKUP($R10,客戶資料及選擇列印!$D$10:$L$409,9,FALSE),8,1))","v":"3"},{"$f":"IF($R10=\"\",\"\",MID(VLOOKUP($R10,客戶資料及選擇列印!$D$10:$L$409,9,FALSE),9,1))","v":"2"},{"$f":"IF($R10=\"\",\"\",MID(VLOOKUP($R10,客戶資料及選擇列印!$D$10:$L$409,9,FALSE),10,1))","v":""},{"$f":"IF($R10=\"\",\"\",MID(VLOOKUP($R10,客戶資料及選擇列印!$D$10:$L$409,9,FALSE),11,1))","v":""},{"$f":"IF($R10=\"\",\"\",MID(VLOOKUP($R10,客戶資料及選擇列印!$D$10:$L$409,9,FALSE),12,1))","v":""},{"$f":"IF($R10=\"\",\"\",MID(VLOOKUP($R10,客戶資料及選擇列印!$D$10:$L$409,9,FALSE),13,1))","v":""},{"$f":"IF($R10=\"\",\"\",MID(VLOOKUP($R10,客戶資料及選擇列印!$D$10:$L$409,9,FALSE),14,1))","v":""},{"$f":"IF(運算!C6=\"\",\"\",運算!C6)","v":10},null,null,null,null,null,null,null,null,null,null,{"$f":"IF(P11=\"\",\"\",IF(P11<=2000000,30,30+ROUNDUP(((P11-2000000)/1000000),0)*10))","v":30}]
[]
[]
[]
[2,{"$f":"IF(R15=\"\",\"\",VLOOKUP($R15,客戶資料及選擇列印!$D$10:$L$409,7,FALSE))","v":""},null,null,"銀行",null,{"$f":"IF(R15=\"\",\"\",VLOOKUP($R15,客戶資料及選擇列印!$D$10:$L$409,8,FALSE))","v":""},null,"分行",null,null,null,null,null,null,null,null,{"$f":"IF(運算!B7=\"\",\"\",運算!B7)","v":""}]
[null,{"$f":"IF($R15=\"\",\"\",MID(VLOOKUP($R15,客戶資料及選擇列印!$D$10:$L$409,9,FALSE),1,1))","v":""},{"$f":"IF($R15=\"\",\"\",MID(VLOOKUP($R15,客戶資料及選擇列印!$D$10:$L$409,9,FALSE),2,1))","v":""},{"$f":"IF($R15=\"\",\"\",MID(VLOOKUP($R15,客戶資料及選擇列印!$D$10:$L$409,9,FALSE),3,1))","v":""},{"$f":"IF($R15=\"\",\"\",MID(VLOOKUP($R15,客戶資料及選擇列印!$D$10:$L$409,9,FALSE),4,1))","v":""},{"$f":"IF($R15=\"\",\"\",MID(VLOOKUP($R15,客戶資料及選擇列印!$D$10:$L$409,9,FALSE),5,1))","v":""},{"$f":"IF($R15=\"\",\"\",MID(VLOOKUP($R15,客戶資料及選擇列印!$D$10:$L$409,9,FALSE),6,1))","v":""},{"$f":"IF($R15=\"\",\"\",MID(VLOOKUP($R15,客戶資料及選擇列印!$D$10:$L$409,9,FALSE),7,1))","v":""},{"$f":"IF($R15=\"\",\"\",MID(VLOOKUP($R15,客戶資料及選擇列印!$D$10:$L$409,9,FALSE),8,1))","v":""},{"$f":"IF($R15=\"\",\"\",MID(VLOOKUP($R15,客戶資料及選擇列印!$D$10:$L$409,9,FALSE),9,1))","v":""},{"$f":"IF($R15=\"\",\"\",MID(VLOOKUP($R15,客戶資料及選擇列印!$D$10:$L$409,9,FALSE),10,1))","v":""},{"$f":"IF($R15=\"\",\"\",MID(VLOOKUP($R15,客戶資料及選擇列印!$D$10:$L$409,9,FALSE),11,1))","v":""},{"$f":"IF($R15=\"\",\"\",MID(VLOOKUP($R15,客戶資料及選擇列印!$D$10:$L$409,9,FALSE),12,1))","v":""},{"$f":"IF($R15=\"\",\"\",MID(VLOOKUP($R15,客戶資料及選擇列印!$D$10:$L$409,9,FALSE),13,1))","v":""},{"$f":"IF($R15=\"\",\"\",MID(VLOOKUP($R15,客戶資料及選擇列印!$D$10:$L$409,9,FALSE),14,1))","v":""},{"$f":"IF(運算!C7=\"\",\"\",運算!C7)","v":""},null,null,null,null,null,null,null,null,null,null,{"$f":"IF(P16=\"\",\"\",IF(P16<=2000000,30,30+ROUNDUP(((P16-2000000)/1000000),0)*10))","v":""}]
[]
[]
[]
[3,{"$f":"IF(R20=\"\",\"\",VLOOKUP($R20,客戶資料及選擇列印!$D$10:$L$409,7,FALSE))","v":""},null,null,"銀行",null,{"$f":"IF(R20=\"\",\"\",VLOOKUP($R20,客戶資料及選擇列印!$D$10:$L$409,8,FALSE))","v":""},null,"分行",null,null,null,null,null,null,null,null,{"$f":"IF(運算!B8=\"\",\"\",運算!B8)","v":""}]
[null,{"$f":"IF($R20=\"\",\"\",MID(VLOOKUP($R20,客戶資料及選擇列印!$D$10:$L$409,9,FALSE),1,1))","v":""},{"$f":"IF($R20=\"\",\"\",MID(VLOOKUP($R20,客戶資料及選擇列印!$D$10:$L$409,9,FALSE),2,1))","v":""},{"$f":"IF($R20=\"\",\"\",MID(VLOOKUP($R20,客戶資料及選擇列印!$D$10:$L$409,9,FALSE),3,1))","v":""},{"$f":"IF($R20=\"\",\"\",MID(VLOOKUP($R20,客戶資料及選擇列印!$D$10:$L$409,9,FALSE),4,1))","v":""},{"$f":"IF($R20=\"\",\"\",MID(VLOOKUP($R20,客戶資料及選擇列印!$D$10:$L$409,9,FALSE),5,1))","v":""},{"$f":"IF($R20=\"\",\"\",MID(VLOOKUP($R20,客戶資料及選擇列印!$D$10:$L$409,9,FALSE),6,1))","v":""},{"$f":"IF($R20=\"\",\"\",MID(VLOOKUP($R20,客戶資料及選擇列印!$D$10:$L$409,9,FALSE),7,1))","v":""},{"$f":"IF($R20=\"\",\"\",MID(VLOOKUP($R20,客戶資料及選擇列印!$D$10:$L$409,9,FALSE),8,1))","v":""},{"$f":"IF($R20=\"\",\"\",MID(VLOOKUP($R20,客戶資料及選擇列印!$D$10:$L$409,9,FALSE),9,1))","v":""},{"$f":"IF($R20=\"\",\"\",MID(VLOOKUP($R20,客戶資料及選擇列印!$D$10:$L$409,9,FALSE),10,1))","v":""},{"$f":"IF($R20=\"\",\"\",MID(VLOOKUP($R20,客戶資料及選擇列印!$D$10:$L$409,9,FALSE),11,1))","v":""},{"$f":"IF($R20=\"\",\"\",MID(VLOOKUP($R20,客戶資料及選擇列印!$D$10:$L$409,9,FALSE),12,1))","v":""},{"$f":"IF($R20=\"\",\"\",MID(VLOOKUP($R20,客戶資料及選擇列印!$D$10:$L$409,9,FALSE),13,1))","v":""},{"$f":"IF($R20=\"\",\"\",MID(VLOOKUP($R20,客戶資料及選擇列印!$D$10:$L$409,9,FALSE),14,1))","v":""},{"$f":"IF(運算!C8=\"\",\"\",運算!C8)","v":""},null,null,null,null,null,null,null,null,null,null,{"$f":"IF(P21=\"\",\"\",IF(P21<=2000000,30,30+ROUNDUP(((P21-2000000)/1000000),0)*10))","v":""}]
[]
[]
[]
[4,{"$f":"IF(R25=\"\",\"\",VLOOKUP($R25,客戶資料及選擇列印!$D$10:$L$409,7,FALSE))","v":""},null,null,"銀行",null,{"$f":"IF(R25=\"\",\"\",VLOOKUP($R25,客戶資料及選擇列印!$D$10:$L$409,8,FALSE))","v":""},null,"分行",null,null,null,null,null,null,null,null,{"$f":"IF(運算!B9=\"\",\"\",運算!B9)","v":""}]
[null,{"$f":"IF($R25=\"\",\"\",MID(VLOOKUP($R25,客戶資料及選擇列印!$D$10:$L$409,9,FALSE),1,1))","v":""},{"$f":"IF($R25=\"\",\"\",MID(VLOOKUP($R25,客戶資料及選擇列印!$D$10:$L$409,9,FALSE),2,1))","v":""},{"$f":"IF($R25=\"\",\"\",MID(VLOOKUP($R25,客戶資料及選擇列印!$D$10:$L$409,9,FALSE),3,1))","v":""},{"$f":"IF($R25=\"\",\"\",MID(VLOOKUP($R25,客戶資料及選擇列印!$D$10:$L$409,9,FALSE),4,1))","v":""},{"$f":"IF($R25=\"\",\"\",MID(VLOOKUP($R25,客戶資料及選擇列印!$D$10:$L$409,9,FALSE),5,1))","v":""},{"$f":"IF($R25=\"\",\"\",MID(VLOOKUP($R25,客戶資料及選擇列印!$D$10:$L$409,9,FALSE),6,1))","v":""},{"$f":"IF($R25=\"\",\"\",MID(VLOOKUP($R25,客戶資料及選擇列印!$D$10:$L$409,9,FALSE),7,1))","v":""},{"$f":"IF($R25=\"\",\"\",MID(VLOOKUP($R25,客戶資料及選擇列印!$D$10:$L$409,9,FALSE),8,1))","v":""},{"$f":"IF($R25=\"\",\"\",MID(VLOOKUP($R25,客戶資料及選擇列印!$D$10:$L$409,9,FALSE),9,1))","v":""},{"$f":"IF($R25=\"\",\"\",MID(VLOOKUP($R25,客戶資料及選擇列印!$D$10:$L$409,9,FALSE),10,1))","v":""},{"$f":"IF($R25=\"\",\"\",MID(VLOOKUP($R25,客戶資料及選擇列印!$D$10:$L$409,9,FALSE),11,1))","v":""},{"$f":"IF($R25=\"\",\"\",MID(VLOOKUP($R25,客戶資料及選擇列印!$D$10:$L$409,9,FALSE),12,1))","v":""},{"$f":"IF($R25=\"\",\"\",MID(VLOOKUP($R25,客戶資料及選擇列印!$D$10:$L$409,9,FALSE),13,1))","v":""},{"$f":"IF($R25=\"\",\"\",MID(VLOOKUP($R25,客戶資料及選擇列印!$D$10:$L$409,9,FALSE),14,1))","v":""},{"$f":"IF(運算!C9=\"\",\"\",運算!C9)","v":""},null,null,null,null,null,null,null,null,null,null,{"$f":"IF(P26=\"\",\"\",IF(P26<=2000000,30,30+ROUNDUP(((P26-2000000)/1000000),0)*10))","v":""}]
[]
[]
[]
[5,{"$f":"IF(R30=\"\",\"\",VLOOKUP($R30,客戶資料及選擇列印!$D$10:$L$409,7,FALSE))","v":""},null,null,"銀行",null,{"$f":"IF(R30=\"\",\"\",VLOOKUP($R30,客戶資料及選擇列印!$D$10:$L$409,8,FALSE))","v":""},null,"分行",null,null,null,null,null,null,null,null,{"$f":"IF(運算!B10=\"\",\"\",運算!B10)","v":""}]
[null,{"$f":"IF($R30=\"\",\"\",MID(VLOOKUP($R30,客戶資料及選擇列印!$D$10:$L$409,9,FALSE),1,1))","v":""},{"$f":"IF($R30=\"\",\"\",MID(VLOOKUP($R30,客戶資料及選擇列印!$D$10:$L$409,9,FALSE),2,1))","v":""},{"$f":"IF($R30=\"\",\"\",MID(VLOOKUP($R30,客戶資料及選擇列印!$D$10:$L$409,9,FALSE),3,1))","v":""},{"$f":"IF($R30=\"\",\"\",MID(VLOOKUP($R30,客戶資料及選擇列印!$D$10:$L$409,9,FALSE),4,1))","v":""},{"$f":"IF($R30=\"\",\"\",MID(VLOOKUP($R30,客戶資料及選擇列印!$D$10:$L$409,9,FALSE),5,1))","v":""},{"$f":"IF($R30=\"\",\"\",MID(VLOOKUP($R30,客戶資料及選擇列印!$D$10:$L$409,9,FALSE),6,1))","v":""},{"$f":"IF($R30=\"\",\"\",MID(VLOOKUP($R30,客戶資料及選擇列印!$D$10:$L$409,9,FALSE),7,1))","v":""},{"$f":"IF($R30=\"\",\"\",MID(VLOOKUP($R30,客戶資料及選擇列印!$D$10:$L$409,9,FALSE),8,1))","v":""},{"$f":"IF($R30=\"\",\"\",MID(VLOOKUP($R30,客戶資料及選擇列印!$D$10:$L$409,9,FALSE),9,1))","v":""},{"$f":"IF($R30=\"\",\"\",MID(VLOOKUP($R30,客戶資料及選擇列印!$D$10:$L$409,9,FALSE),10,1))","v":""},{"$f":"IF($R30=\"\",\"\",MID(VLOOKUP($R30,客戶資料及選擇列印!$D$10:$L$409,9,FALSE),11,1))","v":""},{"$f":"IF($R30=\"\",\"\",MID(VLOOKUP($R30,客戶資料及選擇列印!$D$10:$L$409,9,FALSE),12,1))","v":""},{"$f":"IF($R30=\"\",\"\",MID(VLOOKUP($R30,客戶資料及選擇列印!$D$10:$L$409,9,FALSE),13,1))","v":""},{"$f":"IF($R30=\"\",\"\",MID(VLOOKUP($R30,客戶資料及選擇列印!$D$10:$L$409,9,FALSE),14,1))","v":""},{"$f":"IF(運算!C10=\"\",\"\",運算!C10)","v":""},null,null,null,null,null,null,null,null,null,null,{"$f":"IF(P31=\"\",\"\",IF(P31<=2000000,30,30+ROUNDUP(((P31-2000000)/1000000),0)*10))","v":""}]
[]
[]
[]
[6,{"$f":"IF(R35=\"\",\"\",VLOOKUP($R35,客戶資料及選擇列印!$D$10:$L$409,7,FALSE))","v":""},null,null,"銀行",null,{"$f":"IF(R35=\"\",\"\",VLOOKUP($R35,客戶資料及選擇列印!$D$10:$L$409,8,FALSE))","v":""},null,"分行",null,null,null,null,null,null,null,null,{"$f":"IF(運算!B11=\"\",\"\",運算!B11)","v":""}]
[null,{"$f":"IF($R35=\"\",\"\",MID(VLOOKUP($R35,客戶資料及選擇列印!$D$10:$L$409,9,FALSE),1,1))","v":""},{"$f":"IF($R35=\"\",\"\",MID(VLOOKUP($R35,客戶資料及選擇列印!$D$10:$L$409,9,FALSE),2,1))","v":""},{"$f":"IF($R35=\"\",\"\",MID(VLOOKUP($R35,客戶資料及選擇列印!$D$10:$L$409,9,FALSE),3,1))","v":""},{"$f":"IF($R35=\"\",\"\",MID(VLOOKUP($R35,客戶資料及選擇列印!$D$10:$L$409,9,FALSE),4,1))","v":""},{"$f":"IF($R35=\"\",\"\",MID(VLOOKUP($R35,客戶資料及選擇列印!$D$10:$L$409,9,FALSE),5,1))","v":""},{"$f":"IF($R35=\"\",\"\",MID(VLOOKUP($R35,客戶資料及選擇列印!$D$10:$L$409,9,FALSE),6,1))","v":""},{"$f":"IF($R35=\"\",\"\",MID(VLOOKUP($R35,客戶資料及選擇列印!$D$10:$L$409,9,FALSE),7,1))","v":""},{"$f":"IF($R35=\"\",\"\",MID(VLOOKUP($R35,客戶資料及選擇列印!$D$10:$L$409,9,FALSE),8,1))","v":""},{"$f":"IF($R35=\"\",\"\",MID(VLOOKUP($R35,客戶資料及選擇列印!$D$10:$L$409,9,FALSE),9,1))","v":""},{"$f":"IF($R35=\"\",\"\",MID(VLOOKUP($R35,客戶資料及選擇列印!$D$10:$L$409,9,FALSE),10,1))","v":""},{"$f":"IF($R35=\"\",\"\",MID(VLOOKUP($R35,客戶資料及選擇列印!$D$10:$L$409,9,FALSE),11,1))","v":""},{"$f":"IF($R35=\"\",\"\",MID(VLOOKUP($R35,客戶資料及選擇列印!$D$10:$L$409,9,FALSE),12,1))","v":""},{"$f":"IF($R35=\"\",\"\",MID(VLOOKUP($R35,客戶資料及選擇列印!$D$10:$L$409,9,FALSE),13,1))","v":""},{"$f":"IF($R35=\"\",\"\",MID(VLOOKUP($R35,客戶資料及選擇列印!$D$10:$L$409,9,FALSE),14,1))","v":""},{"$f":"IF(運算!C11=\"\",\"\",運算!C11)","v":""},null,null,null,null,null,null,null,null,null,null,{"$f":"IF(P36=\"\",\"\",IF(P36<=2000000,30,30+ROUNDUP(((P36-2000000)/1000000),0)*10))","v":""}]
[]
[]
[]
[7,{"$f":"IF(R40=\"\",\"\",VLOOKUP($R40,客戶資料及選擇列印!$D$10:$L$409,7,FALSE))","v":""},null,null,"銀行",null,{"$f":"IF(R40=\"\",\"\",VLOOKUP($R40,客戶資料及選擇列印!$D$10:$L$409,8,FALSE))","v":""},null,"分行",null,null,null,null,null,null,null,null,{"$f":"IF(運算!B12=\"\",\"\",運算!B12)","v":""}]
[null,{"$f":"IF($R40=\"\",\"\",MID(VLOOKUP($R40,客戶資料及選擇列印!$D$10:$L$409,9,FALSE),1,1))","v":""},{"$f":"IF($R40=\"\",\"\",MID(VLOOKUP($R40,客戶資料及選擇列印!$D$10:$L$409,9,FALSE),2,1))","v":""},{"$f":"IF($R40=\"\",\"\",MID(VLOOKUP($R40,客戶資料及選擇列印!$D$10:$L$409,9,FALSE),3,1))","v":""},{"$f":"IF($R40=\"\",\"\",MID(VLOOKUP($R40,客戶資料及選擇列印!$D$10:$L$409,9,FALSE),4,1))","v":""},{"$f":"IF($R40=\"\",\"\",MID(VLOOKUP($R40,客戶資料及選擇列印!$D$10:$L$409,9,FALSE),5,1))","v":""},{"$f":"IF($R40=\"\",\"\",MID(VLOOKUP($R40,客戶資料及選擇列印!$D$10:$L$409,9,FALSE),6,1))","v":""},{"$f":"IF($R40=\"\",\"\",MID(VLOOKUP($R40,客戶資料及選擇列印!$D$10:$L$409,9,FALSE),7,1))","v":""},{"$f":"IF($R40=\"\",\"\",MID(VLOOKUP($R40,客戶資料及選擇列印!$D$10:$L$409,9,FALSE),8,1))","v":""},{"$f":"IF($R40=\"\",\"\",MID(VLOOKUP($R40,客戶資料及選擇列印!$D$10:$L$409,9,FALSE),9,1))","v":""},{"$f":"IF($R40=\"\",\"\",MID(VLOOKUP($R40,客戶資料及選擇列印!$D$10:$L$409,9,FALSE),10,1))","v":""},{"$f":"IF($R40=\"\",\"\",MID(VLOOKUP($R40,客戶資料及選擇列印!$D$10:$L$409,9,FALSE),11,1))","v":""},{"$f":"IF($R40=\"\",\"\",MID(VLOOKUP($R40,客戶資料及選擇列印!$D$10:$L$409,9,FALSE),12,1))","v":""},{"$f":"IF($R40=\"\",\"\",MID(VLOOKUP($R40,客戶資料及選擇列印!$D$10:$L$409,9,FALSE),13,1))","v":""},{"$f":"IF($R40=\"\",\"\",MID(VLOOKUP($R40,客戶資料及選擇列印!$D$10:$L$409,9,FALSE),14,1))","v":""},{"$f":"IF(運算!C12=\"\",\"\",運算!C12)","v":""},null,null,null,null,null,null,null,null,null,null,{"$f":"IF(P41=\"\",\"\",IF(P41<=2000000,30,30+ROUNDUP(((P41-2000000)/1000000),0)*10))","v":""}]
[]
[]
[]
[{"$f":"\"＊本頁合計：\"&COUNTIF(運算!A6:A12,\"<9999\")&\"筆\"","v":"＊本頁合計：0筆"},null,null,null,null,null,null,null,"＊匯款： ",null,null,null,null,null,{"$f":"SUM(運算!C6:C12)","v":10},null,null,null,null,null,null,null,"＊匯費：",null,null,null,null,{"$f":"SUM(AA11,AA16,AA21,AA26,AA31,AA36,AA41)","v":30}]
["＊總計：           筆＊匯款：                       ＊匯費："]
["總計：             筆  匯款：                         匯費："]
["交易代號：申請批號：5848       匯出交易：5819       列印總數：5847       放行交易：5803"]
["匯款人請勾選：",null,null,null,null,null,"本匯款係經由電腦匯出，如遇電腦故障或連線中斷或不可"]
[null,null,null,null,null,null,"抗力因素致匯款無法送出時，匯款人同意貴局：",null,null,null,null,null,null,null,null,null,null,null,null,null,null,null,null,null,null,null,null,null,null,null,null,null,null,null,null,"授權主管章:"]
[null,null,null,null,null,null,"□停止匯款，電話通知本人來局辦理。"]
[null,null,null,null,null,null,"□待滯留原因消除後之當日或次日匯款。",null,null,null,null,null,null,null,null,null,null,null,null,null,null,null,null,null,null,null,null,null,null,null,null,null,null,null,null,"放行主管章:"]
["＊印證「5819」後影印1份加蓋「與正本相符」戳記、經辦章及主管章交客戶收執。"]
["97.08.網路版 A4(210×297mm)郵局檔案保管5年",null,null,null,null,null,null,null,null,null,null,null,null,null,null,null,null,null,null,null,null,null,null,null,null,null,null,null,"儲匯壽險專用章"]